BEGIN:VCALENDAR
VERSION:2.0
PRODID:-//ÉRIQA - ECPv6.15.17//NONSGML v1.0//EN
CALSCALE:GREGORIAN
METHOD:PUBLISH
X-WR-CALNAME:ÉRIQA
X-ORIGINAL-URL:https://eriqa.org
X-WR-CALDESC:Événements pour ÉRIQA
REFRESH-INTERVAL;VALUE=DURATION:PT1H
X-Robots-Tag:noindex
X-PUBLISHED-TTL:PT1H
BEGIN:VTIMEZONE
TZID:America/New_York
BEGIN:DAYLIGHT
TZOFFSETFROM:-0500
TZOFFSETTO:-0400
TZNAME:EDT
DTSTART:20230312T070000
END:DAYLIGHT
BEGIN:STANDARD
TZOFFSETFROM:-0400
TZOFFSETTO:-0500
TZNAME:EST
DTSTART:20231105T060000
END:STANDARD
BEGIN:DAYLIGHT
TZOFFSETFROM:-0500
TZOFFSETTO:-0400
TZNAME:EDT
DTSTART:20240310T070000
END:DAYLIGHT
BEGIN:STANDARD
TZOFFSETFROM:-0400
TZOFFSETTO:-0500
TZNAME:EST
DTSTART:20241103T060000
END:STANDARD
BEGIN:DAYLIGHT
TZOFFSETFROM:-0500
TZOFFSETTO:-0400
TZNAME:EDT
DTSTART:20250309T070000
END:DAYLIGHT
BEGIN:STANDARD
TZOFFSETFROM:-0400
TZOFFSETTO:-0500
TZNAME:EST
DTSTART:20251102T060000
END:STANDARD
END:VTIMEZONE
BEGIN:VEVENT
DTSTART;TZID=America/New_York:20240125T160000
DTEND;TZID=America/New_York:20240125T180000
DTSTAMP:20260424T132254
CREATED:20240117T145806Z
LAST-MODIFIED:20240117T145806Z
UID:5542-1706198400-1706205600@eriqa.org
SUMMARY:Wrecking Migrants' Lives and Lifetime
DESCRIPTION:Le CRIDAQ\, en collaboration avec l’Université Concordia\, organise le 25 janvier prochain une conférence de Martina Tazzioli sur le thème de “Wrecking Migrants’ Lives and Lifetime: The Production and the Political Economy of Injured Subjectivities“\, avec pour point focal les contextes grec et italien. (Présentation en anglais; période de questions bilingue.) La conférence se tiendra à l’Université Concordia\, dans le local H-1220. \nL’événement est gratuit. Pour vous inscrire\, voyez le site web du CRIDAQ.
URL:https://eriqa.org/evenement/wrecking-migrants-lives-and-lifetime/
LOCATION:Hall Building (Université Concordia)\, salle H-1220\, 1455 Boul. de Maisonneuve O.\, Montréal\, QC\, H3G 1M8\, Canada
ATTACH;FMTTYPE=image/png:https://eriqa.org/wp-content/uploads/2024/01/11-X-17-Tazzioli-VFF-SANS-LOGO.png
END:VEVENT
END:VCALENDAR