BEGIN:VCALENDAR
VERSION:2.0
PRODID:-//ÉRIQA - ECPv6.15.17//NONSGML v1.0//EN
CALSCALE:GREGORIAN
METHOD:PUBLISH
X-WR-CALNAME:ÉRIQA
X-ORIGINAL-URL:https://eriqa.org
X-WR-CALDESC:Événements pour ÉRIQA
REFRESH-INTERVAL;VALUE=DURATION:PT1H
X-Robots-Tag:noindex
X-PUBLISHED-TTL:PT1H
BEGIN:VTIMEZONE
TZID:America/New_York
BEGIN:DAYLIGHT
TZOFFSETFROM:-0500
TZOFFSETTO:-0400
TZNAME:EDT
DTSTART:20230312T070000
END:DAYLIGHT
BEGIN:STANDARD
TZOFFSETFROM:-0400
TZOFFSETTO:-0500
TZNAME:EST
DTSTART:20231105T060000
END:STANDARD
BEGIN:DAYLIGHT
TZOFFSETFROM:-0500
TZOFFSETTO:-0400
TZNAME:EDT
DTSTART:20240310T070000
END:DAYLIGHT
BEGIN:STANDARD
TZOFFSETFROM:-0400
TZOFFSETTO:-0500
TZNAME:EST
DTSTART:20241103T060000
END:STANDARD
BEGIN:DAYLIGHT
TZOFFSETFROM:-0500
TZOFFSETTO:-0400
TZNAME:EDT
DTSTART:20250309T070000
END:DAYLIGHT
BEGIN:STANDARD
TZOFFSETFROM:-0400
TZOFFSETTO:-0500
TZNAME:EST
DTSTART:20251102T060000
END:STANDARD
END:VTIMEZONE
BEGIN:VEVENT
DTSTART;TZID=America/New_York:20241107T160000
DTEND;TZID=America/New_York:20241107T180000
DTSTAMP:20260423T054621
CREATED:20241012T125703Z
LAST-MODIFIED:20241012T130707Z
UID:5882-1730995200-1731002400@eriqa.org
SUMMARY:Wrecking Migrants Lives and Lifetime. The Production and the Political Economy of Injured Subjectivities
DESCRIPTION:Le 7 novembre 2024\, l’antenne CRIDAQ-Concordia accueille Martina Tazzioli\, professeure adjointe à l’Université de Bologne dont les recherches se situent au carrefour de la géographie politique\, des études critiques sur les migrations et les frontières et de la philosophie politique. \nOrganisée par Chedly Belkhodja et commentée par Luna Vives\, tous deux membres ÉRIQA\, la conférence portera sur la production et l’économie politique des subjectivités blessées chez les migrants.  \nLes demandeurs d’asile sont ciblés par de multiples processus extractifs : ils font l’objet d’une datafication\, d’inscriptions bureaucratiques et sont interpellés par des acteurs humanitaires et étatiques qui leur demandent de raconter leur histoire et la logistique de leur voyage. Les chercheurs ont documenté la manière dont de la valeur est produite à partir de ces processus extractifs ancrés dans les économies carcérales (Coddington et al. 2020 ; Martin\, Tazzioli\, 2023 ; Morris\, 2019). Cependant\, en se concentrant uniquement sur l’extractivisme\, la façon dont l’économie politique du campement des réfugiés génère des subjectivités blessées est partiellement mise de côté. En se concentrant sur les contextes grec et italien\, cette présentation attire l’attention sur la façon dont le fait de gouverner les réfugiés a été transformé en une destruction de leurs vies\, en les privant d’eau\, de vêtements\, de nourriture comestible et d’assistance en espèces. Comment conceptualiser le retrait actif de l’aide humanitaire\, du point de vue de l’économie politique de la gouvernementalité des réfugiés ? \nCette activité est conjointement organisée par le Centre de recherche interdisciplinaire sur la diversité et la démocratie · CRIDAQ-Antenne Concordia\, la Chaire de recherche du Canada sur la gouvernance sécuritaire des crops\, la sécurité et les frontières · GSCMF et l’Équipe de recherche sur l’immigration au Québec et ailleurs · ÉRIQA. \nPour vous inscrire et avoir plus de détails sur l’événement\, rendez-vous sur la page web du CRIDAQ.
URL:https://eriqa.org/evenement/wrecking-migrants-lives-and-lifetime-the-production-and-the-political-economy-of-injured-subjectivities/
LOCATION:Hall Building (Université Concordia)\, salle H-1220\, 1455 Boul. de Maisonneuve O.\, Montréal\, QC\, H3G 1M8\, Canada
ATTACH;FMTTYPE=image/png:https://eriqa.org/wp-content/uploads/2024/10/11-X-17-Tazzioli-VF.png
END:VEVENT
END:VCALENDAR