BEGIN:VCALENDAR
VERSION:2.0
PRODID:-//ÉRIQA - ECPv6.15.17//NONSGML v1.0//EN
CALSCALE:GREGORIAN
METHOD:PUBLISH
X-WR-CALNAME:ÉRIQA
X-ORIGINAL-URL:https://eriqa.org
X-WR-CALDESC:Événements pour ÉRIQA
REFRESH-INTERVAL;VALUE=DURATION:PT1H
X-Robots-Tag:noindex
X-PUBLISHED-TTL:PT1H
BEGIN:VTIMEZONE
TZID:America/New_York
BEGIN:DAYLIGHT
TZOFFSETFROM:-0500
TZOFFSETTO:-0400
TZNAME:EDT
DTSTART:20190310T070000
END:DAYLIGHT
BEGIN:STANDARD
TZOFFSETFROM:-0400
TZOFFSETTO:-0500
TZNAME:EST
DTSTART:20191103T060000
END:STANDARD
BEGIN:DAYLIGHT
TZOFFSETFROM:-0500
TZOFFSETTO:-0400
TZNAME:EDT
DTSTART:20200308T070000
END:DAYLIGHT
BEGIN:STANDARD
TZOFFSETFROM:-0400
TZOFFSETTO:-0500
TZNAME:EST
DTSTART:20201101T060000
END:STANDARD
BEGIN:DAYLIGHT
TZOFFSETFROM:-0500
TZOFFSETTO:-0400
TZNAME:EDT
DTSTART:20210314T070000
END:DAYLIGHT
BEGIN:STANDARD
TZOFFSETFROM:-0400
TZOFFSETTO:-0500
TZNAME:EST
DTSTART:20211107T060000
END:STANDARD
END:VTIMEZONE
BEGIN:VEVENT
DTSTART;TZID=America/New_York:20201008T120000
DTEND;TZID=America/New_York:20201008T130000
DTSTAMP:20260425T071645
CREATED:20230329T203827Z
LAST-MODIFIED:20230329T203827Z
UID:5057-1602158400-1602162000@eriqa.org
SUMMARY:Webinaire : The Double Bind of Refugees in Lebanon
DESCRIPTION:The McGill Refugee Research Group (MRRG) is hosting three events this autumn focused on contemporary refugee issues. \nEvent 1: The Double Bind of Refugees in Lebanon \nLebanon’s contested and often-turbulent political scene received international attention following the explosion in Beirut on August 4\, 2020. Join our online panel discussion to talk about political developments in Lebanon over the last year\, the recent explosion in Beirut\, and the implications for the Syrian and Palestinian refugees in Lebanon. \nDate: Thursday 8 October 2020 \nTime: 12PM – 1.00PM\, EDT \nWith presentations by: \n\nCharlotte Gaudreau (PhD student\, Department of Sociology\, McGill University)\nCynthia Kraichati (PhD student\, Department of Anthropology\, McGill University)\nAmro Sadeldeen (PhD\, Independent researcher and political sociologist)\n\nhttps://www.facebook.com/events/803745127041298/
URL:https://eriqa.org/evenement/webinaire-the-double-bind-of-refugees-in-lebanon/
LOCATION:En ligne (inscription obligatoire)
ATTACH;FMTTYPE=image/jpeg:https://eriqa.org/wp-content/uploads/2020/10/image001.jpg
END:VEVENT
END:VCALENDAR