BEGIN:VCALENDAR
VERSION:2.0
PRODID:-//ÉRIQA - ECPv6.15.17//NONSGML v1.0//EN
CALSCALE:GREGORIAN
METHOD:PUBLISH
X-WR-CALNAME:ÉRIQA
X-ORIGINAL-URL:https://eriqa.org
X-WR-CALDESC:Événements pour ÉRIQA
REFRESH-INTERVAL;VALUE=DURATION:PT1H
X-Robots-Tag:noindex
X-PUBLISHED-TTL:PT1H
BEGIN:VTIMEZONE
TZID:America/New_York
BEGIN:DAYLIGHT
TZOFFSETFROM:-0500
TZOFFSETTO:-0400
TZNAME:EDT
DTSTART:20190310T070000
END:DAYLIGHT
BEGIN:STANDARD
TZOFFSETFROM:-0400
TZOFFSETTO:-0500
TZNAME:EST
DTSTART:20191103T060000
END:STANDARD
BEGIN:DAYLIGHT
TZOFFSETFROM:-0500
TZOFFSETTO:-0400
TZNAME:EDT
DTSTART:20200308T070000
END:DAYLIGHT
BEGIN:STANDARD
TZOFFSETFROM:-0400
TZOFFSETTO:-0500
TZNAME:EST
DTSTART:20201101T060000
END:STANDARD
BEGIN:DAYLIGHT
TZOFFSETFROM:-0500
TZOFFSETTO:-0400
TZNAME:EDT
DTSTART:20210314T070000
END:DAYLIGHT
BEGIN:STANDARD
TZOFFSETFROM:-0400
TZOFFSETTO:-0500
TZNAME:EST
DTSTART:20211107T060000
END:STANDARD
END:VTIMEZONE
BEGIN:VEVENT
DTSTART;TZID=America/New_York:20200513T120000
DTEND;TZID=America/New_York:20200513T130000
DTSTAMP:20260425T072930
CREATED:20230329T205326Z
LAST-MODIFIED:20230329T205326Z
UID:5071-1589371200-1589374800@eriqa.org
SUMMARY:Webinaire : Pandemic Borders: COVID and Solidarity
DESCRIPTION:You are invited to a webinar series on migration and the COVID-19 pandemic\, hosted by Ryerson University’s CERC in Migration and Integration program! The conference will feature ERIQA’s own Catherine Xhardez alongside a panel of experts in the field of migration studies. \nVous êtes invités à une série webinaire explorant la migration dans le contexte de la pandémie COVID-19\, présentée par le CERC in Migration and Integration de l’Université Ryerson! La conférence mettra en vedette Catherine Xhardez de l’ERIQA\, ainsi qu’un panel d’experts dans le domaine des études sur les migrations. \nAbout this Event\nOn Wednesday\, May 13th from 12:00-1:00 pm\, join Ryerson’s CERC in Migration and Integration program for a webinar to investigate the extraordinary challenges that migrant populations are facing as a result of the COVID-19 pandemic. \nInternational experts\, and contributors to the blog Pandemic Borders\, will share their perspectives on the precarious conditions facing vulnerable residents and workers at and within national borders. \nIn our second webinar\, COVID and Solidarity\, the panel of experts explore the positive effects of the pandemic\, asking: “How might border closures make us rethink membership\, belonging\, and solidarity?” and “Can the pandemic give rise to more rather than less transnational solidarity?” \nThis webinar features short talks\, followed by audience Q&A. \nMeet the speakers:\nDr. Caterina Francesca Guidi\, of the University of Siena \nMs. Margaret Godoy\, of Ryerson University \nDr. Harald Bauder\, Ryerson University \nDr. Catherine Xhardez\, of Concordia University \nDiscussion will be moderated by Dr. Anna Triandafyllidou\, the Canada Excellence Research Chair in Migration and Integration at Ryerson University. \nRegister for free now!\nRegister to the webinar by clicking here. You will be sent an access link to the webinar\, which you can view through a laptop\, tablet\, or mobile phone. \nPour vous enregistrer au webinaire\, cliquez ici. Un lien d’accès vous sera envoyé; vous pouvez vous connecter au webinaire à travers un laptop\, une tablette\, ou un cellulaire. Le webinaire sera présenté en anglais.
URL:https://eriqa.org/evenement/webinaire-pandemic-borders-covid-and-solidarity/
LOCATION:En ligne (inscription obligatoire)
ATTACH;FMTTYPE=image/jpeg:https://eriqa.org/wp-content/uploads/2020/05/unnamed.jpg
END:VEVENT
END:VCALENDAR