BEGIN:VCALENDAR
VERSION:2.0
PRODID:-//ÉRIQA - ECPv6.15.17//NONSGML v1.0//EN
CALSCALE:GREGORIAN
METHOD:PUBLISH
X-WR-CALNAME:ÉRIQA
X-ORIGINAL-URL:https://eriqa.org
X-WR-CALDESC:Événements pour ÉRIQA
REFRESH-INTERVAL;VALUE=DURATION:PT1H
X-Robots-Tag:noindex
X-PUBLISHED-TTL:PT1H
BEGIN:VTIMEZONE
TZID:America/New_York
BEGIN:DAYLIGHT
TZOFFSETFROM:-0500
TZOFFSETTO:-0400
TZNAME:EDT
DTSTART:20190310T070000
END:DAYLIGHT
BEGIN:STANDARD
TZOFFSETFROM:-0400
TZOFFSETTO:-0500
TZNAME:EST
DTSTART:20191103T060000
END:STANDARD
BEGIN:DAYLIGHT
TZOFFSETFROM:-0500
TZOFFSETTO:-0400
TZNAME:EDT
DTSTART:20200308T070000
END:DAYLIGHT
BEGIN:STANDARD
TZOFFSETFROM:-0400
TZOFFSETTO:-0500
TZNAME:EST
DTSTART:20201101T060000
END:STANDARD
BEGIN:DAYLIGHT
TZOFFSETFROM:-0500
TZOFFSETTO:-0400
TZNAME:EDT
DTSTART:20210314T070000
END:DAYLIGHT
BEGIN:STANDARD
TZOFFSETFROM:-0400
TZOFFSETTO:-0500
TZNAME:EST
DTSTART:20211107T060000
END:STANDARD
END:VTIMEZONE
BEGIN:VEVENT
DTSTART;TZID=America/New_York:20201112T123000
DTEND;TZID=America/New_York:20201112T140000
DTSTAMP:20260425T071619
CREATED:20230329T203130Z
LAST-MODIFIED:20230329T203130Z
UID:5053-1605184200-1605189600@eriqa.org
SUMMARY:Webinaire : L’immigration face au racisme systémique à Montréal
DESCRIPTION:Midi de l’immigration\, 12 novembre 2020 (12 h 30 – 14 h HAE) avec Bochra MANAÏ\, chercheuse et coordinatrice générale à Paroles d’ExcluES et Leslie KAPO\, chercheur en études urbaines à l’INRS-UCS. \nThème de la conférence : Les conférenciers.cières invités.ées aborderont les enjeux de l’immigration et du racisme systémique à Montréal. \nInscription obligatoire. Vous pouvez vous inscrire en communiquant avec les Midis de l’immigration par messagerie Facebook ou par courriel au midis.immigration@ucs.inrs.ca
URL:https://eriqa.org/evenement/webinaire-limmigration-face-au-racisme-systemique-a-montreal/
LOCATION:En ligne (inscription obligatoire)
ATTACH;FMTTYPE=image/jpeg:https://eriqa.org/wp-content/uploads/2020/11/124080540_849410575799149_6747262146135755854_o.jpg
END:VEVENT
END:VCALENDAR