BEGIN:VCALENDAR
VERSION:2.0
PRODID:-//ÉRIQA - ECPv6.15.17//NONSGML v1.0//EN
CALSCALE:GREGORIAN
METHOD:PUBLISH
X-WR-CALNAME:ÉRIQA
X-ORIGINAL-URL:https://eriqa.org
X-WR-CALDESC:Événements pour ÉRIQA
REFRESH-INTERVAL;VALUE=DURATION:PT1H
X-Robots-Tag:noindex
X-PUBLISHED-TTL:PT1H
BEGIN:VTIMEZONE
TZID:America/New_York
BEGIN:DAYLIGHT
TZOFFSETFROM:-0500
TZOFFSETTO:-0400
TZNAME:EDT
DTSTART:20190310T070000
END:DAYLIGHT
BEGIN:STANDARD
TZOFFSETFROM:-0400
TZOFFSETTO:-0500
TZNAME:EST
DTSTART:20191103T060000
END:STANDARD
BEGIN:DAYLIGHT
TZOFFSETFROM:-0500
TZOFFSETTO:-0400
TZNAME:EDT
DTSTART:20200308T070000
END:DAYLIGHT
BEGIN:STANDARD
TZOFFSETFROM:-0400
TZOFFSETTO:-0500
TZNAME:EST
DTSTART:20201101T060000
END:STANDARD
BEGIN:DAYLIGHT
TZOFFSETFROM:-0500
TZOFFSETTO:-0400
TZNAME:EDT
DTSTART:20210314T070000
END:DAYLIGHT
BEGIN:STANDARD
TZOFFSETFROM:-0400
TZOFFSETTO:-0500
TZNAME:EST
DTSTART:20211107T060000
END:STANDARD
END:VTIMEZONE
BEGIN:VEVENT
DTSTART;TZID=America/New_York:20200529T100000
DTEND;TZID=America/New_York:20200529T113000
DTSTAMP:20260425T073553
CREATED:20230329T204908Z
LAST-MODIFIED:20230329T204908Z
UID:5067-1590746400-1590751800@eriqa.org
SUMMARY:Webinaire : Les demandeurs d’asile au temps de la COVID-19 : le point sur la situation au Canada
DESCRIPTION:Quels sont les impacts actuels des réponses gouvernementales à la COVID-19 sur l’accueil des demandeurs d’asile au Canada ? \nDans ce webinaire\, Denise Otis — cheffe de bureau à Montréal pour le Haut-Commissariat des Nations Unies pour les réfugiés (HCR) au Canada — présentera l’état des lieux en la matière. \nEn plus d’effectuer un retour sur le mandat du HCR et les principes clés du régime international de protection des réfugiés\, elle présentera également les enjeux soulevés par la fermeture temporaire des frontières au temps de la COVID-19. \nÉvénement gratuit (vendredi 29 mai\, 10h-11h30 – heure de Montréal\, soit 16h-17h30 heure de Paris/Bruxelles)\, inscription obligatoire \nPour en savoir plus sur le Haut-Commissariat des Nations Unies pour les réfugiés (HCR) au Canada \, visitez: https://www.unhcr.ca/fr/
URL:https://eriqa.org/evenement/webinaire-les-demandeurs-dasile-au-temps-de-la-covid-19-le-point-sur-la-situation-au-canada/
LOCATION:En ligne (inscription obligatoire)
ATTACH;FMTTYPE=image/png:https://eriqa.org/wp-content/uploads/2020/05/Les-demandeurs-d’asile-au-temps-de-la-COVID-19-_-le-point-sur-la-situation-au-Canada-4.png
END:VEVENT
END:VCALENDAR