BEGIN:VCALENDAR
VERSION:2.0
PRODID:-//ÉRIQA - ECPv6.15.17//NONSGML v1.0//EN
CALSCALE:GREGORIAN
METHOD:PUBLISH
X-WR-CALNAME:ÉRIQA
X-ORIGINAL-URL:https://eriqa.org
X-WR-CALDESC:Événements pour ÉRIQA
REFRESH-INTERVAL;VALUE=DURATION:PT1H
X-Robots-Tag:noindex
X-PUBLISHED-TTL:PT1H
BEGIN:VTIMEZONE
TZID:America/New_York
BEGIN:DAYLIGHT
TZOFFSETFROM:-0500
TZOFFSETTO:-0400
TZNAME:EDT
DTSTART:20190310T070000
END:DAYLIGHT
BEGIN:STANDARD
TZOFFSETFROM:-0400
TZOFFSETTO:-0500
TZNAME:EST
DTSTART:20191103T060000
END:STANDARD
BEGIN:DAYLIGHT
TZOFFSETFROM:-0500
TZOFFSETTO:-0400
TZNAME:EDT
DTSTART:20200308T070000
END:DAYLIGHT
BEGIN:STANDARD
TZOFFSETFROM:-0400
TZOFFSETTO:-0500
TZNAME:EST
DTSTART:20201101T060000
END:STANDARD
BEGIN:DAYLIGHT
TZOFFSETFROM:-0500
TZOFFSETTO:-0400
TZNAME:EDT
DTSTART:20210314T070000
END:DAYLIGHT
BEGIN:STANDARD
TZOFFSETFROM:-0400
TZOFFSETTO:-0500
TZNAME:EST
DTSTART:20211107T060000
END:STANDARD
END:VTIMEZONE
BEGIN:VEVENT
DTSTART;TZID=America/New_York:20200521T120000
DTEND;TZID=America/New_York:20200521T133000
DTSTAMP:20260425T072007
CREATED:20230329T205051Z
LAST-MODIFIED:20230329T205051Z
UID:5069-1590062400-1590067800@eriqa.org
SUMMARY:Webinaire : Immigration et inégalités en santé au temps de la COVID-19
DESCRIPTION:21 mai 2020\, 12h-13h30 : Présenté en collaboration avec Médecins du Monde Canada\, ce webinaire fait le point sur la situation des personnes dépourvues de couverture médicale en raison de leur statut d’immigration. \nQuels sont les parcours migratoires qui mènent à l’absence d’une couverture médicale au Québec et au Canada ? Quels sont les risques et les situations auxquels font face ces personnes\, en particulier dans le contexte de la pandémie COVID-19 ? Quelles interventions médicales\, sociales et politiques ont été mises en place au Québec pour répondre à leurs besoins dans le contexte actuel de la pandémie ? \nRachel Laberge Mallette (intervenante sociale et chargée de projet) et Chloé Cébron (conseillère au plaidoyer) à Médecins du Monde Canada feront un tour d’horizon de ces questions tout en mettant en lumière l’importance de la mobilisation pour un régime d’assurance maladie pour tous au Canada. \nINSCRIPTION OBLIGATOIRE : Merci de vous inscrire en ligne pour recevoir toutes les informations pour rejoindre le webinaire. \nCe webinaire est produit par l’Équipe de recherche sur l’Immigration au Québec et ailleurs (www.eriqa.org) et Médecins du Monde Canada (https://www.medecinsdumonde.ca/ )
URL:https://eriqa.org/evenement/webinaire-immigration-et-inegalites-en-sante-au-temps-de-la-covid-19/
LOCATION:En ligne (inscription obligatoire)
ATTACH;FMTTYPE=image/png:https://eriqa.org/wp-content/uploads/2020/05/MDM_FB-e1589352564804.png
END:VEVENT
END:VCALENDAR