BEGIN:VCALENDAR
VERSION:2.0
PRODID:-//ÉRIQA - ECPv6.15.17//NONSGML v1.0//EN
CALSCALE:GREGORIAN
METHOD:PUBLISH
X-WR-CALNAME:ÉRIQA
X-ORIGINAL-URL:https://eriqa.org
X-WR-CALDESC:Événements pour ÉRIQA
REFRESH-INTERVAL;VALUE=DURATION:PT1H
X-Robots-Tag:noindex
X-PUBLISHED-TTL:PT1H
BEGIN:VTIMEZONE
TZID:America/New_York
BEGIN:DAYLIGHT
TZOFFSETFROM:-0500
TZOFFSETTO:-0400
TZNAME:EDT
DTSTART:20230312T070000
END:DAYLIGHT
BEGIN:STANDARD
TZOFFSETFROM:-0400
TZOFFSETTO:-0500
TZNAME:EST
DTSTART:20231105T060000
END:STANDARD
BEGIN:DAYLIGHT
TZOFFSETFROM:-0500
TZOFFSETTO:-0400
TZNAME:EDT
DTSTART:20240310T070000
END:DAYLIGHT
BEGIN:STANDARD
TZOFFSETFROM:-0400
TZOFFSETTO:-0500
TZNAME:EST
DTSTART:20241103T060000
END:STANDARD
BEGIN:DAYLIGHT
TZOFFSETFROM:-0500
TZOFFSETTO:-0400
TZNAME:EDT
DTSTART:20250309T070000
END:DAYLIGHT
BEGIN:STANDARD
TZOFFSETFROM:-0400
TZOFFSETTO:-0500
TZNAME:EST
DTSTART:20251102T060000
END:STANDARD
END:VTIMEZONE
BEGIN:VEVENT
DTSTART;TZID=America/New_York:20241114T113000
DTEND;TZID=America/New_York:20241114T123000
DTSTAMP:20260423T012328
CREATED:20241004T204803Z
LAST-MODIFIED:20250321T215227Z
UID:5846-1731583800-1731587400@eriqa.org
SUMMARY:Webinaire ÉRIQA - Logement et personnes migrantes précaires au Québec et au Canada : un état des lieux
DESCRIPTION:Quels sont les impacts de la crise du logement sur les migrants précaires et les personnes demandeuses d’asile? Quels sont les droits de ces personnes quant au logement? Quelles sont les responsabilités des divers paliers de gouvernement? Quelles solutions sont mises en place par le secteur communautaire? \nEn collaboration avec Médecins du Monde Canada\, l’ÉRIQA organise un webinaire afin d’offrir des réponses à ces questions. Animé par Karine Côté-Boucher (Université de Montréal)\, cet événement réunira une chercheuse et deux intervenantes de terrain de Montréal. Nous aurons le plaisir d’entendre Christina Clark-Kazak (Professeure titulaire à l’Université d’Ottawa)\, Eva Gracia-Turgeon (directrice de Foyer du monde) ainsi que Juliette Grosse (coordonnatrice du travail de proximité\, Médecins du monde Canada). \nCe webinaire permettra également de lancer « Itinérance\, logement et migration précaire : nouveaux défis »\, un dossier ÉRIQA qui dresse un état des lieux et propose des recommandations concrètes afin d’améliorer l’accès au logement pour tous et toutes. Les rapports en anglais et en français seront publiés sur notre site web le 14 novembre et envoyés aux participants du webinaire. \nLes inscriptions sont ouvertes sur le lien ZOOM juste ici !
URL:https://eriqa.org/evenement/webinaire-eriqa-logement/
LOCATION:En ligne (inscription obligatoire)
ATTACH;FMTTYPE=image/png:https://eriqa.org/wp-content/uploads/2024/10/Copie-de-Webinaire-14-novembre-1-e1729002406603.png
END:VEVENT
END:VCALENDAR