BEGIN:VCALENDAR
VERSION:2.0
PRODID:-//ÉRIQA - ECPv6.15.17//NONSGML v1.0//EN
CALSCALE:GREGORIAN
METHOD:PUBLISH
X-WR-CALNAME:ÉRIQA
X-ORIGINAL-URL:https://eriqa.org
X-WR-CALDESC:Événements pour ÉRIQA
REFRESH-INTERVAL;VALUE=DURATION:PT1H
X-Robots-Tag:noindex
X-PUBLISHED-TTL:PT1H
BEGIN:VTIMEZONE
TZID:America/New_York
BEGIN:DAYLIGHT
TZOFFSETFROM:-0500
TZOFFSETTO:-0400
TZNAME:EDT
DTSTART:20230312T070000
END:DAYLIGHT
BEGIN:STANDARD
TZOFFSETFROM:-0400
TZOFFSETTO:-0500
TZNAME:EST
DTSTART:20231105T060000
END:STANDARD
BEGIN:DAYLIGHT
TZOFFSETFROM:-0500
TZOFFSETTO:-0400
TZNAME:EDT
DTSTART:20240310T070000
END:DAYLIGHT
BEGIN:STANDARD
TZOFFSETFROM:-0400
TZOFFSETTO:-0500
TZNAME:EST
DTSTART:20241103T060000
END:STANDARD
BEGIN:DAYLIGHT
TZOFFSETFROM:-0500
TZOFFSETTO:-0400
TZNAME:EDT
DTSTART:20250309T070000
END:DAYLIGHT
BEGIN:STANDARD
TZOFFSETFROM:-0400
TZOFFSETTO:-0500
TZNAME:EST
DTSTART:20251102T060000
END:STANDARD
END:VTIMEZONE
BEGIN:VEVENT
DTSTART;TZID=America/New_York:20240404T113000
DTEND;TZID=America/New_York:20240404T123000
DTSTAMP:20260424T042015
CREATED:20240202T235938Z
LAST-MODIFIED:20240311T144221Z
UID:5578-1712230200-1712233800@eriqa.org
SUMMARY:Webinaire : « Alliance communautaire pour la santé des personnes LGBTQI+ migrantes et racisées au Québec »
DESCRIPTION:Les personnes LGBTQI+ migrantes font face à plusieurs barrières structurelles d’accès aux soins liées à leur statut migratoire (xénophobie)\, à leur race (racisme)\, à leur orientation sexuelle (homophobie) et/ou à leur identité de genre (transphobie). Partant de l’expérience de la Clinique Mauve\, un laboratoire social et de recherche se focalisant sur les enjeux en lien avec les sexualités\, les genres et les migrations\, il s’agit d’exposer quelques réflexions sur la manière dont les alliances de santé communautaire peuvent lever certaines de ces barrières structurelles intersectionnelles. \nPour vous inscrire à l’événement\, veuillez cliquer ici.  \nLes panélistes: \nAhmed Hamila est professeur adjoint au département de sociologie de l’Université de Montréal. Spécialiste des migrations internationales et des enjeux de genres/sexualités ses travaux actuels portent sur les politiques d’asile liées à l’orientation sexuelle et à l’identité de genre\, sur l’accès aux soins des populations migrantes vulnérables et sur les solidarités transnationales. Il est également co-directeur de la Clinique Mauve\, un laboratoire social situé à l’Université de Montréal se focalisant sur les enjeux entourant les migrations\, les genres et les sexualités. \nMarianne Chbat est sociologue\, chercheuse et militante. Elle agit actuellement comme la coordonnatrice principale de la recherche à la Clinique Mauve (Université de Montréal)\, un laboratoire social et de recherche sur la santé des personnes LGBTQ+ migrantes et racisées à Montréal.  Ses recherches des quinze dernières années sont variées et lient les questions identitaires aux enjeux des genres\, des sexualités\, des familles\, du racisme et des migrations dans une perspective intersectionnelle. Elle s’intéresse également aux façons éthiques et non-extractivistes d’intégrer les savoirs expérientiels et militants au sein des recherches menées auprès des personnes minorisées tels que les personnes LGBTQ+ racisées et migrantes. \nÀ l’animation : Adèle Garnier professeure agrégée au département de géographie de l’Université Laval.
URL:https://eriqa.org/evenement/webinaire-alliance-communautaire-pour-la-sante-des-personnes-lgbtqi-migrantes-et-racisees-au-quebec/
ATTACH;FMTTYPE=image/png:https://eriqa.org/wp-content/uploads/2024/02/Copy-of-Table-ronde-migration-francophone.png
END:VEVENT
END:VCALENDAR