BEGIN:VCALENDAR
VERSION:2.0
PRODID:-//ÉRIQA - ECPv6.15.17//NONSGML v1.0//EN
CALSCALE:GREGORIAN
METHOD:PUBLISH
X-WR-CALNAME:ÉRIQA
X-ORIGINAL-URL:https://eriqa.org
X-WR-CALDESC:Événements pour ÉRIQA
REFRESH-INTERVAL;VALUE=DURATION:PT1H
X-Robots-Tag:noindex
X-PUBLISHED-TTL:PT1H
BEGIN:VTIMEZONE
TZID:America/New_York
BEGIN:DAYLIGHT
TZOFFSETFROM:-0500
TZOFFSETTO:-0400
TZNAME:EDT
DTSTART:20250309T070000
END:DAYLIGHT
BEGIN:STANDARD
TZOFFSETFROM:-0400
TZOFFSETTO:-0500
TZNAME:EST
DTSTART:20251102T060000
END:STANDARD
BEGIN:DAYLIGHT
TZOFFSETFROM:-0500
TZOFFSETTO:-0400
TZNAME:EDT
DTSTART:20260308T070000
END:DAYLIGHT
BEGIN:STANDARD
TZOFFSETFROM:-0400
TZOFFSETTO:-0500
TZNAME:EST
DTSTART:20261101T060000
END:STANDARD
BEGIN:DAYLIGHT
TZOFFSETFROM:-0500
TZOFFSETTO:-0400
TZNAME:EDT
DTSTART:20270314T070000
END:DAYLIGHT
BEGIN:STANDARD
TZOFFSETFROM:-0400
TZOFFSETTO:-0500
TZNAME:EST
DTSTART:20271107T060000
END:STANDARD
END:VTIMEZONE
BEGIN:VEVENT
DTSTART;TZID=America/New_York:20260414T120000
DTEND;TZID=America/New_York:20260414T130000
DTSTAMP:20260423T125512
CREATED:20260402T134429Z
LAST-MODIFIED:20260402T152225Z
UID:6967-1776168000-1776171600@eriqa.org
SUMMARY:Temporary Foreign Agricultural Workers & Heat Resilience: Exploring equitable co-designed tools
DESCRIPTION:Le Centre collaboratif pour le climat\, la santé et les soins durables vous convie à la première session du cycle « Impacts climatiques sur la santé et l’équité en matière de santé » du réseau ECHO Santé planétaire et soins durables. Cette session portera sur des outils de résilience face à la chaleur\, conçus conjointement et axés sur l’équité\, destinés aux travailleurs agricoles étrangers temporaires basés au Québec. Cet événement aura lieu le 14 avril 2026\, de 12h00 à 13h00 sur zoom. \nLa discussion sera animée par Laura Gautier\, membre de l’ÉRIQA\, professeure adjointe à l’École de santé publique de l’Université de Montréal et chercheuse régulière au Centre de recherche en santé publique et à l’Institut de recherche SHERPA à Montréal\, et Robinson Vásquez\, travailleur agricole au Québec. \nVeuillez noter que la discussion aura lieu en anglais. Retrouvez les informations et inscrivez-vous sur le site internet de l’évènement. \n  \nEnglish version \nThe Collaborative Centre for Climate\, Health\, and Sustainable Care is inviting you to the first session “Temporary Foreign Agricultural Workers & Heat Resilience: Exploring equitable co-designed tools” of the Planetary Health & Sustainable Care ECHO‘s Climate Impacts on Health & Health Equity cycle. This session will explore equity-centred\, co-designed heat resilience tools for temporary foreign agricultural workers based in Quebec.  This event will take place on April 14th 2026\, from 12:00 PM to 1:00 PM on zoom.  \nThe discussion will be led by Laura Gautier\, member of ÉRIQA\, assistant professor at the University of Montreal’s School of Public Health and a regular researcher at the Centre for Public Health Research and the SHERPA Research Institute in Montreal\, as well as Robinson Vásquez\, a agricultural worker in Quebec. \nThe discussion will be held in English. Registration and more information on the event website.
URL:https://eriqa.org/evenement/temporary-foreign-agricultural-workers-heat-resilience-exploring-equitable-co-designed-tools/
ATTACH;FMTTYPE=image/jpeg:https://eriqa.org/wp-content/uploads/2026/04/echo.jpg
END:VEVENT
END:VCALENDAR