BEGIN:VCALENDAR
VERSION:2.0
PRODID:-//ÉRIQA - ECPv6.15.17//NONSGML v1.0//EN
CALSCALE:GREGORIAN
METHOD:PUBLISH
X-WR-CALNAME:ÉRIQA
X-ORIGINAL-URL:https://eriqa.org
X-WR-CALDESC:Événements pour ÉRIQA
REFRESH-INTERVAL;VALUE=DURATION:PT1H
X-Robots-Tag:noindex
X-PUBLISHED-TTL:PT1H
BEGIN:VTIMEZONE
TZID:America/New_York
BEGIN:DAYLIGHT
TZOFFSETFROM:-0500
TZOFFSETTO:-0400
TZNAME:EDT
DTSTART:20250309T070000
END:DAYLIGHT
BEGIN:STANDARD
TZOFFSETFROM:-0400
TZOFFSETTO:-0500
TZNAME:EST
DTSTART:20251102T060000
END:STANDARD
BEGIN:DAYLIGHT
TZOFFSETFROM:-0500
TZOFFSETTO:-0400
TZNAME:EDT
DTSTART:20260308T070000
END:DAYLIGHT
BEGIN:STANDARD
TZOFFSETFROM:-0400
TZOFFSETTO:-0500
TZNAME:EST
DTSTART:20261101T060000
END:STANDARD
BEGIN:DAYLIGHT
TZOFFSETFROM:-0500
TZOFFSETTO:-0400
TZNAME:EDT
DTSTART:20270314T070000
END:DAYLIGHT
BEGIN:STANDARD
TZOFFSETFROM:-0400
TZOFFSETTO:-0500
TZNAME:EST
DTSTART:20271107T060000
END:STANDARD
END:VTIMEZONE
BEGIN:VEVENT
DTSTART;TZID=America/New_York:20260506T090000
DTEND;TZID=America/New_York:20260506T103000
DTSTAMP:20260423T100335
CREATED:20260403T141703Z
LAST-MODIFIED:20260406T234530Z
UID:6932-1778058000-1778063400@eriqa.org
SUMMARY:Congrès de la SQSP- Lancements croisés: recherches sur l’immigration au Québec et ailleurs 
DESCRIPTION:Dans le cadre du 63e congrès de la Société québecoise de science politique\, l’ÉRIQA et l’Initiative de recherche sur l’immigration (IRI) respectivement dirigées par les professeurs Catherine Xhardez (ÉRIQA\, UdeM) et Antoine Bilodeau (IRI\,ÉRIQA\, Concordia)\, coorganisent l’atelier La mobilité dans un Québec et un monde en mutation : gouvernance et dynamiques d’appartenance. Cet atelier débutera par l’activité Lancements croisés : recherches sur l’immigration au Québec et ailleurs\, lors duquel plusieurs numéros spéciaux sur l’immigration seront mis à l’honneur: \n\n\n\n\n\n\n\n\n\n« La politique et les politiques de l’immigration au Québec » sous la direction de C. Xhardez\, A. Garnier et M. Paquet\, Politique et Sociétés\, vol. 44\, no. 2\, 2025.\n« Fabrique\, usages et effets des catégories migratoires internationales » sous la direction d’A. Hamila et J. Dupont\, Lien social et Politiques\, volume 95 (à paraître).\n« Migration(s) au Québec » sous la direction de C. Xhardez et C. Belkhodja\, Possibles\, vol. 49\, numéro 1\, 2025.\n\n\n\nLa présentation des numéros sera suivie d’une table ronde sur “La et les politique(s) de l’immigration au Québec” avec un dialogue croisé autour du cas québécois. A partir des contributions réunies dans ces numéros spéciaux\, les membres de la table ronde discuteront du cas du Québec comme possible laboratoire de gouvernance migratoire et des points de convergence et de divergence avec d’autres contextes (sous-)nationaux. La discussion abordera également la place de la question migratoire dans les dynamiques politiques à venir\, notamment en vue des prochaines élections au Québec. La table ronde sera modérée avec des échanges entre les panélistes et la participation du public.  \n\n\nCet événement aura lieu le 6 mai 2026 de 9h00 à 10h30 au Campus MIL de l’Université de Montréal. \nInscription au Congrès  \nPour participer au congrès de la SQSP. il est nécessaire de s’inscrire en ligne avant le 26 avril 2026. Le formulaire d’inscription est disponible ici. Toutes les personnes participantes doivent obligatoirement s’inscrire. Veuillez noter qu’il faut également être affilié à la SQSP.Plus d’informations sur le site web de la SQSP.
URL:https://eriqa.org/evenement/sqsp-lancement-croise-immigration-qc/
LOCATION:Complexe des Sciences de l’Université de Montréal (Campus MIL)\, salle B-1007\, 1375 av. Thérèse-Lavoie-Roux\, Montréal\, H2V 0B3\, Canada
ATTACH;FMTTYPE=image/png:https://eriqa.org/wp-content/uploads/2026/04/affiches-SQSP-1.png
END:VEVENT
END:VCALENDAR