BEGIN:VCALENDAR
VERSION:2.0
PRODID:-//ÉRIQA - ECPv6.15.17//NONSGML v1.0//EN
CALSCALE:GREGORIAN
METHOD:PUBLISH
X-WR-CALNAME:ÉRIQA
X-ORIGINAL-URL:https://eriqa.org
X-WR-CALDESC:Événements pour ÉRIQA
REFRESH-INTERVAL;VALUE=DURATION:PT1H
X-Robots-Tag:noindex
X-PUBLISHED-TTL:PT1H
BEGIN:VTIMEZONE
TZID:America/New_York
BEGIN:DAYLIGHT
TZOFFSETFROM:-0500
TZOFFSETTO:-0400
TZNAME:EDT
DTSTART:20230312T070000
END:DAYLIGHT
BEGIN:STANDARD
TZOFFSETFROM:-0400
TZOFFSETTO:-0500
TZNAME:EST
DTSTART:20231105T060000
END:STANDARD
BEGIN:DAYLIGHT
TZOFFSETFROM:-0500
TZOFFSETTO:-0400
TZNAME:EDT
DTSTART:20240310T070000
END:DAYLIGHT
BEGIN:STANDARD
TZOFFSETFROM:-0400
TZOFFSETTO:-0500
TZNAME:EST
DTSTART:20241103T060000
END:STANDARD
BEGIN:DAYLIGHT
TZOFFSETFROM:-0500
TZOFFSETTO:-0400
TZNAME:EDT
DTSTART:20250309T070000
END:DAYLIGHT
BEGIN:STANDARD
TZOFFSETFROM:-0400
TZOFFSETTO:-0500
TZNAME:EST
DTSTART:20251102T060000
END:STANDARD
END:VTIMEZONE
BEGIN:VEVENT
DTSTART;TZID=America/New_York:20240923T123000
DTEND;TZID=America/New_York:20240923T133000
DTSTAMP:20260423T145957
CREATED:20240826T150341Z
LAST-MODIFIED:20250321T214235Z
UID:5735-1727094600-1727098200@eriqa.org
SUMMARY:Partir ou rester : comprendre les fondements institutionnels et idéologiques de l’immobilité climatique
DESCRIPTION:Le Cycle de conférences Migrations et citoyennetés présenté par l’ÉRIQA et le CPDS est de retour! Pour cette première conférence\, nous recevons Sarah Munoz\, PhD. \nCette conférence explore les dynamiques de l’immobilité climatique à travers une critique du concept de « trapped populations » et une étude du cas de la Louisiane (ÉU). Elle examine comment l’immobilité\, dans un contexte de grande vulnérabilité climatique\, est façonnée par des politiques publiques influencées par des intérêts pétroliers\, des idées climato-sceptiques et des pratiques maladaptives. Enfin\, la discussion abordera la notion de choix dans le déplacement\, en soulignant les multiples formes d’immobilité et leur institutionnalisation. \nSarah Munoz est docteure en science politique de l’Université de Montréal. Spécialisée en politique environnementale\, ses recherches explorent la construction de l’adaptation et les (im)mobilités liées aux changements climatiques. Sa thèse analyse l’impact des intérêts\, des idéologies et des politiques d’infrastructures sur l’adaptation des populations vulnérables en Louisiane (ÉU). Elle a également publié des travaux sur le concept de « réfugiés climatiques » et son utilisation dans les médias américains\, ainsi que sur les dimensions culturelles et identitaires de l’adaptation aux changements climatiques.
URL:https://eriqa.org/evenement/sarah-munoz/
LOCATION:Pavillon Jean-Brillant (Université de Montréal)\, salle B-4345\, 3200 rue Jean-Brillant\, Montréal\, QC\, H3T 1N8\, Canada
ATTACH;FMTTYPE=image/png:https://eriqa.org/wp-content/uploads/2024/08/Sarah-Munoz.png
END:VEVENT
END:VCALENDAR