BEGIN:VCALENDAR
VERSION:2.0
PRODID:-//ÉRIQA - ECPv6.15.17//NONSGML v1.0//EN
CALSCALE:GREGORIAN
METHOD:PUBLISH
X-WR-CALNAME:ÉRIQA
X-ORIGINAL-URL:https://eriqa.org
X-WR-CALDESC:Événements pour ÉRIQA
REFRESH-INTERVAL;VALUE=DURATION:PT1H
X-Robots-Tag:noindex
X-PUBLISHED-TTL:PT1H
BEGIN:VTIMEZONE
TZID:America/New_York
BEGIN:DAYLIGHT
TZOFFSETFROM:-0500
TZOFFSETTO:-0400
TZNAME:EDT
DTSTART:20230312T070000
END:DAYLIGHT
BEGIN:STANDARD
TZOFFSETFROM:-0400
TZOFFSETTO:-0500
TZNAME:EST
DTSTART:20231105T060000
END:STANDARD
BEGIN:DAYLIGHT
TZOFFSETFROM:-0500
TZOFFSETTO:-0400
TZNAME:EDT
DTSTART:20240310T070000
END:DAYLIGHT
BEGIN:STANDARD
TZOFFSETFROM:-0400
TZOFFSETTO:-0500
TZNAME:EST
DTSTART:20241103T060000
END:STANDARD
BEGIN:DAYLIGHT
TZOFFSETFROM:-0500
TZOFFSETTO:-0400
TZNAME:EDT
DTSTART:20250309T070000
END:DAYLIGHT
BEGIN:STANDARD
TZOFFSETFROM:-0400
TZOFFSETTO:-0500
TZNAME:EST
DTSTART:20251102T060000
END:STANDARD
END:VTIMEZONE
BEGIN:VEVENT
DTSTART;TZID=America/New_York:20241026T113000
DTEND;TZID=America/New_York:20241026T130000
DTSTAMP:20260423T082512
CREATED:20241011T195757Z
LAST-MODIFIED:20241011T195939Z
UID:5869-1729942200-1729947600@eriqa.org
SUMMARY:Rencontres Maîtres chez Vous - Les défis du vivre-ensemble au Québec
DESCRIPTION:Le 26 octobre 2024 se tiendra la 18e édition des Rencontres Maîtres chez Vous\, colloque dédié aux enjeux d’affaires publiques\, par et pour les jeunes\, afin d’encourager le débat et l’émergence de nouvelles idées\, organisé par Force Jeunesse. \nDe 11h30 à 13h00 aura lieu un panel thématique sur les défis du vivre-ensemble au Québec.  \nLe Québec a collectivement choisi de faire de l’immigration une réponse à ses besoins économiques et démographiques. L’installation d’un nombre grandissant de personnes immigrantes et réfugiées présente plusieurs défis en matière de vivre-ensemble. Pourtant\, à ce jour\, aucun gouvernement n’a formalisé le modèle de la province dans ce domaine\, qui se voudrait distinct de la politique du multiculturalisme canadien. Dans ce contexte\, comment l’État soutient-il le développement et la cohésion d’une société pluraliste et francophone ? Les actions visant à ce que les milieux et le groupe majoritaire soient encore plus ouverts et accueillants sont-elles suffisantes ? Comment favoriser la pleine participation de toutes et tous ainsi que le développement d’un sentiment d’appartenance envers la nation québécoise ? \nPour répondre à ces questions\, David Carpentier\, doctorant et chargé de cours à l’Ecole d’études politiques de l’Université d’Ottawa animera une discussion entre Jean-François Roberge\, Ministre de l’Immigration\, de la Francisation et de l’Intégration\, Ministre de la langue française et Ministre de la Laïcité; Myrlande Pierre\, Vice-présidente du mandat charte\, Commission des droits de la personne et des droits de la jeunesse; Stephan Reichhold\, Directeur général de la Table de concertation des organismes au service des personnes réfugiées et immigrantes (TCRI) ainsi que Catherine Xhardez\, membre ÉRIQA et Professeure adjointe au Département de science politique de l’Université de Montréal. \nPour vous inscrire\, rendez-vous sur le site Eventbrite de l’événement.
URL:https://eriqa.org/evenement/rencontres-maitres-chez-vous-les-defis-du-vivre-ensemble-au-quebec/
LOCATION:HEC Montréal – Édifice Hélène-Desmarais\, 501 Rue De la Gauchetière O\, Montréal\, Québec\, H2Z1Z5\, Canada
ATTACH;FMTTYPE=image/png:https://eriqa.org/wp-content/uploads/2024/10/RCV-force-jeunesse-26oct.png
END:VEVENT
END:VCALENDAR