BEGIN:VCALENDAR
VERSION:2.0
PRODID:-//ÉRIQA - ECPv6.15.17//NONSGML v1.0//EN
CALSCALE:GREGORIAN
METHOD:PUBLISH
X-WR-CALNAME:ÉRIQA
X-ORIGINAL-URL:https://eriqa.org
X-WR-CALDESC:Événements pour ÉRIQA
REFRESH-INTERVAL;VALUE=DURATION:PT1H
X-Robots-Tag:noindex
X-PUBLISHED-TTL:PT1H
BEGIN:VTIMEZONE
TZID:America/New_York
BEGIN:DAYLIGHT
TZOFFSETFROM:-0500
TZOFFSETTO:-0400
TZNAME:EDT
DTSTART:20190310T070000
END:DAYLIGHT
BEGIN:STANDARD
TZOFFSETFROM:-0400
TZOFFSETTO:-0500
TZNAME:EST
DTSTART:20191103T060000
END:STANDARD
BEGIN:DAYLIGHT
TZOFFSETFROM:-0500
TZOFFSETTO:-0400
TZNAME:EDT
DTSTART:20200308T070000
END:DAYLIGHT
BEGIN:STANDARD
TZOFFSETFROM:-0400
TZOFFSETTO:-0500
TZNAME:EST
DTSTART:20201101T060000
END:STANDARD
BEGIN:DAYLIGHT
TZOFFSETFROM:-0500
TZOFFSETTO:-0400
TZNAME:EDT
DTSTART:20210314T070000
END:DAYLIGHT
BEGIN:STANDARD
TZOFFSETFROM:-0400
TZOFFSETTO:-0500
TZNAME:EST
DTSTART:20211107T060000
END:STANDARD
END:VTIMEZONE
BEGIN:VEVENT
DTSTART;TZID=America/New_York:20200213T123000
DTEND;TZID=America/New_York:20200213T140000
DTSTAMP:20260425T085802
CREATED:20230726T133207Z
LAST-MODIFIED:20230726T133207Z
UID:5259-1581597000-1581602400@eriqa.org
SUMMARY:Regards sur les frontières : entre contrôle et solidarité\, Présentation de Luna Vives et Jorge Frozzini
DESCRIPTION:Nous vous invitons avec plaisir au prochain Midi de l’immigration le jeudi 13 février de 12h30 à 14h00. Nous recevrons Luna Vives (professeure au département de géographie de l’UdeM) et Jorge Frozzini (professeur au département des arts et des lettres à l’UQAC ) pour un atelier intitulé “Regards sur les frontières: entre contrôle et solidarité”. Un léger lunch sera servi. \nRéservation obligatoire: midis.immigration@ucs.inrs.ca avant le 10 février. \nAu plaisir de vous y voir !
URL:https://eriqa.org/evenement/regards-sur-les-frontieres-entre-controle-et-solidarite-presentation-de-luna-vives-et-jorge-frozzini/
LOCATION:Centre Urbanisation Culture Société\, INRS\, 385 rue Sherbrooke Est\, Montréal\, QC\, Canada
ATTACH;FMTTYPE=image/png:https://eriqa.org/wp-content/uploads/2017/08/midis-agenda-Edited.png
END:VEVENT
END:VCALENDAR