BEGIN:VCALENDAR
VERSION:2.0
PRODID:-//ÉRIQA - ECPv6.15.17//NONSGML v1.0//EN
CALSCALE:GREGORIAN
METHOD:PUBLISH
X-WR-CALNAME:ÉRIQA
X-ORIGINAL-URL:https://eriqa.org
X-WR-CALDESC:Événements pour ÉRIQA
REFRESH-INTERVAL;VALUE=DURATION:PT1H
X-Robots-Tag:noindex
X-PUBLISHED-TTL:PT1H
BEGIN:VTIMEZONE
TZID:America/New_York
BEGIN:DAYLIGHT
TZOFFSETFROM:-0500
TZOFFSETTO:-0400
TZNAME:EDT
DTSTART:20180311T070000
END:DAYLIGHT
BEGIN:STANDARD
TZOFFSETFROM:-0400
TZOFFSETTO:-0500
TZNAME:EST
DTSTART:20181104T060000
END:STANDARD
BEGIN:DAYLIGHT
TZOFFSETFROM:-0500
TZOFFSETTO:-0400
TZNAME:EDT
DTSTART:20190310T070000
END:DAYLIGHT
BEGIN:STANDARD
TZOFFSETFROM:-0400
TZOFFSETTO:-0500
TZNAME:EST
DTSTART:20191103T060000
END:STANDARD
BEGIN:DAYLIGHT
TZOFFSETFROM:-0500
TZOFFSETTO:-0400
TZNAME:EDT
DTSTART:20200308T070000
END:DAYLIGHT
BEGIN:STANDARD
TZOFFSETFROM:-0400
TZOFFSETTO:-0500
TZNAME:EST
DTSTART:20201101T060000
END:STANDARD
END:VTIMEZONE
BEGIN:VEVENT
DTSTART;TZID=America/New_York:20191107T123000
DTEND;TZID=America/New_York:20191107T140000
DTSTAMP:20260425T103356
CREATED:20230726T142255Z
LAST-MODIFIED:20230726T143008Z
UID:5275-1573129800-1573135200@eriqa.org
SUMMARY:Regards croisés sur les enjeux vécus par les personnes immigrantes LGBTQ+ à Montréal
DESCRIPTION:« Les midis de l’immigration de l’INRS » vous invite à un atelier mené pas Mylère de Repentigny-Corbeil et Dr Abelardo Leon\, qui explorera l’intersection entre l’expérience immigrante et les identités LGBTQ+. Ce sujet fort pertinent illuminera des formes de discrimination souvent négligées dans les discours conventionnels\, et proposera un nouveau trajet dans l’étude de l’immigration. Cet événement prendra place jeudi le 7 novembre\, 2019 à 12h30 et sera accompagné d’un léger dîner. \nCette conférence fait partie de la série des « Midis de l’immigration de l’INRS »\, qui met en valeur les plus récentes recherches réalisées au centre Urbanisation Culture Société sur les migrations internationales\, le transnationalisme\, l’accueil et l’établissement des personnes issues de l’immigration. \nRéservation requise: s’il vous plaît contacter midis.immigration@ucs.inrs.ca avant le 4 novembre – Visioconférence disponible sur demande. Pour plus d’information\, visitez: https://www.facebook.com/events/398932631014458/
URL:https://eriqa.org/evenement/regards-croises-sur-les-enjeux-vecus-par-les-personnes-immigrantes-lgbtq-a-montreal/
LOCATION:Centre Urbanisation Culture Société\, INRS\, 385 rue Sherbrooke Est\, Montréal\, QC\, Canada
ATTACH;FMTTYPE=image/png:https://eriqa.org/wp-content/uploads/2017/08/midis-agenda-Edited.png
END:VEVENT
END:VCALENDAR