BEGIN:VCALENDAR
VERSION:2.0
PRODID:-//ÉRIQA - ECPv6.15.17//NONSGML v1.0//EN
CALSCALE:GREGORIAN
METHOD:PUBLISH
X-WR-CALNAME:ÉRIQA
X-ORIGINAL-URL:https://eriqa.org
X-WR-CALDESC:Événements pour ÉRIQA
REFRESH-INTERVAL;VALUE=DURATION:PT1H
X-Robots-Tag:noindex
X-PUBLISHED-TTL:PT1H
BEGIN:VTIMEZONE
TZID:America/New_York
BEGIN:DAYLIGHT
TZOFFSETFROM:-0500
TZOFFSETTO:-0400
TZNAME:EDT
DTSTART:20190310T070000
END:DAYLIGHT
BEGIN:STANDARD
TZOFFSETFROM:-0400
TZOFFSETTO:-0500
TZNAME:EST
DTSTART:20191103T060000
END:STANDARD
BEGIN:DAYLIGHT
TZOFFSETFROM:-0500
TZOFFSETTO:-0400
TZNAME:EDT
DTSTART:20200308T070000
END:DAYLIGHT
BEGIN:STANDARD
TZOFFSETFROM:-0400
TZOFFSETTO:-0500
TZNAME:EST
DTSTART:20201101T060000
END:STANDARD
BEGIN:DAYLIGHT
TZOFFSETFROM:-0500
TZOFFSETTO:-0400
TZNAME:EDT
DTSTART:20210314T070000
END:DAYLIGHT
BEGIN:STANDARD
TZOFFSETFROM:-0400
TZOFFSETTO:-0500
TZNAME:EST
DTSTART:20211107T060000
END:STANDARD
END:VTIMEZONE
BEGIN:VEVENT
DTSTART;TZID=America/New_York:20200131T150000
DTEND;TZID=America/New_York:20200131T170000
DTSTAMP:20260425T085704
CREATED:20230726T134818Z
LAST-MODIFIED:20230726T134818Z
UID:5270-1580482800-1580490000@eriqa.org
SUMMARY:Refuge Beyond Reach: How rich democracies repel asylum seekers\, Conference with David Fitzgerald
DESCRIPTION:You are invited to a conference with Professor David Fitzgerald\, of the University of San Diego\, who explores how asylum and immigration systems are experienced by refugees\, and why they so often fail refugees. The event is co-hosted by the Centre for the Study of Democratic Citizenship and the McGill Refugee Research Group on Friday\, January 31st\, 2020 at 3:00pm in the Ballroom of McGill University’s Thomson House. For more information\, and for a link to a livestream of the conference\, please refer to this website. \nThe core of the asylum regime is the principle of non-refoulement that prohibits governments from sending refugees back to their persecutors. Governments attempt to evade this legal obligation to which they have explicitly agreed by manipulating territoriality. A remote control strategy of “extra-territorialization” pushes border control functions hundreds or even thousands of kilometers beyond the state’s territory. Simultaneously\, states restrict access to asylum and other rights enjoyed by virtue of presence on a state’s territory\, by making micro-distinctions down to the meter at the border line in a process of “hyper-territorialization.” Refuge Beyond Reach analyzes remote controls since the 1930s in Palestine\, North America\, Europe\, and Australia to identify the origins of different forms of remote control\, explain how they work together as a system of control\, and establish the conditions that enable or constrain them in practice. It argues that foreign policy issue linkages and transnational advocacy networks promoting a humanitarian norm that is less susceptible to the legal manipulation of territoriality constrains remote controls more than the law itself. The degree of constraint varies widely by the technique of remote control. Fitzgerald engages fundamental theoretical questions about the extent to which norms and institutions shape state action\, the collision between sovereignty and universalist values\, and the shifting articulation of governments\, territories\, and rights-bearing individuals.
URL:https://eriqa.org/evenement/refuge-beyond-reach-how-rich-democracies-repel-asylum-seekers-conference-with-david-fitzgerald/
LOCATION:Thomson House (McGill University)\, Ballroom\, 3650 McTavish Street\, Montréal\, QC\, H3A 1Y2\, Canada
ATTACH;FMTTYPE=image/jpeg:https://eriqa.org/wp-content/uploads/2020/01/David-Fitzgerald-Twitter-Speaker-Series-2018-2019-3-Edited.jpg
END:VEVENT
END:VCALENDAR