BEGIN:VCALENDAR
VERSION:2.0
PRODID:-//ÉRIQA - ECPv6.15.17//NONSGML v1.0//EN
CALSCALE:GREGORIAN
METHOD:PUBLISH
X-WR-CALNAME:ÉRIQA
X-ORIGINAL-URL:https://eriqa.org
X-WR-CALDESC:Événements pour ÉRIQA
REFRESH-INTERVAL;VALUE=DURATION:PT1H
X-Robots-Tag:noindex
X-PUBLISHED-TTL:PT1H
BEGIN:VTIMEZONE
TZID:America/New_York
BEGIN:DAYLIGHT
TZOFFSETFROM:-0500
TZOFFSETTO:-0400
TZNAME:EDT
DTSTART:20230312T070000
END:DAYLIGHT
BEGIN:STANDARD
TZOFFSETFROM:-0400
TZOFFSETTO:-0500
TZNAME:EST
DTSTART:20231105T060000
END:STANDARD
BEGIN:DAYLIGHT
TZOFFSETFROM:-0500
TZOFFSETTO:-0400
TZNAME:EDT
DTSTART:20240310T070000
END:DAYLIGHT
BEGIN:STANDARD
TZOFFSETFROM:-0400
TZOFFSETTO:-0500
TZNAME:EST
DTSTART:20241103T060000
END:STANDARD
BEGIN:DAYLIGHT
TZOFFSETFROM:-0500
TZOFFSETTO:-0400
TZNAME:EDT
DTSTART:20250309T070000
END:DAYLIGHT
BEGIN:STANDARD
TZOFFSETFROM:-0400
TZOFFSETTO:-0500
TZNAME:EST
DTSTART:20251102T060000
END:STANDARD
END:VTIMEZONE
BEGIN:VEVENT
DTSTART;TZID=America/New_York:20240612T083000
DTEND;TZID=America/New_York:20240612T114500
DTSTAMP:20260423T164234
CREATED:20240322T151855Z
LAST-MODIFIED:20240327T140608Z
UID:5649-1718181000-1718192700@eriqa.org
SUMMARY:Panels ACSP/CPSA
DESCRIPTION:L’ÉRIQA\, conjointement avec l’Initiative de recherche sur l’immigration (IRI)\, présente deux panels dans le cadre de la Conférence annuelle de l’Association canadienne de science politique (ACSP/CPSA). Les deux panels se dérouleront le 12 juin. \nLe premier panel\, qui aura lieu de 8h30 à 10h\, a pour thème la/les “Politique(s) de l’immigration au Québec”. Le panel sera présidé par Antoine Bilodeau\, membre ÉRIQA. Mireille Paquet et Catherine Xhardez\, deux des co-directrices de l’ÉRIQA\, présenteront lors de ce panel. Vous y retrouverez aussi François Rocher (uOttawa) et Mylène Coderre (INSPQ). \nLe deuxième panel aura lieu de 10h15 à 11h45 sous le thème “Les attitudes envers l’immigration au Québec”. Le panel sera présidé par Catherine Xhardez\, co-directrice de l’ÉRIQA. Antoine Bilodeau\, membre ÉRIQA\, y présentera deux articles\, l’un en compagnie d’Audrey Gagnon\, l’autre avec Haroun Aramis. Les autres panélistes sont Éric Bélanger (McGill)\, Jean-François Godbout (UdeM)\, Philippe Chassé (UdeM) et Richard Nadeau (UdeM). \nRetrouvez la description complète de ces panels sur le site de l’ACSP: description panel 1\, description panel 2.
URL:https://eriqa.org/evenement/panels-acsp-cpsa/
LOCATION:McGill University (exact location TBA)\, Montréal\, QC\, Canada
ATTACH;FMTTYPE=image/jpeg:https://eriqa.org/wp-content/uploads/2024/03/CPSA-2024-scaled.jpg
END:VEVENT
END:VCALENDAR