BEGIN:VCALENDAR
VERSION:2.0
PRODID:-//ÉRIQA - ECPv6.15.17//NONSGML v1.0//EN
CALSCALE:GREGORIAN
METHOD:PUBLISH
X-WR-CALNAME:ÉRIQA
X-ORIGINAL-URL:https://eriqa.org
X-WR-CALDESC:Événements pour ÉRIQA
REFRESH-INTERVAL;VALUE=DURATION:PT1H
X-Robots-Tag:noindex
X-PUBLISHED-TTL:PT1H
BEGIN:VTIMEZONE
TZID:America/New_York
BEGIN:DAYLIGHT
TZOFFSETFROM:-0500
TZOFFSETTO:-0400
TZNAME:EDT
DTSTART:20240310T070000
END:DAYLIGHT
BEGIN:STANDARD
TZOFFSETFROM:-0400
TZOFFSETTO:-0500
TZNAME:EST
DTSTART:20241103T060000
END:STANDARD
BEGIN:DAYLIGHT
TZOFFSETFROM:-0500
TZOFFSETTO:-0400
TZNAME:EDT
DTSTART:20250309T070000
END:DAYLIGHT
BEGIN:STANDARD
TZOFFSETFROM:-0400
TZOFFSETTO:-0500
TZNAME:EST
DTSTART:20251102T060000
END:STANDARD
BEGIN:DAYLIGHT
TZOFFSETFROM:-0500
TZOFFSETTO:-0400
TZNAME:EDT
DTSTART:20260308T070000
END:DAYLIGHT
BEGIN:STANDARD
TZOFFSETFROM:-0400
TZOFFSETTO:-0500
TZNAME:EST
DTSTART:20261101T060000
END:STANDARD
END:VTIMEZONE
BEGIN:VEVENT
DTSTART;TZID=America/New_York:20250424T170000
DTEND;TZID=America/New_York:20250424T200000
DTSTAMP:20260424T054533
CREATED:20250410T172035Z
LAST-MODIFIED:20250410T172452Z
UID:6176-1745514000-1745524800@eriqa.org
SUMMARY:Panel - Talking about Immigration & Diversity in Polarized Political Times
DESCRIPTION:L’Institut de recherche sur les migrations et la société (IRMS)\, l’Institut d’études canadiennes de McGill et l’ÉRIQA vous invitent à un panel le jeudi 24 avril à 17h à l’Université Concordia: Talking about Immigration & Diversity in Polarized Political Times\, Framing immigration and diversity in the public sphere: the evolving roles of academics\, journalists\, and public intellectuals.  \nLe panel sera en anglais et accueillera Toula Drimonis\, Nicholas Keung\, Mireille Paquet (membre ÉRIQA) et sera animé par Jennifer Elrick. \nDescription: \nImmigration and diversity have become weaponized as populist and right-wing talking points. How can we talk about these topics productively with the public and in the media? \nIn this fireside conversation\, we explore the challenges faced by public intellectuals\, academics\, and journalists who write and report about immigration and diversity. Each group seeks to make sense of how immigration and diversity shape society\, to tell the story of migrants’ and minorities’ life experiences\, and to examine how to ensure that people from diverse backgrounds have access to the same resources and opportunities. \nHow have recent political dynamics affected the ability of scholars\, researchers and journalists to talk about immigration and diversity? \nHow have their strategies evolved in response? \nWe take on these questions by considering the challenge of injecting nuance into a media landscape that favors soundbites; the tension between presenting “facts” and making moral\, ethical\, or political arguments; the strategic choice of venues; the ways to measuring impact; and the navigation of backlash. \nPlus d’informations ici.
URL:https://eriqa.org/evenement/panel-concordia-irms/
LOCATION:John Molson Building\, Room MB9-EFG\, Université Concordia\, 1450 Guy\, Montréal\, QC\, H3H 0A1
ATTACH;FMTTYPE=image/jpeg:https://eriqa.org/wp-content/uploads/2025/04/24-avril.jpg
END:VEVENT
END:VCALENDAR