BEGIN:VCALENDAR
VERSION:2.0
PRODID:-//ÉRIQA - ECPv6.15.17//NONSGML v1.0//EN
CALSCALE:GREGORIAN
METHOD:PUBLISH
X-WR-CALNAME:ÉRIQA
X-ORIGINAL-URL:https://eriqa.org
X-WR-CALDESC:Événements pour ÉRIQA
REFRESH-INTERVAL;VALUE=DURATION:PT1H
X-Robots-Tag:noindex
X-PUBLISHED-TTL:PT1H
BEGIN:VTIMEZONE
TZID:America/New_York
BEGIN:DAYLIGHT
TZOFFSETFROM:-0500
TZOFFSETTO:-0400
TZNAME:EDT
DTSTART:20190310T070000
END:DAYLIGHT
BEGIN:STANDARD
TZOFFSETFROM:-0400
TZOFFSETTO:-0500
TZNAME:EST
DTSTART:20191103T060000
END:STANDARD
BEGIN:DAYLIGHT
TZOFFSETFROM:-0500
TZOFFSETTO:-0400
TZNAME:EDT
DTSTART:20200308T070000
END:DAYLIGHT
BEGIN:STANDARD
TZOFFSETFROM:-0400
TZOFFSETTO:-0500
TZNAME:EST
DTSTART:20201101T060000
END:STANDARD
BEGIN:DAYLIGHT
TZOFFSETFROM:-0500
TZOFFSETTO:-0400
TZNAME:EDT
DTSTART:20210314T070000
END:DAYLIGHT
BEGIN:STANDARD
TZOFFSETFROM:-0400
TZOFFSETTO:-0500
TZNAME:EST
DTSTART:20211107T060000
END:STANDARD
END:VTIMEZONE
BEGIN:VEVENT
DTSTART;TZID=America/New_York:20200325T123000
DTEND;TZID=America/New_York:20200325T133000
DTSTAMP:20260425T073716
CREATED:20230725T154405Z
LAST-MODIFIED:20230725T154405Z
UID:5241-1585139400-1585143000@eriqa.org
SUMMARY:Midis de l’immigration de l’INRS : Les enjeux du rapprochement citoyen à l’échelle des quartiers montréalais – Le cas de l’initiative “Vivons nos quartiers”
DESCRIPTION:L’initiative “Vivons nos quartiers” a été mise en place par un partenariat entre la TCRI et Centraide en 2016 dans le contexte des arrivées des réfugiés syriens\, puis les demandeurs d’asile\, au Québec. L’un de ses volets est le renforcement des capacités des acteurs et intervenant.e.s des quartiers à développer et animer des activités de rapprochement citoyen sur leur territoire. L’initiative est documenté depuis ses débuts par un projet de recherche (issue du Partenariat immigration et résilience en milieu urbain). La présentation rassemblera les praticiennes et les chercheurs pour interroger la notion de “rapprochement citoyen” sous plusieurs formes : dans les aspects pratiques de l’élaboration d’une formation sur le sujet\, dans sa dimension conceptuelle en relation avec l’interculturalité\, ainsi que dans sa dimension expérientielle\, en présentant le point de vue de nouveaux arrivants à partir d’un projet basé sur la prise de photos. \nJoignez-nous mercredi le 25 mars à 12h30. Un léger lunch sera servi. \nRéservation obligatoire: midis.immigration@ucs.inrs.ca avant le 23 mars. Visioconférence disponible sur demande. \nDécouvrez les conférencières! \nMyriam Richard\, Chargée de projet à la Table de concertation des organismes au service des personnes réfugiées et immigrantes (TCRI) \nFlorence Bourdeau\, Coordonnatrice à la Table de concertation des organismes au service des personnes réfugiées et immigrantes (TCRI) \nAnna Goudet\, Doctorante en études urbaines à l’INRS \nCatherine Paquette\, Étudiante à la maîtrise à l’INRS
URL:https://eriqa.org/evenement/midis-de-limmigration-de-linrs-les-enjeux-du-rapprochement-citoyen-a-lechelle-des-quartiers-montrealais-le-cas-de-linitiative-vivons-nos-quarti/
LOCATION:INRS\, Salle 1106\, 385 Sherbrooke Est\, Montréal\, QC\, H2X 1E3\, Canada
ATTACH;FMTTYPE=image/png:https://eriqa.org/wp-content/uploads/2020/03/midis-de-limmigration.png
END:VEVENT
END:VCALENDAR