BEGIN:VCALENDAR
VERSION:2.0
PRODID:-//ÉRIQA - ECPv6.15.17//NONSGML v1.0//EN
CALSCALE:GREGORIAN
METHOD:PUBLISH
X-WR-CALNAME:ÉRIQA
X-ORIGINAL-URL:https://eriqa.org
X-WR-CALDESC:Événements pour ÉRIQA
REFRESH-INTERVAL;VALUE=DURATION:PT1H
X-Robots-Tag:noindex
X-PUBLISHED-TTL:PT1H
BEGIN:VTIMEZONE
TZID:America/New_York
BEGIN:DAYLIGHT
TZOFFSETFROM:-0500
TZOFFSETTO:-0400
TZNAME:EDT
DTSTART:20180311T070000
END:DAYLIGHT
BEGIN:STANDARD
TZOFFSETFROM:-0400
TZOFFSETTO:-0500
TZNAME:EST
DTSTART:20181104T060000
END:STANDARD
BEGIN:DAYLIGHT
TZOFFSETFROM:-0500
TZOFFSETTO:-0400
TZNAME:EDT
DTSTART:20190310T070000
END:DAYLIGHT
BEGIN:STANDARD
TZOFFSETFROM:-0400
TZOFFSETTO:-0500
TZNAME:EST
DTSTART:20191103T060000
END:STANDARD
BEGIN:DAYLIGHT
TZOFFSETFROM:-0500
TZOFFSETTO:-0400
TZNAME:EDT
DTSTART:20200308T070000
END:DAYLIGHT
BEGIN:STANDARD
TZOFFSETFROM:-0400
TZOFFSETTO:-0500
TZNAME:EST
DTSTART:20201101T060000
END:STANDARD
END:VTIMEZONE
BEGIN:VEVENT
DTSTART;TZID=America/New_York:20191010T123000
DTEND;TZID=America/New_York:20191010T140000
DTSTAMP:20260425T102157
CREATED:20230727T202523Z
LAST-MODIFIED:20230727T202523Z
UID:5286-1570710600-1570716000@eriqa.org
SUMMARY:Midis de l’immigration de l’INRS: La crise de la réception des réfugiés en Europe
DESCRIPTION:« Les midis de l’immigration de l’INRS » vous invite à une discussion avec Andrea Rea\, professeur à l’université libre de Bruxelles (ULB)\, pour explorer son ouvrage à paraître : La crise de la réception des réfugiés en Europe : polarisations des opinions et mobilisations de la société civile. \nCette conférence fait partie de la série des « Midis de l’immigration de l’INRS »\, qui met en valeur les plus récentes recherches réalisées au centre Urbanisation Culture Société sur les migrations internationales\, le transnationalisme\, l’accueil et l’établissement des personnes issues de l’immigration. \nRéservation requise: s’il vous plaît contacter midis.immigration@ucs.inrs.ca avant le 7 octobre – Visioconférence disponible sur demande. Pour plus d’information\, s’il vous plaît visiter : https://www.facebook.com/events/centre-urbanisation-culture-soci%C3%A9t%C3%A9-de-linrs/la-crise-de-la-r%C3%A9ception-des-r%C3%A9fugi%C3%A9s-en-europe/387533998605902/
URL:https://eriqa.org/evenement/midis-de-limmigration-de-linrs-la-crise-de-la-reception-des-refugies-en-europe/
LOCATION:Centre Urbanisation Culture Société\, INRS\, 385 rue Sherbrooke Est\, Montréal\, QC\, Canada
ATTACH;FMTTYPE=image/png:https://eriqa.org/wp-content/uploads/2017/08/midis-agenda-Edited.png
END:VEVENT
END:VCALENDAR