BEGIN:VCALENDAR
VERSION:2.0
PRODID:-//ÉRIQA - ECPv6.15.17//NONSGML v1.0//EN
CALSCALE:GREGORIAN
METHOD:PUBLISH
X-WR-CALNAME:ÉRIQA
X-ORIGINAL-URL:https://eriqa.org
X-WR-CALDESC:Événements pour ÉRIQA
REFRESH-INTERVAL;VALUE=DURATION:PT1H
X-Robots-Tag:noindex
X-PUBLISHED-TTL:PT1H
BEGIN:VTIMEZONE
TZID:America/New_York
BEGIN:DAYLIGHT
TZOFFSETFROM:-0500
TZOFFSETTO:-0400
TZNAME:EDT
DTSTART:20190310T070000
END:DAYLIGHT
BEGIN:STANDARD
TZOFFSETFROM:-0400
TZOFFSETTO:-0500
TZNAME:EST
DTSTART:20191103T060000
END:STANDARD
BEGIN:DAYLIGHT
TZOFFSETFROM:-0500
TZOFFSETTO:-0400
TZNAME:EDT
DTSTART:20200308T070000
END:DAYLIGHT
BEGIN:STANDARD
TZOFFSETFROM:-0400
TZOFFSETTO:-0500
TZNAME:EST
DTSTART:20201101T060000
END:STANDARD
BEGIN:DAYLIGHT
TZOFFSETFROM:-0500
TZOFFSETTO:-0400
TZNAME:EDT
DTSTART:20210314T070000
END:DAYLIGHT
BEGIN:STANDARD
TZOFFSETFROM:-0400
TZOFFSETTO:-0500
TZNAME:EST
DTSTART:20211107T060000
END:STANDARD
END:VTIMEZONE
BEGIN:VEVENT
DTSTART;TZID=America/New_York:20200409T084500
DTEND;TZID=America/New_York:20200409T163000
DTSTAMP:20260425T091416
CREATED:20230725T154021Z
LAST-MODIFIED:20230725T154541Z
UID:5238-1586421900-1586449800@eriqa.org
SUMMARY:Les étudiants internationaux au Québec : Aspirations professionnelles\, intégration en emploi et réalités de leur rétention dans les régions
DESCRIPTION:La Chaire de recherche sur l’intégration et la gestion des diversités en emploi (CRIDE) vous invite à un colloque organisé par Kamel Béji\, titulaire de la CRIDE et membre de l’ERIQA. Chedly Belkhodja\, qui est également membre de l’ERIQA\, présentera aussi ses recherches\,. Explorez avec nos conférenciers les enjeux auxquels font face les étudiant internationaux\, une thématique sensible et en constante évolution\, avec de nombreux défis. \nJoignez-nous jeudi le 9 avril de 8h45 à 16h30. \nPlus d’informations suivront ! \nPour vous inscrire gratuitement\, contactez cride@rtl.ulaval.ca \nDécouvrez les conférenciers! \nKamel Béji\, professeur titulaire à l’Université Laval\, Département des relations industrielles \nChedly Belkhodja\, Directeur et professeur à l’Université Concordia\, École des affaires publiques et communautaires
URL:https://eriqa.org/evenement/les-etudiants-internationaux-au-quebec-aspirations-professionnelles-integration-en-emploi-et-realites-de-leur-retention-dans-les-regions/
LOCATION:Pavillon Alphonse-Desjardins\, salle 2326\, 2325 Rue de l'Université\, Québec\, QC\, G1V 0A6\, Canada
ATTACH;FMTTYPE=image/png:https://eriqa.org/wp-content/uploads/2020/03/pastedImage.png
END:VEVENT
END:VCALENDAR