BEGIN:VCALENDAR
VERSION:2.0
PRODID:-//ÉRIQA - ECPv6.15.17//NONSGML v1.0//EN
CALSCALE:GREGORIAN
METHOD:PUBLISH
X-WR-CALNAME:ÉRIQA
X-ORIGINAL-URL:https://eriqa.org
X-WR-CALDESC:Événements pour ÉRIQA
REFRESH-INTERVAL;VALUE=DURATION:PT1H
X-Robots-Tag:noindex
X-PUBLISHED-TTL:PT1H
BEGIN:VTIMEZONE
TZID:America/New_York
BEGIN:DAYLIGHT
TZOFFSETFROM:-0500
TZOFFSETTO:-0400
TZNAME:EDT
DTSTART:20220313T070000
END:DAYLIGHT
BEGIN:STANDARD
TZOFFSETFROM:-0400
TZOFFSETTO:-0500
TZNAME:EST
DTSTART:20221106T060000
END:STANDARD
BEGIN:DAYLIGHT
TZOFFSETFROM:-0500
TZOFFSETTO:-0400
TZNAME:EDT
DTSTART:20230312T070000
END:DAYLIGHT
BEGIN:STANDARD
TZOFFSETFROM:-0400
TZOFFSETTO:-0500
TZNAME:EST
DTSTART:20231105T060000
END:STANDARD
BEGIN:DAYLIGHT
TZOFFSETFROM:-0500
TZOFFSETTO:-0400
TZNAME:EDT
DTSTART:20240310T070000
END:DAYLIGHT
BEGIN:STANDARD
TZOFFSETFROM:-0400
TZOFFSETTO:-0500
TZNAME:EST
DTSTART:20241103T060000
END:STANDARD
END:VTIMEZONE
BEGIN:VEVENT
DTSTART;TZID=America/New_York:20231023T123000
DTEND;TZID=America/New_York:20231023T134500
DTSTAMP:20260424T232840
CREATED:20231013T113840Z
LAST-MODIFIED:20231013T113840Z
UID:5415-1698064200-1698068700@eriqa.org
SUMMARY:Le droit au logement et les migrations forcées au Canada : Deux poids\, deux mesures
DESCRIPTION:Avec : Christina Clark-Kazak \nL’itinérance des demandeurs.euses d’asile au Canada fait la une récemment\, mais n’est pas un phénomène nouveau. Dans cette conférence\, le droit au logement dans divers contextes de migrations forcées au Canada sera analysé. En faisant la comparaison entre l’accès au logement pour des réfugié.es réinstallé.es d’une part\, et pour des personnes autochtones et des demandeurs.euses d’asile d’autre part\, les politiques différenciées pour les personnes déplacées « désirables » et « non désirables » seront étudiées. La conférence se conclut avec quelques recommandations pour revendiquer le droit au logement pour toutes et tous. \nChristina Clark-Kazak est Professeure titulaire à l’École supérieure d’affaires publiques et internationales de l’Université d’Ottawa. Ses recherches portent sur la participation politique des jeunes\, la méthodologie et la déontologie en contextes de migrations forcées et la discrimination axée sur l’âge. Elle était anciennement Présidente de l’International Association for the Study of Forced Migration et de l’Association canadienne d’études sur les réfugiés et les migrations forcées. Elle a également été Rédactrice en chef sortante de « Refuge – Revue canadienne sur les réfugié.e.s ». Elle a précédemment travaillé pour l’Université de York et l’Université Saint-Paul\, le gouvernement canadien ainsi que la Coalition pour mettre fin à l’utilisation des enfants soldats. \nPour en apprendre plus sur le travail de la conférencière : Université d’Ottawa – Introduction aux migrations forcées  \n 
URL:https://eriqa.org/evenement/le-droit-au-logement-et-les-migrations-forcees-au-canada-deux-poids-deux-mesures/
LOCATION:Pavillon Jean-Brillant (Université de Montréal)\, salle B-3315\, 3200 rue Jean-Brillant\, Montréal\, QC\, H3T 1N8\, Canada
ATTACH;FMTTYPE=image/png:https://eriqa.org/wp-content/uploads/2023/10/23octobre-Christina-Clark-Kazak.png
END:VEVENT
END:VCALENDAR