BEGIN:VCALENDAR
VERSION:2.0
PRODID:-//ÉRIQA - ECPv6.15.17//NONSGML v1.0//EN
CALSCALE:GREGORIAN
METHOD:PUBLISH
X-WR-CALNAME:ÉRIQA
X-ORIGINAL-URL:https://eriqa.org
X-WR-CALDESC:Événements pour ÉRIQA
REFRESH-INTERVAL;VALUE=DURATION:PT1H
X-Robots-Tag:noindex
X-PUBLISHED-TTL:PT1H
BEGIN:VTIMEZONE
TZID:America/New_York
BEGIN:DAYLIGHT
TZOFFSETFROM:-0500
TZOFFSETTO:-0400
TZNAME:EDT
DTSTART:20240310T070000
END:DAYLIGHT
BEGIN:STANDARD
TZOFFSETFROM:-0400
TZOFFSETTO:-0500
TZNAME:EST
DTSTART:20241103T060000
END:STANDARD
BEGIN:DAYLIGHT
TZOFFSETFROM:-0500
TZOFFSETTO:-0400
TZNAME:EDT
DTSTART:20250309T070000
END:DAYLIGHT
BEGIN:STANDARD
TZOFFSETFROM:-0400
TZOFFSETTO:-0500
TZNAME:EST
DTSTART:20251102T060000
END:STANDARD
BEGIN:DAYLIGHT
TZOFFSETFROM:-0500
TZOFFSETTO:-0400
TZNAME:EDT
DTSTART:20260308T070000
END:DAYLIGHT
BEGIN:STANDARD
TZOFFSETFROM:-0400
TZOFFSETTO:-0500
TZNAME:EST
DTSTART:20261101T060000
END:STANDARD
END:VTIMEZONE
BEGIN:VEVENT
DTSTART;TZID=America/New_York:20251021T103000
DTEND;TZID=America/New_York:20251021T120000
DTSTAMP:20260424T090623
CREATED:20251001T155733Z
LAST-MODIFIED:20251001T155952Z
UID:6437-1761042600-1761048000@eriqa.org
SUMMARY:Lancement du livre The Gates of the Sea - Luna Vives
DESCRIPTION:La Chaire de recherche du Canada sur les dynamiques migratoires mondiales (Université Laval) vous invite au lancement du livre The Gates of the Sea\, publié récemment par Luna Vives\, membre ÉRIQA et professeure agrégée au Département de géographie de l’Université de Montréal. La lancement aura lieu le 21 octobre à 10h30 à l’Université Laval.\n\nRésumé du livre: The Gates of the Sea examine comment le gouvernement espagnol réoriente les dispositifs de recherche et de sauvetage en mer afin d’empêcher les migrants d’accéder à son territoire. L’ouvrage explore également comment les équipes de sauvetage résistent à cette instrumentalisation de leur mission à des fins de contrôle frontalier.\n\nÀ propos de l’autrice: Luna Vives est professeure agrégée au Département de géographie de l’Université de Montréal. Ses recherches portent sur le durcissement des politiques migratoires aux frontières européennes et nord-américaines\, ainsi que sur les effets de ces politiques sur les personnes migrantes en situation de vulnérabilité.\n\nPlus d’informations sur l’événement facebook de la Chaire.
URL:https://eriqa.org/evenement/lancement-the-gates-of-the-sea/
LOCATION:Salle GHK-2320-2330\, Université Laval\, 2425 Rue de la Terrasse\, Québec\, G1V 0A6
ATTACH;FMTTYPE=image/png:https://eriqa.org/wp-content/uploads/2025/10/Lancement_TheGatesOfSea_laval.png
END:VEVENT
END:VCALENDAR