BEGIN:VCALENDAR
VERSION:2.0
PRODID:-//ÉRIQA - ECPv6.15.17//NONSGML v1.0//EN
CALSCALE:GREGORIAN
METHOD:PUBLISH
X-WR-CALNAME:ÉRIQA
X-ORIGINAL-URL:https://eriqa.org
X-WR-CALDESC:Événements pour ÉRIQA
REFRESH-INTERVAL;VALUE=DURATION:PT1H
X-Robots-Tag:noindex
X-PUBLISHED-TTL:PT1H
BEGIN:VTIMEZONE
TZID:America/New_York
BEGIN:DAYLIGHT
TZOFFSETFROM:-0500
TZOFFSETTO:-0400
TZNAME:EDT
DTSTART:20220313T070000
END:DAYLIGHT
BEGIN:STANDARD
TZOFFSETFROM:-0400
TZOFFSETTO:-0500
TZNAME:EST
DTSTART:20221106T060000
END:STANDARD
BEGIN:DAYLIGHT
TZOFFSETFROM:-0500
TZOFFSETTO:-0400
TZNAME:EDT
DTSTART:20230312T070000
END:DAYLIGHT
BEGIN:STANDARD
TZOFFSETFROM:-0400
TZOFFSETTO:-0500
TZNAME:EST
DTSTART:20231105T060000
END:STANDARD
BEGIN:DAYLIGHT
TZOFFSETFROM:-0500
TZOFFSETTO:-0400
TZNAME:EDT
DTSTART:20240310T070000
END:DAYLIGHT
BEGIN:STANDARD
TZOFFSETFROM:-0400
TZOFFSETTO:-0500
TZNAME:EST
DTSTART:20241103T060000
END:STANDARD
END:VTIMEZONE
BEGIN:VEVENT
DTSTART;TZID=America/New_York:20231114T100000
DTEND;TZID=America/New_York:20231114T111500
DTSTAMP:20260424T200354
CREATED:20231103T124725Z
LAST-MODIFIED:20231103T124725Z
UID:5471-1699956000-1699960500@eriqa.org
SUMMARY:La construction d’une altérité libérale en islam : le cas du marché transnational de la réforme
DESCRIPTION:Dans le cadre du cycle de conférences Migrations et Citoyennetés\, l’ÉRIQA\, en collaboration avec le Centre de recherche sur les politiques et le développement social (CPDS) de l’Université de Montréal\, accueille Mohamed Amine Brahimi. \nCette conférence portera sur une analyse sociologique de la réception de la pensée islamique réformiste dans l’espace euro-américain à partir des années 1990\, l’objectif étant de construire un « espace des possibles biographiques » qui se déploie dans un espace géographique transnational et d’illustrer la manière dont cette réception euro-américaine favorise la circulation des individus et des références. Dans ce cadre\, le concept de marché permet d’illustrer la dynamique sociale avec laquelle les réformateurs musulmans répondent à différentes demandes spécifiques. \nMohamed Amine Brahimi est post-doctorant au département de science politique de l’UQAM. Ses intérêts de recherche sont la pensée islamique contemporaine\, l’analyse des débats publics et la sociologie historique du champ scientifique. Ses travaux les plus récents portent sur la construction de l’islam comme problème public et le rôle du savoir scientifique dans cette problématisation. Il est l’auteur de nombreux articles scientifiques dans des revues de sciences sociales (dont Raison Politique\, Revue d’études canadiennes\, Sociological Review\, Religions\, ACTE). \nPour vous inscrire à l’événement\, contactez cpds@pol.umontreal.ca.
URL:https://eriqa.org/evenement/la-construction-dune-alterite-liberale-en-islam-le-cas-du-marche-transnational-de-la-reforme/
LOCATION:Pavillon Jean-Brillant (Université de Montréal)\, salle B-3285\, 3200\, rue Jean-Brillant\, Montréal\, Québec\, H3T 1N8\, Canada
ATTACH;FMTTYPE=image/png:https://eriqa.org/wp-content/uploads/2023/11/14-novembre-Amine-Brahimi.png
END:VEVENT
END:VCALENDAR