BEGIN:VCALENDAR
VERSION:2.0
PRODID:-//ÉRIQA - ECPv6.15.17//NONSGML v1.0//EN
CALSCALE:GREGORIAN
METHOD:PUBLISH
X-WR-CALNAME:ÉRIQA
X-ORIGINAL-URL:https://eriqa.org
X-WR-CALDESC:Événements pour ÉRIQA
REFRESH-INTERVAL;VALUE=DURATION:PT1H
X-Robots-Tag:noindex
X-PUBLISHED-TTL:PT1H
BEGIN:VTIMEZONE
TZID:America/New_York
BEGIN:DAYLIGHT
TZOFFSETFROM:-0500
TZOFFSETTO:-0400
TZNAME:EDT
DTSTART:20230312T070000
END:DAYLIGHT
BEGIN:STANDARD
TZOFFSETFROM:-0400
TZOFFSETTO:-0500
TZNAME:EST
DTSTART:20231105T060000
END:STANDARD
BEGIN:DAYLIGHT
TZOFFSETFROM:-0500
TZOFFSETTO:-0400
TZNAME:EDT
DTSTART:20240310T070000
END:DAYLIGHT
BEGIN:STANDARD
TZOFFSETFROM:-0400
TZOFFSETTO:-0500
TZNAME:EST
DTSTART:20241103T060000
END:STANDARD
BEGIN:DAYLIGHT
TZOFFSETFROM:-0500
TZOFFSETTO:-0400
TZNAME:EDT
DTSTART:20250309T070000
END:DAYLIGHT
BEGIN:STANDARD
TZOFFSETFROM:-0400
TZOFFSETTO:-0500
TZNAME:EST
DTSTART:20251102T060000
END:STANDARD
END:VTIMEZONE
BEGIN:VEVENT
DTSTART;TZID=America/New_York:20240313T110000
DTEND;TZID=America/New_York:20240313T121500
DTSTAMP:20260424T074753
CREATED:20240202T235345Z
LAST-MODIFIED:20240229T135001Z
UID:5570-1710327600-1710332100@eriqa.org
SUMMARY:Itinérance\, logement et migration précaire\, panel au 26ème Congrès Metropolis Canada
DESCRIPTION:Karine Côté-Boucher et Catherine Xhardez\, membres de l’ÉRIQA\, co-présideront un panel lors du 26ème Congrès Metropolis Canada\, mercredi 13 mars 2024. \nPanel A7 : Itinérance\, logement et migration précaire : nouveaux défis (veuillez noter que ce panel sera présenté en anglais) \nAu cours de l’année écoulée\, nous avons constaté une hausse du taux d’itinérance chez les demandeurs d’asile\, les sans-statut et les migrants précaires vivant à Montréal et à Toronto. Dans un contexte d’inflation et de crise du logement dans ces deux villes\, cette augmentation est une conséquence des politiques migratoires canadiennes qui fabriquent de la précarité. Cette situation crée de nouveaux défis pour le secteur des services sociaux qui est mal équipé pour aider cette clientèle et qui transfère le fardeau de la responsabilité sur les services communautaires. Cette table ronde réunit des prestataires de services communautaires et un chercheur qui apportera un éclairage sur les politiques publiques. La table ronde donnera lieu à un échange d’informations sur les leçons apprises et les stratégies de plaidoyer. \n\nCoprésidents du panel : Karine Côté-Boucher et Catherine Xhardez\, Université de Montréal\nChristina Clark-Kazak\, Université d’Ottawa\, Aperçu : Les intersections des politiques publiques en matière de logement et d’immigration\nEva Gracia-Turgeon\, Foyer du Monde\, La situation à Montréal (précarité des migrants)\nWayra Pasquis\, Médecins du Monde\, La situation à Montréal (itinérance)\nLoly Rico\, FCJ Refugee Centre\, La situation à Toronto (précarité des migrants)\nDiane Walter\, Margarets Housing and Community Services\, La situation à Toronto (itinérance)\n\nPour participer\, veuillez consulter les instructions d’inscription sur le site web de Metropolis ici.
URL:https://eriqa.org/evenement/itinerance-logement-et-migration-precaire-panel-au-26eme-congres-metropolis-canada/
LOCATION:Hotel Bonaventure Montréal\, Québec \, 900 Rue De la Gauchetière O\, Montréal\, QC H5A 1E4\, 900 Rue De la Gauchetière O\,\, Montréal\, Quebec\, Canada
ATTACH;FMTTYPE=image/png:https://eriqa.org/wp-content/uploads/2024/02/Metropolis-Canada-2024-thumbnail.png
END:VEVENT
END:VCALENDAR