BEGIN:VCALENDAR
VERSION:2.0
PRODID:-//ÉRIQA - ECPv6.15.17//NONSGML v1.0//EN
CALSCALE:GREGORIAN
METHOD:PUBLISH
X-WR-CALNAME:ÉRIQA
X-ORIGINAL-URL:https://eriqa.org
X-WR-CALDESC:Événements pour ÉRIQA
REFRESH-INTERVAL;VALUE=DURATION:PT1H
X-Robots-Tag:noindex
X-PUBLISHED-TTL:PT1H
BEGIN:VTIMEZONE
TZID:America/New_York
BEGIN:DAYLIGHT
TZOFFSETFROM:-0500
TZOFFSETTO:-0400
TZNAME:EDT
DTSTART:20250309T070000
END:DAYLIGHT
BEGIN:STANDARD
TZOFFSETFROM:-0400
TZOFFSETTO:-0500
TZNAME:EST
DTSTART:20251102T060000
END:STANDARD
BEGIN:DAYLIGHT
TZOFFSETFROM:-0500
TZOFFSETTO:-0400
TZNAME:EDT
DTSTART:20260308T070000
END:DAYLIGHT
BEGIN:STANDARD
TZOFFSETFROM:-0400
TZOFFSETTO:-0500
TZNAME:EST
DTSTART:20261101T060000
END:STANDARD
BEGIN:DAYLIGHT
TZOFFSETFROM:-0500
TZOFFSETTO:-0400
TZNAME:EDT
DTSTART:20270314T070000
END:DAYLIGHT
BEGIN:STANDARD
TZOFFSETFROM:-0400
TZOFFSETTO:-0500
TZNAME:EST
DTSTART:20271107T060000
END:STANDARD
END:VTIMEZONE
BEGIN:VEVENT
DTSTART;TZID=America/New_York:20260506T123000
DTEND;TZID=America/New_York:20260506T134500
DTSTAMP:20260423T113019
CREATED:20260403T142127Z
LAST-MODIFIED:20260406T194328Z
UID:6927-1778070600-1778075100@eriqa.org
SUMMARY:Grande conférence (SQSP)- Migrations et environnement: anciennes et nouvelles frontières de la souveraineté
DESCRIPTION:Dans le cadre du 63ème congrès de la Société québecoise de science politique\, L’ÉRIQA vous convie à la grande conférence Migrations et environnement : anciennes et nouvelles frontières de la souveraineté avec Benjamin Boudou\, professeur à l’Université de Rennes. Cet événement aura lieu le 6 mai 2026 de 12h30 à 13h45 au local B-1007 du Campus MIL de l’Université de Montréal. \nRésumé: \nÀ l’heure où le multilatéralisme se fragilise\, où la démocratie libérale est contestée et où la parole scientifique est de plus en plus disqualifiée dans l’espace public\, la science politique est confrontée à une alternative trompeuse : se réfugier dans la neutralité descriptive ou assumer un rôle prescriptif au risque de l’activisme. Je défendrai une autre voie : celle d’une science politique intrinsèquement pluraliste\, capable de rassembler enquête empirique\, clarification conceptuelle et évaluation normative. \nPour en montrer la nécessité\, je partirai de l’articulation de deux enjeux particulièrement politisés\, les migrations et le changement climatique\, autour d’un argument qui a émergé récemment dans certains programmes politiques comme dans des travaux universitaires selon lequel « au nom de la lutte contre le changement climatique\, il faut restreindre les migrations ». On peut l’appeler « écosouverainisme » : alors même que le dérèglement climatique semble remettre en cause la centralité des frontières nationales\, cet argument entreprend de « verdir » la souveraineté en combinant programme écologique progressiste et politiques migratoires restrictives. Il repose sur trois prémisses\, mêlant l’empirique et le normatif : a) la migration Sud-Nord augmente l’empreinte carbone des migrants ; b) les normes internationales visant à lutter contre le changement climatique sont des atteintes à l’autonomie des États-nations ; c) une véritable préoccupation environnementale exigerait de concevoir l’État-nation comme un écosystème vulnérable dont l’équilibre serait menacé par des flux migratoires excessifs. \nJe montrerai que ces trois prémisses reposent sur des simplifications empiriques\, une conception de la souveraineté inadéquate et une logique normative incohérente. En rassemblant ainsi ces registres\, on préserve toute la pertinence de la science politique sans négliger sa capacité critique nécessaire à « notre époque ». \n  \nConférencier \nBenjamin Boudou est professeur de science politique à l’Université de Rennes et chercheur à l’Institut du Droit Public et de la Science Politique (IDPSP). Il est rédacteur en chef de la revue Raisons politiques et fellow de l’Institut Convergences Migrations. Il est l’auteur de Politique de l’hospitalité. Une généalogie conceptuelle (CNRS Éd.\, 2017)\, Le dilemme des frontières. Éthique et politique de l’immigration (Éd de l’EHESS\, 2018) et il a co-dirigé le traité Théorie politique (Bruylant\, 2025) et The Politics of Democratic Representation: Enfranchisement and Participation Revisited (Routledge\, 2025). Ses travaux en théorie politique des migrations\, de la démocratie et de la citoyenneté ont été publiés dans Citizenship Studies\, European Journal of Political Theory\, ou Journal of Ethnic and Migration Studies. Il travaille actuellement à un ouvrage intitulé Démocratie migrante. Une théorie politique de l’inclusion. \n  \nInscription au Congrès  \nPour participer au congrès de la SQSP\, il est nécessaire de s’inscrire en ligne avant le 26 avril 2026. Le formulaire d’inscription est disponible ici. Toutes les personnes participantes doivent obligatoirement s’inscrire. Veuillez noter qu’il faut également être affilié à la SQSP. Plus d’informations sur le site web de la SQSP. \n 
URL:https://eriqa.org/evenement/grandeconf-sqsp-migration-environ/
LOCATION:Complexe des Sciences de l’Université de Montréal (Campus MIL)\, salle B-1007\, 1375 av. Thérèse-Lavoie-Roux\, Montréal\, H2V 0B3\, Canada
ATTACH;FMTTYPE=image/png:https://eriqa.org/wp-content/uploads/2026/04/affiches-SQSP.png
END:VEVENT
END:VCALENDAR