BEGIN:VCALENDAR
VERSION:2.0
PRODID:-//ÉRIQA - ECPv6.15.17//NONSGML v1.0//EN
CALSCALE:GREGORIAN
METHOD:PUBLISH
X-WR-CALNAME:ÉRIQA
X-ORIGINAL-URL:https://eriqa.org
X-WR-CALDESC:Événements pour ÉRIQA
REFRESH-INTERVAL;VALUE=DURATION:PT1H
X-Robots-Tag:noindex
X-PUBLISHED-TTL:PT1H
BEGIN:VTIMEZONE
TZID:America/New_York
BEGIN:DAYLIGHT
TZOFFSETFROM:-0500
TZOFFSETTO:-0400
TZNAME:EDT
DTSTART:20190310T070000
END:DAYLIGHT
BEGIN:STANDARD
TZOFFSETFROM:-0400
TZOFFSETTO:-0500
TZNAME:EST
DTSTART:20191103T060000
END:STANDARD
BEGIN:DAYLIGHT
TZOFFSETFROM:-0500
TZOFFSETTO:-0400
TZNAME:EDT
DTSTART:20200308T070000
END:DAYLIGHT
BEGIN:STANDARD
TZOFFSETFROM:-0400
TZOFFSETTO:-0500
TZNAME:EST
DTSTART:20201101T060000
END:STANDARD
BEGIN:DAYLIGHT
TZOFFSETFROM:-0500
TZOFFSETTO:-0400
TZNAME:EDT
DTSTART:20210314T070000
END:DAYLIGHT
BEGIN:STANDARD
TZOFFSETFROM:-0400
TZOFFSETTO:-0500
TZNAME:EST
DTSTART:20211107T060000
END:STANDARD
END:VTIMEZONE
BEGIN:VEVENT
DTSTART;TZID=America/New_York:20200213T120000
DTEND;TZID=America/New_York:20200213T133000
DTSTAMP:20260425T103449
CREATED:20230726T132739Z
LAST-MODIFIED:20230726T132739Z
UID:5257-1581595200-1581600600@eriqa.org
SUMMARY:Engagement civique et rapport à la citoyenneté chez les femmes immigrantes à Montréal : une étude exploratoire\, présenté par Alexandra Charette
DESCRIPTION:Cette thèse propose de mettre à l’étude les dimensions politiques de l’engagement civique des femmes immigrantes à Montréal. Elle veut mettre au jour le sens politique de l’engagement civique des femmes immigrantes\, qui représentent une large partie des personnes impliquées dans les organismes issus de la société civile à Montréal. Elle aborde\, également\, la manière dont les ces femmes établissent un rapport à la citoyenneté par l’entremise de leurs pratiques d’engagement civique. \nL’étude montre d’abord que la pratique de l’engagement civique représente rarement une forme alternative ou complémentaire d’action politique pour les femmes immigrantes (de tous statuts confondus). En effet\, cette forme de participation que l’on qualifie encore souvent de « participation politique informelle » représente davantage une stratégie de défense face à l’exclusion économique qu’une réponse à une forme d’exclusion de la citoyenneté politique (pour celles qui n’ont pas accès à des droits politiques)\, ou à une volonté des femmes immigrantes de faire entendre leur voix\, ou de prendre part à des débats sociaux ou politiques. \nL’événement est gratuit et ouvert à tous! Joignez-nous le 13 février de 12h00 à 13h30 pour découvrir cette recherche qui illumine une population trop souvent cachée. \nPour plus d’information\, visitez: https://www.concordia.ca/cuevents/artsci/cspi/2019/engagement-civique-et-rapport-a-la-citoyennete-chez-les-femmes-i.html
URL:https://eriqa.org/evenement/engagement-civique-et-rapport-a-la-citoyennete-chez-les-femmes-immigrantes-a-montreal-une-etude-exploratoire-presente-par-alexandra-charette/
LOCATION:Hall Building (Université Concordia)\, salle H-1220\, 1455 Boul. de Maisonneuve O.\, Montréal\, QC\, H3G 1M8\, Canada
ATTACH;FMTTYPE=image/png:https://eriqa.org/wp-content/uploads/2020/01/cepi-cspi-Edited.png
END:VEVENT
END:VCALENDAR