BEGIN:VCALENDAR
VERSION:2.0
PRODID:-//ÉRIQA - ECPv6.15.17//NONSGML v1.0//EN
CALSCALE:GREGORIAN
METHOD:PUBLISH
X-WR-CALNAME:ÉRIQA
X-ORIGINAL-URL:https://eriqa.org
X-WR-CALDESC:Événements pour ÉRIQA
REFRESH-INTERVAL;VALUE=DURATION:PT1H
X-Robots-Tag:noindex
X-PUBLISHED-TTL:PT1H
BEGIN:VTIMEZONE
TZID:America/New_York
BEGIN:DAYLIGHT
TZOFFSETFROM:-0500
TZOFFSETTO:-0400
TZNAME:EDT
DTSTART:20230312T070000
END:DAYLIGHT
BEGIN:STANDARD
TZOFFSETFROM:-0400
TZOFFSETTO:-0500
TZNAME:EST
DTSTART:20231105T060000
END:STANDARD
BEGIN:DAYLIGHT
TZOFFSETFROM:-0500
TZOFFSETTO:-0400
TZNAME:EDT
DTSTART:20240310T070000
END:DAYLIGHT
BEGIN:STANDARD
TZOFFSETFROM:-0400
TZOFFSETTO:-0500
TZNAME:EST
DTSTART:20241103T060000
END:STANDARD
BEGIN:DAYLIGHT
TZOFFSETFROM:-0500
TZOFFSETTO:-0400
TZNAME:EDT
DTSTART:20250309T070000
END:DAYLIGHT
BEGIN:STANDARD
TZOFFSETFROM:-0400
TZOFFSETTO:-0500
TZNAME:EST
DTSTART:20251102T060000
END:STANDARD
END:VTIMEZONE
BEGIN:VEVENT
DTSTART;TZID=America/New_York:20241007T123000
DTEND;TZID=America/New_York:20241007T133000
DTSTAMP:20260423T150115
CREATED:20240826T151637Z
LAST-MODIFIED:20240826T151637Z
UID:5744-1728304200-1728307800@eriqa.org
SUMMARY:Déplacements forcés : la perspective du HCR
DESCRIPTION:L’ÉRIQA et le CPDS vous présentent la troisième conférence du cycle Migrations et citoyennetés. Nous recevons Joey Hanna de l’Agence des Nations Unies pour les réfugiés (UNHCR). \nLa présentation a pour but de présenter le mandat\, la gouvernance\, ainsi que les instruments juridiques mobilisés par le HCR dans le cadre de son mandat de protection internationale. La présentation offrira également un éclairage sur les plus récentes statistiques en matière de déplacements forcés tout en présentant les défis et les obstacles auxquels les personnes déplacées de force\, ainsi que le HCR\, font face. \nJoey Hanna est membre du Barreau du Québec et occupe actuellement le poste de chef de bureau du HCR\, l’Agence des Nations Unies pour les réfugiés\, à Montréal. Avant de rejoindre le HCR en 2021\, Me Hanna exerçait la profession d’avocat à l’aide juridique de Montréal où il représentait des populations vulnérables\, notamment des personnes réfugiées et demandeuses d’asile\, devant les tribunaux en droit civil\, social et familial. En parallèle\, Me Hanna partageait son expertise en tant que chargé de cours à l’UQAM et professeur à l’École du Barreau du Québec. Il a enseigné le droit de la famille\, le droit des personnes\, la procédure civile\, ainsi que les aspects pratiques et théoriques de la rédaction\, de la négociation et de la consultation juridique.
URL:https://eriqa.org/evenement/deplacements-forces-la-perspective-du-hcr/
LOCATION:Pavillon Jean-Brillant (Université de Montréal)\, salle B-4345\, 3200 rue Jean-Brillant\, Montréal\, QC\, H3T 1N8\, Canada
ATTACH;FMTTYPE=image/png:https://eriqa.org/wp-content/uploads/2024/08/Joey-Hanna.png
END:VEVENT
END:VCALENDAR