BEGIN:VCALENDAR
VERSION:2.0
PRODID:-//ÉRIQA - ECPv6.15.17//NONSGML v1.0//EN
CALSCALE:GREGORIAN
METHOD:PUBLISH
X-WR-CALNAME:ÉRIQA
X-ORIGINAL-URL:https://eriqa.org
X-WR-CALDESC:Événements pour ÉRIQA
REFRESH-INTERVAL;VALUE=DURATION:PT1H
X-Robots-Tag:noindex
X-PUBLISHED-TTL:PT1H
BEGIN:VTIMEZONE
TZID:America/New_York
BEGIN:DAYLIGHT
TZOFFSETFROM:-0500
TZOFFSETTO:-0400
TZNAME:EDT
DTSTART:20220313T070000
END:DAYLIGHT
BEGIN:STANDARD
TZOFFSETFROM:-0400
TZOFFSETTO:-0500
TZNAME:EST
DTSTART:20221106T060000
END:STANDARD
BEGIN:DAYLIGHT
TZOFFSETFROM:-0500
TZOFFSETTO:-0400
TZNAME:EDT
DTSTART:20230312T070000
END:DAYLIGHT
BEGIN:STANDARD
TZOFFSETFROM:-0400
TZOFFSETTO:-0500
TZNAME:EST
DTSTART:20231105T060000
END:STANDARD
BEGIN:DAYLIGHT
TZOFFSETFROM:-0500
TZOFFSETTO:-0400
TZNAME:EDT
DTSTART:20240310T070000
END:DAYLIGHT
BEGIN:STANDARD
TZOFFSETFROM:-0400
TZOFFSETTO:-0500
TZNAME:EST
DTSTART:20241103T060000
END:STANDARD
END:VTIMEZONE
BEGIN:VEVENT
DTSTART;TZID=America/New_York:20231117T120000
DTEND;TZID=America/New_York:20231117T133000
DTSTAMP:20260424T182542
CREATED:20231013T115549Z
LAST-MODIFIED:20231023T193924Z
UID:5428-1700222400-1700227800@eriqa.org
SUMMARY:Couvrir l'immigration : Entre les réalités humaines\, les chiffres et la politique
DESCRIPTION:Rencontre avec Sarah Champagne\, journaliste au quotidien Le Devoir\, spécialiste des questions d’immigration\, et coproductrice du récent documentaire Essentiels \nVenez assister à un dialogue sur les défis et les coulisses de la couverture médiatique sur les enjeux d’immigration. \nAnimé par Danièle Bélanger et Adèle Garnier\, Chaire de recherche du Canada sur les dynamiques migratoires mondiales\, Département de géographie\, Université Laval \nL’événement aura lieu en version hybride: en personne au Pavillon Kruger de l’Université Laval (Québec)\, salle 2320\, ainsi qu’en ligne sur Zoom (inscrivez-vous ici). L’inscription est obligatoire pour obtenir le lien Zoom. L’inscription n’est toutefois pas requise pour assister en personne. \nSarah R. Champagne est journaliste pour Le Devoir et se penche sur l’immigration et les différents maillons de la chaîne alimentaire\, écrivant aussi sur les pesticides et l’environnement. Après avoir réalisé des reportages dans 16 pays sur quatre continents en français\, en anglais et en espagnol\, elle se concentre en ce moment sur des reportages qui peuvent faire changer des choses dans sa propre communauté\, le Québec. Elle détient une maîtrise de l’Université de Caroline du Nord\, grâce à une Bourse Rotary pour la paix et deux diplômes de premier cycle de l’Université de Montréal. Ses projets de longue haleine et d’enquête lui ont valu des bourses et des nominations au Prix Judith-Jasmin\, aux Prix canadiens d’excellence en publication numérique\, aux Grands prix du journalisme indépendant et au Overseas Press Club Foundation.
URL:https://eriqa.org/evenement/couvrir-limmigration-entre-les-realites-humaines-les-chiffres-et-la-politique/
LOCATION:Pavillon Kruger (Université Laval)\, salle 2320\, 2425 rue de la Terrasse\, Québec\, QC\, G1V 0A6\, Canada
ATTACH;FMTTYPE=image/jpeg:https://eriqa.org/wp-content/uploads/2023/10/affiche-conf_SARAH-CHAMPAGNE-pour-eriqa.jpg
END:VEVENT
END:VCALENDAR