BEGIN:VCALENDAR
VERSION:2.0
PRODID:-//ÉRIQA - ECPv6.15.17//NONSGML v1.0//EN
CALSCALE:GREGORIAN
METHOD:PUBLISH
X-WR-CALNAME:ÉRIQA
X-ORIGINAL-URL:https://eriqa.org
X-WR-CALDESC:Événements pour ÉRIQA
REFRESH-INTERVAL;VALUE=DURATION:PT1H
X-Robots-Tag:noindex
X-PUBLISHED-TTL:PT1H
BEGIN:VTIMEZONE
TZID:America/New_York
BEGIN:DAYLIGHT
TZOFFSETFROM:-0500
TZOFFSETTO:-0400
TZNAME:EDT
DTSTART:20240310T070000
END:DAYLIGHT
BEGIN:STANDARD
TZOFFSETFROM:-0400
TZOFFSETTO:-0500
TZNAME:EST
DTSTART:20241103T060000
END:STANDARD
BEGIN:DAYLIGHT
TZOFFSETFROM:-0500
TZOFFSETTO:-0400
TZNAME:EDT
DTSTART:20250309T070000
END:DAYLIGHT
BEGIN:STANDARD
TZOFFSETFROM:-0400
TZOFFSETTO:-0500
TZNAME:EST
DTSTART:20251102T060000
END:STANDARD
BEGIN:DAYLIGHT
TZOFFSETFROM:-0500
TZOFFSETTO:-0400
TZNAME:EDT
DTSTART:20260308T070000
END:DAYLIGHT
BEGIN:STANDARD
TZOFFSETFROM:-0400
TZOFFSETTO:-0500
TZNAME:EST
DTSTART:20261101T060000
END:STANDARD
END:VTIMEZONE
BEGIN:VEVENT
DTSTART;TZID=America/New_York:20251022T163000
DTEND;TZID=America/New_York:20251022T180000
DTSTAMP:20260423T150003
CREATED:20250916T205331Z
LAST-MODIFIED:20250924T144015Z
UID:6394-1761150600-1761156000@eriqa.org
SUMMARY:Conférence publique - "Citoyenneté suspecte": Appartenance et non-appartenance dans les sociétés pluralistes
DESCRIPTION:L’ÉRIQA et le Centre de recherche sur les politiques et le développement social (CPDS) ont le plaisir de recevoir Jean Beaman\, professeure agrégée en sociologie à l’Université de la ville de New York (CUNY)\, pour une conférence publique à l’Université de Montréal : \n“Citoyenneté suspecte”: Appartenance et non-appartenance dans les sociétés pluralistes \nSur la base d’années de recherche ethnographique sur le mouvement antiraciste actuel en France et la mobilisation contre les violences étatiques\, je présente un cadre conceptuel de « citoyenneté suspecte » qui montre comment les minorités racisées et ethnoculturelles sont constamment mises en marge d’une pleine inclusion sociale. Je soutiens que les sociétés pluralistes postcoloniales comme la France considèrent certaines populations comme « suspectes » ou « douteuses » en raison de leur appartenance ethnique et raciale. J’examine la « citoyenneté suspecte » au regard de la citoyenneté active\, de l’appartenance/non-appartenance\, de l’antiracisme à un niveau macro et de l’activisme contre la violence étatique. De plus\, je discute comment nous pouvons comprendre la manière dont les individus résistent à leur catégorisation comme suspects en examinant la mobilisation contre la violence étatique\, ainsi que la manière dont la citoyenneté suspecte existe sans reconnaissance étatique de la différence ethnoraciale. La citoyenneté suspecte est donc un cadre et un moyen permettant de comprendre et de donner un sens à la manière dont les hiérarchies coloniales sont maintenues dans les sociétés postcoloniales ou néocoloniales.   \nLa conférence sera suivie par des commentaires des professeurs Alexandra Ana (CDPS et département de sociologie\, Université de Montréal) et Chedly Belkhodja (ÉRIQA et Ecole des affaires publiques et communautaires\, Concordia). \nLa conférence sera sous format hybride et aura lieu le mercredi 22 octobre de 16h30 à 18h en personne au Campus MIL (Salle B-1007)\, et en ligne sur zoom. Dans les deux cas\, veuillez-vous inscrire en remplissant ce formulaire. \n  \nParticipant.es \nJean Beaman est professeure agrégée de sociologie au sein du programme de doctorat du Graduate Center de la City University of New York (CUNY). Elle rejoint le Graduate Center après avoir été professeure agrégée de sociologie à l’Université de Californie à Santa Barbara. Ses recherches sont de nature ethnographique et portent sur la race/l’ethnicité\, le racisme\, les migrations mondiales et la violence d’État en France (et en Europe occidentale) et aux États-Unis. \nAlexandra Ana est professeure adjointe au Département de sociologie de l’Université de Montréal. Diplômée en 2019 d’un doctorat en sciences politiques et sociologie de la Scuola Normale Superiore\, sa thèse portait sur l’ONGisation des mouvements féministes en Belgique et en Roumanie. Elle a ensuite été chercheuse postdoctorale Marie Skłodowska-Curie à l’Université Libre de Bruxelles (ULB)\, où elle a étudié la résistance aux mobilisations anti-genre et le rôle des coalitions dans une perspective comparative entre la France et la Roumanie. Ses recherches\, caractérisées par une approche interdisciplinaire\, comparative\, multi-niveaux et intersectionnelle\, portent sur la sociologie de l’action publique\, les mouvements sociaux\, les systèmes d’inégalités\, les études de genre et de sexualité\, la sociologie visuelle et les théories décoloniales. \nChedly Belkhodja est est professeur à l’École des affaires publiques et communautaires de l’Université Concordia. Ses recherches portent sur les questions de l’immigration dans les villes de taille moyenne et dans les régions de faible immigration\, des dynamiques de régionalisation au Québec et des discours et représentations de la diversité culturelle\, religieuse et ethnique. Il mène également une réflexion sur le phénomène du populisme et des nouvelles idéologies de la droite.
URL:https://eriqa.org/evenement/conference-jean-beaman/
LOCATION:Complexe des Sciences de l’Université de Montréal (Campus MIL)\, salle B-1007\, 1375 av. Thérèse-Lavoie-Roux\, Montréal\, H2V 0B3\, Canada
ATTACH;FMTTYPE=image/jpeg:https://eriqa.org/wp-content/uploads/2025/09/Affiche-22-oct-final-jpg-2.jpg
END:VEVENT
END:VCALENDAR