BEGIN:VCALENDAR
VERSION:2.0
PRODID:-//ÉRIQA - ECPv6.15.17//NONSGML v1.0//EN
CALSCALE:GREGORIAN
METHOD:PUBLISH
X-WR-CALNAME:ÉRIQA
X-ORIGINAL-URL:https://eriqa.org
X-WR-CALDESC:Événements pour ÉRIQA
REFRESH-INTERVAL;VALUE=DURATION:PT1H
X-Robots-Tag:noindex
X-PUBLISHED-TTL:PT1H
BEGIN:VTIMEZONE
TZID:America/New_York
BEGIN:DAYLIGHT
TZOFFSETFROM:-0500
TZOFFSETTO:-0400
TZNAME:EDT
DTSTART:20250309T070000
END:DAYLIGHT
BEGIN:STANDARD
TZOFFSETFROM:-0400
TZOFFSETTO:-0500
TZNAME:EST
DTSTART:20251102T060000
END:STANDARD
BEGIN:DAYLIGHT
TZOFFSETFROM:-0500
TZOFFSETTO:-0400
TZNAME:EDT
DTSTART:20260308T070000
END:DAYLIGHT
BEGIN:STANDARD
TZOFFSETFROM:-0400
TZOFFSETTO:-0500
TZNAME:EST
DTSTART:20261101T060000
END:STANDARD
BEGIN:DAYLIGHT
TZOFFSETFROM:-0500
TZOFFSETTO:-0400
TZNAME:EDT
DTSTART:20270314T070000
END:DAYLIGHT
BEGIN:STANDARD
TZOFFSETFROM:-0400
TZOFFSETTO:-0500
TZNAME:EST
DTSTART:20271107T060000
END:STANDARD
END:VTIMEZONE
BEGIN:VEVENT
DTSTART;TZID=America/New_York:20260507T140000
DTEND;TZID=America/New_York:20260507T153000
DTSTAMP:20260423T125511
CREATED:20260420T133724Z
LAST-MODIFIED:20260420T140007Z
UID:7127-1778162400-1778167800@eriqa.org
SUMMARY:Conférence- Frontières mouvantes et mobilisations avec Benjamin Boudou
DESCRIPTION:L’ÉRIQA est ravie de vous annoncer la sortie de la programmation de son cycle de conférence “Migrations et Citoyennetés“\, organisé par notre membre Catherine Xhardez\, directrice de l’ÉRIQA et professeure au département de science politique de l’Université de Montréal\, dans le cadre du cours POL2403 Immigration et multiculturalisme. \nPour cette première conférence\, l’ÉRIQA recevra Benjamin Boudou. Sa présentation\, “Frontières mouvantes et mobilisations”\, s’inscrira dans le cadre d’une séance dans le cadre d’une séance de théorie politique consacrée à une synthèse du débat normatif sur la justification des frontières en démocratie\, à partir de l’analyse des mobilisations pro et anti-migrants. \nLa présentation aura lieu le 7 mai à 14h au pavillon Jean-Brillant de l’Université de Montréal\, local B-4335. Cette conférence est ouverte au public. \nConférencier:  \nBenjamin Boudou\, professeur de science politique à l’Université de Rennes et chercheur à l’Institut du Droit Public et de la Science Politique (IDPSP). Il est rédacteur en chef de la revue Raisons politiques et fellow de l’Institut Convergences Migrations. Il est l’auteur de Politique de l’hospitalité. Une généalogie conceptuelle (CNRS Éd.\, 2017)\, Le dilemme des frontières. Éthique et politique de l’immigration (Éd de l’EHESS\, 2018) et il a co-dirigé le traité Théorie politique (Bruylant\, 2025) et The Politics of Democratic Representation: Enfranchisement and Participation Revisited (Routledge\, 2025). Ses travaux en théorie politique des migrations\, de la démocratie et de la citoyenneté ont été publiés dans Citizenship Studies\, European Journal of Political Theory\, ou Journal of Ethnic and Migration Studies. Il travaille actuellement à un ouvrage intitulé Démocratie migrante. Une théorie politique de l’inclusion.
URL:https://eriqa.org/evenement/conference-frontieres-mouvantes-et-mobilisations-avec-benjamin-boudou/
LOCATION:B-4335\, Pavillon Jean-Brillant\, Université de Montréal\, Montréal\, Québec\, Canada
ATTACH;FMTTYPE=image/png:https://eriqa.org/wp-content/uploads/2026/04/ERIQA-CPDS-tous-1.png
END:VEVENT
END:VCALENDAR