BEGIN:VCALENDAR
VERSION:2.0
PRODID:-//ÉRIQA - ECPv6.15.17//NONSGML v1.0//EN
CALSCALE:GREGORIAN
METHOD:PUBLISH
X-WR-CALNAME:ÉRIQA
X-ORIGINAL-URL:https://eriqa.org
X-WR-CALDESC:Événements pour ÉRIQA
REFRESH-INTERVAL;VALUE=DURATION:PT1H
X-Robots-Tag:noindex
X-PUBLISHED-TTL:PT1H
BEGIN:VTIMEZONE
TZID:America/New_York
BEGIN:DAYLIGHT
TZOFFSETFROM:-0500
TZOFFSETTO:-0400
TZNAME:EDT
DTSTART:20230312T070000
END:DAYLIGHT
BEGIN:STANDARD
TZOFFSETFROM:-0400
TZOFFSETTO:-0500
TZNAME:EST
DTSTART:20231105T060000
END:STANDARD
BEGIN:DAYLIGHT
TZOFFSETFROM:-0500
TZOFFSETTO:-0400
TZNAME:EDT
DTSTART:20240310T070000
END:DAYLIGHT
BEGIN:STANDARD
TZOFFSETFROM:-0400
TZOFFSETTO:-0500
TZNAME:EST
DTSTART:20241103T060000
END:STANDARD
BEGIN:DAYLIGHT
TZOFFSETFROM:-0500
TZOFFSETTO:-0400
TZNAME:EDT
DTSTART:20250309T070000
END:DAYLIGHT
BEGIN:STANDARD
TZOFFSETFROM:-0400
TZOFFSETTO:-0500
TZNAME:EST
DTSTART:20251102T060000
END:STANDARD
END:VTIMEZONE
BEGIN:VEVENT
DTSTART;TZID=America/New_York:20241107T123000
DTEND;TZID=America/New_York:20241107T140000
DTSTAMP:20260423T054401
CREATED:20241022T125337Z
LAST-MODIFIED:20241022T125337Z
UID:5908-1730982600-1730988000@eriqa.org
SUMMARY:Conférence du McGill Refugee Research Group et ISID: Heterogeneous welcome: Exploring the settlement of displaced Ukrainians in Canada
DESCRIPTION:Adèle Garnier\, membre ÉRIQA\, directrice générale du CELAT et professeure de géographie à l’Université Laval sera à Montréal le 7 novembre pour une conférence organisée par le McGill Refugee Research Group et l’Institute for the Study of International Development : Heterogeneous welcome: Exploring the settlement of displaced Ukrainians in Canada. \nCette présentation traitera d’un travail en cours : un projet financé par le CRSH et codirigé par Shauna Labman (U Winnipeg) sur l’établissement des Ukrainiens déplacés fuyant l’invasion russe de 2022 au Canada\, en mettant l’accent sur deux villes de taille moyenne : Québec et Winnipeg. Winnipeg est une ville très diversifiée qui accueille depuis longtemps une importante population ukrainienne\, alors que Québec est l’une des villes les moins diversifiées du Canada et que sa communauté ukrainienne est comparativement peu nombreuse. S’appuyant sur une analyse des politiques et sur plus de 40 entretiens avec des Ukrainiens déplacés et des acteurs de l’établissement\, l’article donnera un aperçu préliminaire de l’expérience de l’établissement dans les deux villes\, du rôle variable des gouvernements fédéral\, provinciaux et municipaux et des organisations d’établissement\, ainsi que des implications pour la gouvernance des réfugiés au Canada. \nThis presentation will discuss a work-in progress: a SSHRC-funded project co-led by Shauna Labman (U Winnipeg) on the settlement of displaced Ukrainians fleeing the Russian invasion of 2022 to Canada with a focus on two mid-sized cities: Quebec City and Winnipeg. Winnipeg is a very diverse city which has long welcomed a large Ukrainian population\, whereas Quebec City is one of Canada’s least diverse cities\, and its Ukrainian community is comparatively small. Drawing on policy analysis and more than 40 interviews with displaced Ukrainians and settlement stakeholders\, the paper will provide preliminary insights into settlement experience in the two cities\, the varying role of federal\, provincial and municipal government and settlement organizations\, and implications for Canada’s refugee governance. \nPlus d’informations sur la page web du McGill Refugee Research Group.
URL:https://eriqa.org/evenement/conference-du-mcgill-refugee-research-group-et-isid-heterogeneous-welcome-exploring-the-settlement-of-displaced-ukrainians-in-canada/
LOCATION:McGill Arts\, 160\, 853 Rue Sherbrooke O\, Montréal\, Québec\, H3A 2A7\, Canada
ATTACH;FMTTYPE=image/png:https://eriqa.org/wp-content/uploads/2024/10/Mcgill-refugee-research-group-7-novembre.png
END:VEVENT
END:VCALENDAR