BEGIN:VCALENDAR
VERSION:2.0
PRODID:-//ÉRIQA - ECPv6.15.17//NONSGML v1.0//EN
CALSCALE:GREGORIAN
METHOD:PUBLISH
X-WR-CALNAME:ÉRIQA
X-ORIGINAL-URL:https://eriqa.org
X-WR-CALDESC:Événements pour ÉRIQA
REFRESH-INTERVAL;VALUE=DURATION:PT1H
X-Robots-Tag:noindex
X-PUBLISHED-TTL:PT1H
BEGIN:VTIMEZONE
TZID:America/New_York
BEGIN:DAYLIGHT
TZOFFSETFROM:-0500
TZOFFSETTO:-0400
TZNAME:EDT
DTSTART:20250309T070000
END:DAYLIGHT
BEGIN:STANDARD
TZOFFSETFROM:-0400
TZOFFSETTO:-0500
TZNAME:EST
DTSTART:20251102T060000
END:STANDARD
BEGIN:DAYLIGHT
TZOFFSETFROM:-0500
TZOFFSETTO:-0400
TZNAME:EDT
DTSTART:20260308T070000
END:DAYLIGHT
BEGIN:STANDARD
TZOFFSETFROM:-0400
TZOFFSETTO:-0500
TZNAME:EST
DTSTART:20261101T060000
END:STANDARD
BEGIN:DAYLIGHT
TZOFFSETFROM:-0500
TZOFFSETTO:-0400
TZNAME:EDT
DTSTART:20270314T070000
END:DAYLIGHT
BEGIN:STANDARD
TZOFFSETFROM:-0400
TZOFFSETTO:-0500
TZNAME:EST
DTSTART:20271107T060000
END:STANDARD
END:VTIMEZONE
BEGIN:VEVENT
DTSTART;TZID=America/New_York:20260415T123000
DTEND;TZID=America/New_York:20260415T140000
DTSTAMP:20260423T113016
CREATED:20260407T212353Z
LAST-MODIFIED:20260408T173403Z
UID:7023-1776256200-1776261600@eriqa.org
SUMMARY:Conférence - De la théorie critique au terrain\, et vice-versa : le droit migratoire raconté par les personnes en transit à Mexico
DESCRIPTION:Le Centre de recherche interdisciplinaire sur la diversité et la démocratie (CRIDAQ) et la Chaire de recherche du Canada sur la gouvernance sécuritaire des corps\, la mobilité et les frontières (GSCMF)\, dirigée par Anne-Marie D’Aoust (UQAM\, ÉRIQA)\, organisent une conférence qui s’intéressera aux trajectoires migratoires de personnes en transit au Mexique. Cette conférence accueillera Noémie Boivin\, chercheure postdoctorale Banting à la Faculté de droit de l’Université de Sherbrooke. Elle est également coordonnatrice du Laboratoire pour la recherche critique en droit et chercheure associée à la Chaire de recherche sur la protection des personnes migrantes et le droit international. \nLa présentation aura lieu le mercredi 15 avril 2026 de 12h30 à 14h00\, sur zoom ainsi qu’en présentiel au local R-3465 du pavillon des sciences de la gestion de l’Université du Québec à Montréal. Plus d’informations et inscription obligatoire ici. \nRésumé: Au Mexique\, plusieurs personnes originaires de l’Amérique centrale et du Sud ont interrompu momentanément ou définitivement leur itinéraire migratoire. Les personnes rencontrées dans le cadre d’une recherche terrain en 2025 se trouvent pour la plupart dans une situation d’irrégularité migratoire ou en attente d’une décision quant à leur statut au Mexique. Si certains ont décidé d’entamer des procédures de régularisation par la demande d’asile\, d’autres adoptent plutôt une posture d’observation et d’attente. Les plus déterminés persistent à passer la frontière avec les États-Unis\, malgré l’exposition au crime organisé et le risque de détention et d’expulsion. Dans cette présentation\, j’exposerai d’abord le processus qui a alimenté la construction d’un cadre théorique décolonial pour aborder cette problématique d’un point de vue juridique. J’élaborerai ensuite sur les façons dont celui-ci a éclairé mon approche ethnographique. Enfin\, je présenterai quelques résultats préliminaires de la recherche et pistes de réflexion afin d’explorer comment le droit migratoire narré par les personnes rencontrées à Mexico peut informer la théorie à son tour. 
URL:https://eriqa.org/evenement/conference-de-la-theorie-critique-au-terrain-et-vice-versa-le-droit-migratoire-raconte-par-les-personnes-en-transit-a-mexico/
LOCATION:R-3465\, Université du Québec à Montréal\, 315\, rue Sainte-Catherine Est\, Montréal\, Québec\, H2X 3X2\, Canada
ATTACH;FMTTYPE=image/jpeg:https://eriqa.org/wp-content/uploads/2026/04/photo-conference-15-avril.jpg
END:VEVENT
END:VCALENDAR