BEGIN:VCALENDAR
VERSION:2.0
PRODID:-//ÉRIQA - ECPv6.15.17//NONSGML v1.0//EN
CALSCALE:GREGORIAN
METHOD:PUBLISH
X-WR-CALNAME:ÉRIQA
X-ORIGINAL-URL:https://eriqa.org
X-WR-CALDESC:Événements pour ÉRIQA
REFRESH-INTERVAL;VALUE=DURATION:PT1H
X-Robots-Tag:noindex
X-PUBLISHED-TTL:PT1H
BEGIN:VTIMEZONE
TZID:America/New_York
BEGIN:DAYLIGHT
TZOFFSETFROM:-0500
TZOFFSETTO:-0400
TZNAME:EDT
DTSTART:20230312T070000
END:DAYLIGHT
BEGIN:STANDARD
TZOFFSETFROM:-0400
TZOFFSETTO:-0500
TZNAME:EST
DTSTART:20231105T060000
END:STANDARD
BEGIN:DAYLIGHT
TZOFFSETFROM:-0500
TZOFFSETTO:-0400
TZNAME:EDT
DTSTART:20240310T070000
END:DAYLIGHT
BEGIN:STANDARD
TZOFFSETFROM:-0400
TZOFFSETTO:-0500
TZNAME:EST
DTSTART:20241103T060000
END:STANDARD
BEGIN:DAYLIGHT
TZOFFSETFROM:-0500
TZOFFSETTO:-0400
TZNAME:EDT
DTSTART:20250309T070000
END:DAYLIGHT
BEGIN:STANDARD
TZOFFSETFROM:-0400
TZOFFSETTO:-0500
TZNAME:EST
DTSTART:20251102T060000
END:STANDARD
END:VTIMEZONE
BEGIN:VEVENT
DTSTART;TZID=America/New_York:20241106T124500
DTEND;TZID=America/New_York:20241106T140000
DTSTAMP:20260423T065730
CREATED:20241022T123043Z
LAST-MODIFIED:20241022T123043Z
UID:5904-1730897100-1730901600@eriqa.org
SUMMARY:Conférence d’Adèle Garnier « Réflexion sur l’échange et le partage dans la recherche sur les migrations forcées au Canada et au Québec »
DESCRIPTION:Le CELAT a le plaisir de vous inviter à la conférence « Réflexion sur l’échange et le partage dans la recherche sur les migrations forcées au Canada et au Québec »\, que présentera Adèle Garnier\, membre ÉRIQA\, directrice générale du CELAT et professeure de géographie à l’Université Laval\, le mercredi 6 novembre\, de 12 h 45 à 14 h\, dans les locaux du CELAT-UQAM (salle DC-2300).  \nRésumé de la conférence par Adèle Garnier \nCette présentation abordera plusieurs de mes projets de recherche sur les migrations forcées au Québec et au Canada\, en y questionnant comment on travaille ensemble dans le domaine. J’aborderai la collaboration interdisciplinaire et plurilingue\, ainsi que certains enjeux de cocréation et de dissémination des savoirs\, dans le contexte de trois projets de recherche : un projet que je codirige avec Shauna Labman (U. Winnipeg) sur l’accueil des déplacés ukrainiens dans les villes de Québec et de Winnipeg; l’adaptation en français du nouvel ouvrage dirigé par Christina Clark-Kazak (U. Ottawa)\, Forced Migation in/to Canada; et enfin\, un projet pilote CELAT dans des écoles primaires de la ville de Québec d’activité pédagogique sur le déracinement\, qui implique des chercheurs académiques\, des enfants et le milieu scolaire. Cette réflexion souhaite stimuler une discussion plus large sur la nouvelle programmation du CELAT\, “Faire monde : les devenirs de la pluralisation” ». \nLa conférence est ouverte à toutes et tous ! Plus d’informations sur la page web de l’événement. 
URL:https://eriqa.org/evenement/conference-dadele-garnier-reflexion-sur-lechange-et-le-partage-dans-la-recherche-sur-les-migrations-forcees-au-canada-et-au-quebec/
LOCATION:CELAT-UQAM\, salle DC-2300\, 279\, rue Sainte-Catherine Est\, 2e étage\, Montréal\, Québec\, H2X1L5\, Canada
ATTACH;FMTTYPE=image/jpeg:https://eriqa.org/wp-content/uploads/2024/10/conference-6-novembre-Adele.jpg
END:VEVENT
END:VCALENDAR