BEGIN:VCALENDAR
VERSION:2.0
PRODID:-//ÉRIQA - ECPv6.15.17//NONSGML v1.0//EN
CALSCALE:GREGORIAN
METHOD:PUBLISH
X-WR-CALNAME:ÉRIQA
X-ORIGINAL-URL:https://eriqa.org
X-WR-CALDESC:Événements pour ÉRIQA
REFRESH-INTERVAL;VALUE=DURATION:PT1H
X-Robots-Tag:noindex
X-PUBLISHED-TTL:PT1H
BEGIN:VTIMEZONE
TZID:America/New_York
BEGIN:DAYLIGHT
TZOFFSETFROM:-0500
TZOFFSETTO:-0400
TZNAME:EDT
DTSTART:20230312T070000
END:DAYLIGHT
BEGIN:STANDARD
TZOFFSETFROM:-0400
TZOFFSETTO:-0500
TZNAME:EST
DTSTART:20231105T060000
END:STANDARD
BEGIN:DAYLIGHT
TZOFFSETFROM:-0500
TZOFFSETTO:-0400
TZNAME:EDT
DTSTART:20240310T070000
END:DAYLIGHT
BEGIN:STANDARD
TZOFFSETFROM:-0400
TZOFFSETTO:-0500
TZNAME:EST
DTSTART:20241103T060000
END:STANDARD
BEGIN:DAYLIGHT
TZOFFSETFROM:-0500
TZOFFSETTO:-0400
TZNAME:EDT
DTSTART:20250309T070000
END:DAYLIGHT
BEGIN:STANDARD
TZOFFSETFROM:-0400
TZOFFSETTO:-0500
TZNAME:EST
DTSTART:20251102T060000
END:STANDARD
END:VTIMEZONE
BEGIN:VEVENT
DTSTART;VALUE=DATE:20240514
DTEND;VALUE=DATE:20240517
DTSTAMP:20260424T003610
CREATED:20240208T154356Z
LAST-MODIFIED:20240319T174612Z
UID:5590-1715644800-1715903999@eriqa.org
SUMMARY:Colloque ÉRIQA à l'ACFAS : L'immigration au Québec et ailleurs : complexité des trajectoires
DESCRIPTION:Du 14 au 16 mai prochains\, les membres ÉRIQA Adèle Garnier et Mireille Paquet organisent un colloque intitulé “L’immigration au Québec et ailleurs : complexité des trajectoires” dans le cadre du 91e Congrès de l’ACFAS. \nDécouvrez-en la programmation ici.
URL:https://eriqa.org/evenement/colloque-eriqa-a-lacfas-limmigration-au-quebec-et-ailleurs-complexite-des-trajectoires/
LOCATION:Université d’Ottawa\, 75 Laurier Ave E\, Ottawa\, Ontario\, K1N 6N5\, Canada
ATTACH;FMTTYPE=image/png:https://eriqa.org/wp-content/uploads/2024/02/91econgres_visuel_rs_1200x630_1.png
END:VEVENT
END:VCALENDAR