BEGIN:VCALENDAR
VERSION:2.0
PRODID:-//ÉRIQA - ECPv6.15.17//NONSGML v1.0//EN
CALSCALE:GREGORIAN
METHOD:PUBLISH
X-WR-CALNAME:ÉRIQA
X-ORIGINAL-URL:https://eriqa.org
X-WR-CALDESC:Événements pour ÉRIQA
REFRESH-INTERVAL;VALUE=DURATION:PT1H
X-Robots-Tag:noindex
X-PUBLISHED-TTL:PT1H
BEGIN:VTIMEZONE
TZID:America/New_York
BEGIN:DAYLIGHT
TZOFFSETFROM:-0500
TZOFFSETTO:-0400
TZNAME:EDT
DTSTART:20240310T070000
END:DAYLIGHT
BEGIN:STANDARD
TZOFFSETFROM:-0400
TZOFFSETTO:-0500
TZNAME:EST
DTSTART:20241103T060000
END:STANDARD
BEGIN:DAYLIGHT
TZOFFSETFROM:-0500
TZOFFSETTO:-0400
TZNAME:EDT
DTSTART:20250309T070000
END:DAYLIGHT
BEGIN:STANDARD
TZOFFSETFROM:-0400
TZOFFSETTO:-0500
TZNAME:EST
DTSTART:20251102T060000
END:STANDARD
BEGIN:DAYLIGHT
TZOFFSETFROM:-0500
TZOFFSETTO:-0400
TZNAME:EDT
DTSTART:20260308T070000
END:DAYLIGHT
BEGIN:STANDARD
TZOFFSETFROM:-0400
TZOFFSETTO:-0500
TZNAME:EST
DTSTART:20261101T060000
END:STANDARD
END:VTIMEZONE
BEGIN:VEVENT
DTSTART;VALUE=DATE:20251016
DTEND;VALUE=DATE:20251018
DTSTAMP:20260423T180520
CREATED:20250628T211903Z
LAST-MODIFIED:20250905T190225Z
UID:6310-1760572800-1760745599@eriqa.org
SUMMARY:Colloque annuel RQ3i - Les transformations en 3i au Québec
DESCRIPTION:Le Réseau québécois de la recherche en immigration\, en intégration et en relations interculturelles (RQ3i) organise son premier colloque annuel\, qui se tiendra à Montréal à les 16 et 17 octobre 2025. \nLe colloque\, qui rassemblera les membres cochercheurs\, partenaires et étudiants\, constitue une occasion privilégiée de se réunir et d’échanger autour des recherches en cours ou d’en initier de nouvelles. Le thème de cette année – Les transformations en 3i au Québec – se veut exceptionnellement large afin d’explorer une variété d’enjeux et de mouvances en 3i. Plusieurs membres de l’ÉRIQA seront présents pour présenter leurs recherches. \nPlus d’informations sur la programmation à venir… \nCréé à l’automne 2024\, le RQ3i regroupe des chercheur·es\, partenaires communautaires\, institutions\, étudiant·es et collaborateurs qui souhaitent réfléchir collectivement à la manière dont les enjeux d’immigration\, d’intégration et d’interculturalité transforment la société québécoise.
URL:https://eriqa.org/evenement/colloque-annuel-rq3i-les-transformations-en-3i-au-quebec/
LOCATION:Montréal
ATTACH;FMTTYPE=image/png:https://eriqa.org/wp-content/uploads/2025/06/rq3i_logo_rq3i_logo_complet_horizontal_couleur_fondblanc-.png
END:VEVENT
END:VCALENDAR