BEGIN:VCALENDAR
VERSION:2.0
PRODID:-//ÉRIQA - ECPv6.15.17//NONSGML v1.0//EN
CALSCALE:GREGORIAN
METHOD:PUBLISH
X-WR-CALNAME:ÉRIQA
X-ORIGINAL-URL:https://eriqa.org
X-WR-CALDESC:Événements pour ÉRIQA
REFRESH-INTERVAL;VALUE=DURATION:PT1H
X-Robots-Tag:noindex
X-PUBLISHED-TTL:PT1H
BEGIN:VTIMEZONE
TZID:America/New_York
BEGIN:DAYLIGHT
TZOFFSETFROM:-0500
TZOFFSETTO:-0400
TZNAME:EDT
DTSTART:20230312T070000
END:DAYLIGHT
BEGIN:STANDARD
TZOFFSETFROM:-0400
TZOFFSETTO:-0500
TZNAME:EST
DTSTART:20231105T060000
END:STANDARD
BEGIN:DAYLIGHT
TZOFFSETFROM:-0500
TZOFFSETTO:-0400
TZNAME:EDT
DTSTART:20240310T070000
END:DAYLIGHT
BEGIN:STANDARD
TZOFFSETFROM:-0400
TZOFFSETTO:-0500
TZNAME:EST
DTSTART:20241103T060000
END:STANDARD
BEGIN:DAYLIGHT
TZOFFSETFROM:-0500
TZOFFSETTO:-0400
TZNAME:EDT
DTSTART:20250309T070000
END:DAYLIGHT
BEGIN:STANDARD
TZOFFSETFROM:-0400
TZOFFSETTO:-0500
TZNAME:EST
DTSTART:20251102T060000
END:STANDARD
END:VTIMEZONE
BEGIN:VEVENT
DTSTART;TZID=America/New_York:20240222T160000
DTEND;TZID=America/New_York:20240222T183000
DTSTAMP:20260424T093446
CREATED:20240117T160204Z
LAST-MODIFIED:20240229T162931Z
UID:5547-1708617600-1708626600@eriqa.org
SUMMARY:CINÉ-CLUB DE L’ÉRIQA PRÉSENTE : RICHELIEU (2023)
DESCRIPTION:L’ÉRIQA vous invite à la projection du film Richelieu (2023) suivie d’une discussion avec le réalisateur du film Pier-Philippe Chevigny et Mylène Coderre\, PhD\, chercheure. \nL’événement aura lieu le 22 février 2024 à 16h dans la salle C-1017-02\, Pavillon Lionel-Groulx (Carrefour des arts et des sciences) de l’Université de Montréal. \n16h00 : Projection du film Richelieu  \nFraîchement sortie d’une rupture avec son copain\, Ariane (Ariane Castellanos) risque de perdre son condo si elle ne trouve pas de moyen de payer son hypothèque. Saisissant la première opportunité qui lui est offerte par une amie\, elle se retrouve à travailler pour Stéphane (Marc-André Grondin)\, un employeur austère et insensible. En tant qu’interprète pour les travailleurs saisonniers guatémaltèques\, Ariane n’a que très peu d’influence sur leur sort et se doit malgré elle d’observer l’horrible traitement qu’ils subissent. Elle se lie pourtant d’amitié avec les hommes\, et devra éventuellement faire face aux limites qu’elle est prête à franchir au nom de la justice. \n17h30 : Discussion \nParticipant.e.s : \nPier-Philippe Chevigny est un réalisateur\, cinéaste et monteur canadien. Richelieu est son premier long métrage.  \nMylène Coderre détient un doctorat en développement international de l’Université d’Ottawa. Elle est chercheure et conseillère scientifique spécialisée sur les enjeux de la migration de travail temporaire. \n  \nCiné-club organisé par Catherine Xhardez (UdeM) et Chedly Belkhodja (Concordia)
URL:https://eriqa.org/evenement/cine-club-richelieu/
LOCATION:Pavillion Lionel-Groulx\, Salle C-1017-02 (Carrefour des arts et des sciences)\, 3150\, rue Jean-Brillant\, Montréal\, Quebec\, Canada
ATTACH;FMTTYPE=image/png:https://eriqa.org/wp-content/uploads/2024/01/V1.png
END:VEVENT
END:VCALENDAR