BEGIN:VCALENDAR
VERSION:2.0
PRODID:-//ÉRIQA - ECPv6.15.17//NONSGML v1.0//EN
CALSCALE:GREGORIAN
METHOD:PUBLISH
X-WR-CALNAME:ÉRIQA
X-ORIGINAL-URL:https://eriqa.org
X-WR-CALDESC:Événements pour ÉRIQA
REFRESH-INTERVAL;VALUE=DURATION:PT1H
X-Robots-Tag:noindex
X-PUBLISHED-TTL:PT1H
BEGIN:VTIMEZONE
TZID:America/New_York
BEGIN:DAYLIGHT
TZOFFSETFROM:-0500
TZOFFSETTO:-0400
TZNAME:EDT
DTSTART:20230312T070000
END:DAYLIGHT
BEGIN:STANDARD
TZOFFSETFROM:-0400
TZOFFSETTO:-0500
TZNAME:EST
DTSTART:20231105T060000
END:STANDARD
BEGIN:DAYLIGHT
TZOFFSETFROM:-0500
TZOFFSETTO:-0400
TZNAME:EDT
DTSTART:20240310T070000
END:DAYLIGHT
BEGIN:STANDARD
TZOFFSETFROM:-0400
TZOFFSETTO:-0500
TZNAME:EST
DTSTART:20241103T060000
END:STANDARD
BEGIN:DAYLIGHT
TZOFFSETFROM:-0500
TZOFFSETTO:-0400
TZNAME:EDT
DTSTART:20250309T070000
END:DAYLIGHT
BEGIN:STANDARD
TZOFFSETFROM:-0400
TZOFFSETTO:-0500
TZNAME:EST
DTSTART:20251102T060000
END:STANDARD
END:VTIMEZONE
BEGIN:VEVENT
DTSTART;TZID=America/New_York:20240213T120000
DTEND;TZID=America/New_York:20240213T130000
DTSTAMP:20260424T114251
CREATED:20240123T194153Z
LAST-MODIFIED:20240123T194153Z
UID:5556-1707825600-1707829200@eriqa.org
SUMMARY:Beyond Scales and Levels: Why mayors become glocal bureaucrats and how cities deal with migration in Germany
DESCRIPTION:La Chaire de recherche du Canada sur les dynamiques migratoires mondiales\, conjointement avec l’ÉRIQA\, vous invite à une présentation en anglais par la professeure Felicitas Hillmann de l’Université technique de Berlin (TUBerlin). Cette présentation se déroulera en mode hybride le mardi 13 février prochain. Vous pouvez y assister en personne à la salle 2376 du pavillon Kruger de l’Université Laval à Québec ou en ligne sur Zoom en cliquant ici. \nWith the arrival of large numbers of refugees from Ukraine to Germany\, many municipalities signalled that they were overburdened with the integration of even more people into their social infrastructure and into already tensed housing markets. Towns and cities expressed that felt left alone by federal policies. This development points to salient contradictory practises in migration governance. For many years those contradictions had been spelled out mainly on the local level. Yet\, negotiations on how cities possibly can deal with various types of migration\, stretch beyond scales and levels. In a way\, they increasingly tend to perforate multi-level governance with practises by civil society stakeholders as well as privately organised migration industries. Interviews with mayors and experts in the settlement sector in the state Brandenburg on their role when Syrian refugees arrived in 2015 – 2017 suggest that their position was somewhat transformed into becoming “glocal bureaucrats” – intermediating between the local population\, the refugees and administration. My talk presents conceptual work on the changing role of cities within migration governance and in its second part presents the findings on how the role of mayors in an East German state\, Brandenburg\, in the years 2015 – 2017 transformed and indicates such perforation of scales and levels. The discussion will allow for a comparative discussion on the situation in Germany and Canada.
URL:https://eriqa.org/evenement/beyond-scales-and-levels-why-mayors-become-glocal-bureaucrats-and-how-cities-deal-with-migration-in-germany/
LOCATION:Pavillon Kruger (Université Laval)\, salle 2376\, 2425 rue De la Terrasse\, Québec\, QC\, G1V 0A6\, Canada
ATTACH;FMTTYPE=image/jpeg:https://eriqa.org/wp-content/uploads/2024/01/conf_Felicitas_Hillman.jpg
END:VEVENT
END:VCALENDAR