BEGIN:VCALENDAR
VERSION:2.0
PRODID:-//ÉRIQA - ECPv6.15.17//NONSGML v1.0//EN
CALSCALE:GREGORIAN
METHOD:PUBLISH
X-WR-CALNAME:ÉRIQA
X-ORIGINAL-URL:https://eriqa.org
X-WR-CALDESC:Événements pour ÉRIQA
REFRESH-INTERVAL;VALUE=DURATION:PT1H
X-Robots-Tag:noindex
X-PUBLISHED-TTL:PT1H
BEGIN:VTIMEZONE
TZID:America/New_York
BEGIN:DAYLIGHT
TZOFFSETFROM:-0500
TZOFFSETTO:-0400
TZNAME:EDT
DTSTART:20190310T070000
END:DAYLIGHT
BEGIN:STANDARD
TZOFFSETFROM:-0400
TZOFFSETTO:-0500
TZNAME:EST
DTSTART:20191103T060000
END:STANDARD
BEGIN:DAYLIGHT
TZOFFSETFROM:-0500
TZOFFSETTO:-0400
TZNAME:EDT
DTSTART:20200308T070000
END:DAYLIGHT
BEGIN:STANDARD
TZOFFSETFROM:-0400
TZOFFSETTO:-0500
TZNAME:EST
DTSTART:20201101T060000
END:STANDARD
BEGIN:DAYLIGHT
TZOFFSETFROM:-0500
TZOFFSETTO:-0400
TZNAME:EDT
DTSTART:20210314T070000
END:DAYLIGHT
BEGIN:STANDARD
TZOFFSETFROM:-0400
TZOFFSETTO:-0500
TZNAME:EST
DTSTART:20211107T060000
END:STANDARD
END:VTIMEZONE
BEGIN:VEVENT
DTSTART;TZID=America/New_York:20200205T153000
DTEND;TZID=America/New_York:20200205T170000
DTSTAMP:20260425T103448
CREATED:20230726T133837Z
LAST-MODIFIED:20230726T133837Z
UID:5265-1580916600-1580922000@eriqa.org
SUMMARY:Attachements nationaux et attitudes envers la diversité ethnoculturelle dans les provinces canadiennes\, présentation d’Antoine Bilodeau\, Audrey Gagnon\, Stephen White\, Luc Turgeon et Alisa Henderson
DESCRIPTION:Bien que de nombreuses études observent une relation entre la force de l’attachement national et les attitudes à l’égard de la diversité ethnoculturelle\, peu d’attention a été accordée au fait que l’attachement ne s’exprime pas seulement à l’échelle nationale. Dans les États fédéraux\, les populations peuvent exprimer leur attachement au pays et à ses unités territoriales (États\, provinces\, länder…). Il en va de même dans les États multinationaux où l’expression de l’attachement au pays et l’attachement à la nation minoritaire peuvent même s’opposer l’un à l’autre. Par conséquent\, cette étude examine la relation entre l’attachement et les attitudes envers la diversité ethnoculturelle dans les contextes de communautés politiques à plusieurs niveaux. Nous soutenons que pour mieux tenir compte de la relation entre la force de l’attachement et les attitudes envers la diversité ethnoculturelle dans les communautés politiques à plusieurs niveaux\, les chercheurs doivent tenir compte de la double expression de l’attachement au pays (national) et de l’attachement à ses unités territoriales (sous-national). Le cas du Canada est examiné. \nL’évènement est gratuit et ouvert à tous! Joignez-nous le 5 février de 15h30 à 17h00 pour en apprendre plus sur ce sujet fascinant. \nPour plus d’informations\, visitez: https://www.concordia.ca/cuevents/artsci/cspi/2019/attachements-nationaux-et-attitudes-envers-la-diversite-ethnocul.html
URL:https://eriqa.org/evenement/attachements-nationaux-et-attitudes-envers-la-diversite-ethnoculturelle-dans-les-provinces-canadiennes-presentation-dantoine-bilodeau-audrey-gagnon-stephen-white-luc-turgeon-et-alisa-hend/
LOCATION:Hall Building (Université Concordia)\, salle H-1220\, 1455 Boul. de Maisonneuve O.\, Montréal\, QC\, H3G 1M8\, Canada
ATTACH;FMTTYPE=image/png:https://eriqa.org/wp-content/uploads/2020/01/cepi-cspi-Edited.png
END:VEVENT
END:VCALENDAR