BEGIN:VCALENDAR
VERSION:2.0
PRODID:-//ÉRIQA - ECPv6.15.17//NONSGML v1.0//EN
CALSCALE:GREGORIAN
METHOD:PUBLISH
X-WR-CALNAME:ÉRIQA
X-ORIGINAL-URL:https://eriqa.org
X-WR-CALDESC:Événements pour ÉRIQA
REFRESH-INTERVAL;VALUE=DURATION:PT1H
X-Robots-Tag:noindex
X-PUBLISHED-TTL:PT1H
BEGIN:VTIMEZONE
TZID:America/New_York
BEGIN:DAYLIGHT
TZOFFSETFROM:-0500
TZOFFSETTO:-0400
TZNAME:EDT
DTSTART:20190310T070000
END:DAYLIGHT
BEGIN:STANDARD
TZOFFSETFROM:-0400
TZOFFSETTO:-0500
TZNAME:EST
DTSTART:20191103T060000
END:STANDARD
BEGIN:DAYLIGHT
TZOFFSETFROM:-0500
TZOFFSETTO:-0400
TZNAME:EDT
DTSTART:20200308T070000
END:DAYLIGHT
BEGIN:STANDARD
TZOFFSETFROM:-0400
TZOFFSETTO:-0500
TZNAME:EST
DTSTART:20201101T060000
END:STANDARD
BEGIN:DAYLIGHT
TZOFFSETFROM:-0500
TZOFFSETTO:-0400
TZNAME:EDT
DTSTART:20210314T070000
END:DAYLIGHT
BEGIN:STANDARD
TZOFFSETFROM:-0400
TZOFFSETTO:-0500
TZNAME:EST
DTSTART:20211107T060000
END:STANDARD
END:VTIMEZONE
BEGIN:VEVENT
DTSTART;TZID=America/New_York:20200130T124500
DTEND;TZID=America/New_York:20200130T141500
DTSTAMP:20260425T103448
CREATED:20230726T134245Z
LAST-MODIFIED:20230726T134245Z
UID:5267-1580388300-1580393700@eriqa.org
SUMMARY:Atelier : Les entrevues dans la recherche en immigration\, avec Paul Eid\, Mireille Paquet\, Anna Goudet & Saadatou Abdoulkarim
DESCRIPTION:Comment les chercheurs peuvent-ils réaliser des entrevues auprès des personnes immigrantés de manière à prioriser leur sécurité\, leur autonomie\, et leur expérience? Dans le cadre de cet atelier\, Paul Eid (UQAM)\, Mireille Paquet (Concordia)\, Anna Goudet (INRS) et Saadatou Abdoulkarim (UQAM) discuteront des enjeux méthodologiques\, épistémologiques\, éthiques et politiques qui se posent lorsqu’un ou une chercheur-e travaillant sur l’immigration réalise une enquête par entretiens\, en particulier auprès de personnes immigrantes et/ou racisées. L’atelier sera construit autour d’un retour d’expériences et d’échanges sur ces enjeux. \nJoignez-nous à l’UQAM au Pavillon Hubert-Aquin (salle A-1825) de 12h45 à 14h15 le 30 janvier\, 2020. Aucune réservation n’est nécessaire. \nPour en savoir plus sur les participant.e.s\, dont leurs publications récentes\, consultez leurs profils en ligne : \nPaul Eid\, professeur au Département de sociologie à l’Université du Québec à Montréal \nMireille Paquet\, professeure au Département de science politique à l’Université Concordia \nSaadatou Abdoulkarim\, étudiante au doctorat en sociologie à l’Université du Québec à Montréal \nAnna Goudet\, candidate au doctorat en études urbaines au Centre Urbanisation Culture et Société de l’Institut national de recherche scientifique (INRS-UCS)
URL:https://eriqa.org/evenement/atelier-les-entrevues-dans-la-recherche-en-immigration-avec-paul-eid-mireille-paquet-anna-goudet-saadatou-abdoulkarim/
LOCATION:Pavillon Hubert-Aquin (UQAM)\, salle A-1825\, 400 St Catherine St E\, Montréal\, QC\, H2L 2C5\, Canada
ATTACH;FMTTYPE=image/jpeg:https://eriqa.org/wp-content/uploads/2020/03/Atelier-_-les-entrevues-dans-la-recherche-en-immigration-3-page-001-1.jpg
END:VEVENT
END:VCALENDAR