BEGIN:VCALENDAR
VERSION:2.0
PRODID:-//ÉRIQA - ECPv6.15.17//NONSGML v1.0//EN
CALSCALE:GREGORIAN
METHOD:PUBLISH
X-WR-CALNAME:ÉRIQA
X-ORIGINAL-URL:https://eriqa.org
X-WR-CALDESC:Événements pour ÉRIQA
REFRESH-INTERVAL;VALUE=DURATION:PT1H
X-Robots-Tag:noindex
X-PUBLISHED-TTL:PT1H
BEGIN:VTIMEZONE
TZID:America/New_York
BEGIN:DAYLIGHT
TZOFFSETFROM:-0500
TZOFFSETTO:-0400
TZNAME:EDT
DTSTART:20190310T070000
END:DAYLIGHT
BEGIN:STANDARD
TZOFFSETFROM:-0400
TZOFFSETTO:-0500
TZNAME:EST
DTSTART:20191103T060000
END:STANDARD
BEGIN:DAYLIGHT
TZOFFSETFROM:-0500
TZOFFSETTO:-0400
TZNAME:EDT
DTSTART:20200308T070000
END:DAYLIGHT
BEGIN:STANDARD
TZOFFSETFROM:-0400
TZOFFSETTO:-0500
TZNAME:EST
DTSTART:20201101T060000
END:STANDARD
BEGIN:DAYLIGHT
TZOFFSETFROM:-0500
TZOFFSETTO:-0400
TZNAME:EDT
DTSTART:20210314T070000
END:DAYLIGHT
BEGIN:STANDARD
TZOFFSETFROM:-0400
TZOFFSETTO:-0500
TZNAME:EST
DTSTART:20211107T060000
END:STANDARD
END:VTIMEZONE
BEGIN:VEVENT
DTSTART;TZID=America/New_York:20200313T080000
DTEND;TZID=America/New_York:20200313T170000
DTSTAMP:20260425T072929
CREATED:20230726T131846Z
LAST-MODIFIED:20230726T131846Z
UID:5249-1584086400-1584118800@eriqa.org
SUMMARY:*ANNULÉ/CANCELLED* Welcome to Canada? Welcome to Québec? A symposium on contemporary immigration politics
DESCRIPTION:Mise à jour/Updated 13.03.2020 : Unfortunately\, this event is cancelled. Malheureusement\, cet événement est annulé. \n  \nImmigration is high on the agenda of Canadian politics. Canada relies extensively on immigration to address key demographic and economic challenges in an era of accelerated population aging. At the same time\, issues surrounding immigration are becoming more salient while political parties take more explicit stances on the matter. The objective of this symposium is to take stock of current and emerging issues in both federal and provincial immigration policy and politics. \nThe symposium will be given in English\, and questions in both French and English are welcome. \nThe event begins with a keynote by Mireille Paquet (Concordia) on federalism and immigration policy in Canada\, followed by a roundtable with Jill Hanley (McGill)\, Graham Hudson (Ryerson) and Peter Loewen (UoT) on the changing landscape of federal immigration policy and of the associated political dynamics. \nA second roundtable with Antoine Bilodeau (Concordia)\, Karine Côté-Boucher (UdM)\, and Catherine Xhardez (Concordia) will focus on provincial immigration policy\, with a particular focus on the situation in Quebec\, where the Legault government is contemplating policy changes that raise key intergovernmental issues.\nCharles Breton (IRPP) and Daniel Béland (MISC) will moderate. \nThis event is co-organized by McGill Institute for the Study of Canada and by the Équipe de recherche sur l’immigration dans le Québec actuel (www.eriqa.org). \nRegistration now open for our March 13 symposium\, “Welcome to Canada? Welcome to Québec?” symposium on contemporary immigration politics. Eventbrite link.
URL:https://eriqa.org/evenement/annule-cancelled-welcome-to-canada-welcome-to-quebec-a-symposium-on-contemporary-immigration-politics/
LOCATION:McGill Faculty Club\, 3450 rue McTavish\, Montréal\, QC\, H3A 0E5\, Canada
ATTACH;FMTTYPE=image/png:https://eriqa.org/wp-content/uploads/2020/01/immigration_panel_poster-1.png
END:VEVENT
END:VCALENDAR