BEGIN:VCALENDAR
VERSION:2.0
PRODID:-//ÉRIQA - ECPv6.15.17//NONSGML v1.0//EN
CALSCALE:GREGORIAN
METHOD:PUBLISH
X-WR-CALNAME:ÉRIQA
X-ORIGINAL-URL:https://eriqa.org
X-WR-CALDESC:Événements pour ÉRIQA
REFRESH-INTERVAL;VALUE=DURATION:PT1H
X-Robots-Tag:noindex
X-PUBLISHED-TTL:PT1H
BEGIN:VTIMEZONE
TZID:America/New_York
BEGIN:DAYLIGHT
TZOFFSETFROM:-0500
TZOFFSETTO:-0400
TZNAME:EDT
DTSTART:20230312T070000
END:DAYLIGHT
BEGIN:STANDARD
TZOFFSETFROM:-0400
TZOFFSETTO:-0500
TZNAME:EST
DTSTART:20231105T060000
END:STANDARD
BEGIN:DAYLIGHT
TZOFFSETFROM:-0500
TZOFFSETTO:-0400
TZNAME:EDT
DTSTART:20240310T070000
END:DAYLIGHT
BEGIN:STANDARD
TZOFFSETFROM:-0400
TZOFFSETTO:-0500
TZNAME:EST
DTSTART:20241103T060000
END:STANDARD
BEGIN:DAYLIGHT
TZOFFSETFROM:-0500
TZOFFSETTO:-0400
TZNAME:EDT
DTSTART:20250309T070000
END:DAYLIGHT
BEGIN:STANDARD
TZOFFSETFROM:-0400
TZOFFSETTO:-0500
TZNAME:EST
DTSTART:20251102T060000
END:STANDARD
END:VTIMEZONE
BEGIN:VEVENT
DTSTART;TZID=America/New_York:20240315T090000
DTEND;TZID=America/New_York:20240315T170000
DTSTAMP:20260424T055158
CREATED:20240131T175220Z
LAST-MODIFIED:20240131T175220Z
UID:5566-1710493200-1710522000@eriqa.org
SUMMARY:Agir comme des partenaires : exemples et défis de la co-production au Québec
DESCRIPTION:Le séminaire « Agir comme des partenaires : exemples et défis de la coproduction au Québec » est co-organisé par le Centre de recherche sur la politique et le développement social (CPDS)\, le réseau VRM/Villes Régions Monde et l’École nationale d’administration publique (ÉNAP). L’objectif du séminaire est d’explorer différentes expériences de co-production au Québec et de voir les différents défis et bénéfices qui les traversent. L’originalité du séminaire est de mettre en dialogue des praticiens et des chercheurs de différents secteurs (santé\, municipalité\, environnement et recherche) : on pense notamment aux dispositifs de patient-partenaire en santé\, de co-construction dans les projets d’aménagement ou la collaboration étroite entre des citoyens et des chercheurs pour développer un projet de recherche. Le séminaire vise ainsi à échanger sur les pratiques et l’opérationnalisation empirique de la collaboration en croisant les regards des différents secteurs où on retrouve de la co-production. Le séminaire se déroulera autour de trois thématiques: (1) Être des partenaires : qu’est-ce que ça veut dire? (2) Délégation\, responsabilisation\, prise de pouvoir ou accès à la communauté? (3) La co-production au pluriel. \n\nVendredi 15 mars\, de 9h00-17h00 \nSalle C-3061 au troisième étage du Pavillon Lionel-Groulx (3150 rue Jean Brillant)\, Université de Montréal (métro Côtes-des-Neiges ou métro Université de Montréal) \nInscription: cpds@pol.umontreal.ca \nPour plus d’informations: https://cpds.openum.ca/2024/01/29/agir-comme-des-partenaires-exemples-et-defis-de-la-coproduction-au-quebec/
URL:https://eriqa.org/evenement/agir-comme-des-partenaires-exemples-et-defis-de-la-co-production-au-quebec/
LOCATION:Carrefour des arts et des sciences\, salle C-3061\, 3150 Rue Jean-Brillant\, Montréal\, QC\, H3T 1N8\, Canada
ATTACH;FMTTYPE=image/jpeg:https://eriqa.org/wp-content/uploads/2024/01/Programme-co-production-15-mars81.jpg
END:VEVENT
END:VCALENDAR