BEGIN:VCALENDAR
VERSION:2.0
PRODID:-//ÉRIQA - ECPv6.15.17//NONSGML v1.0//EN
CALSCALE:GREGORIAN
METHOD:PUBLISH
X-WR-CALNAME:ÉRIQA
X-ORIGINAL-URL:https://eriqa.org
X-WR-CALDESC:Événements pour ÉRIQA
REFRESH-INTERVAL;VALUE=DURATION:PT1H
X-Robots-Tag:noindex
X-PUBLISHED-TTL:PT1H
BEGIN:VTIMEZONE
TZID:America/New_York
BEGIN:DAYLIGHT
TZOFFSETFROM:-0500
TZOFFSETTO:-0400
TZNAME:EDT
DTSTART:20230312T070000
END:DAYLIGHT
BEGIN:STANDARD
TZOFFSETFROM:-0400
TZOFFSETTO:-0500
TZNAME:EST
DTSTART:20231105T060000
END:STANDARD
BEGIN:DAYLIGHT
TZOFFSETFROM:-0500
TZOFFSETTO:-0400
TZNAME:EDT
DTSTART:20240310T070000
END:DAYLIGHT
BEGIN:STANDARD
TZOFFSETFROM:-0400
TZOFFSETTO:-0500
TZNAME:EST
DTSTART:20241103T060000
END:STANDARD
BEGIN:DAYLIGHT
TZOFFSETFROM:-0500
TZOFFSETTO:-0400
TZNAME:EDT
DTSTART:20250309T070000
END:DAYLIGHT
BEGIN:STANDARD
TZOFFSETFROM:-0400
TZOFFSETTO:-0500
TZNAME:EST
DTSTART:20251102T060000
END:STANDARD
END:VTIMEZONE
BEGIN:VEVENT
DTSTART;VALUE=DATE:20240604
DTEND;VALUE=DATE:20240607
DTSTAMP:20260423T195212
CREATED:20240112T145748Z
LAST-MODIFIED:20240112T145748Z
UID:5538-1717459200-1717718399@eriqa.org
SUMMARY:4e édition du Forum sur l'intégration
DESCRIPTION:Le Forum sur l’intégration réunit des chercheurs du Québec\, du Canada et d’ailleurs dans le monde\, des représentants des gouvernements et des acteurs de terrain afin de faire le point sur l’état de la recherche sur les dynamiques d’intégration des immigrants au Québec et ailleurs. \nLe forum vise à faire découvrir à des acteurs de terrain et à des chercheurs les expériences d’ailleurs dans le domaine de l’intégration\, tout en établissant un dialogue sur les développements au Québec. \nNotez que le Forum sur l’intégration se déroulera en français. Un certain nombre d’invités offriront une présentation en anglais; une traduction simultanée en français sera disponible pour les participants le désirant.
URL:https://eriqa.org/evenement/4e-edition-du-forum-sur-lintegration/
LOCATION:Bibliothèque et Archives nationales du Québec\, 475 Boul. de Maisonneuve E.\, Montréal\, QC\, H2L 5C4\, Canada
ATTACH;FMTTYPE=image/png:https://eriqa.org/wp-content/uploads/2024/01/VisuelForumIntegrationStock2024-01.png
END:VEVENT
END:VCALENDAR