BEGIN:VCALENDAR
VERSION:2.0
PRODID:-//ÉRIQA - ECPv6.15.17//NONSGML v1.0//EN
CALSCALE:GREGORIAN
METHOD:PUBLISH
X-ORIGINAL-URL:https://eriqa.org
X-WR-CALDESC:Événements pour ÉRIQA
REFRESH-INTERVAL;VALUE=DURATION:PT1H
X-Robots-Tag:noindex
X-PUBLISHED-TTL:PT1H
BEGIN:VTIMEZONE
TZID:America/New_York
BEGIN:DAYLIGHT
TZOFFSETFROM:-0500
TZOFFSETTO:-0400
TZNAME:EDT
DTSTART:20250309T070000
END:DAYLIGHT
BEGIN:STANDARD
TZOFFSETFROM:-0400
TZOFFSETTO:-0500
TZNAME:EST
DTSTART:20251102T060000
END:STANDARD
BEGIN:DAYLIGHT
TZOFFSETFROM:-0500
TZOFFSETTO:-0400
TZNAME:EDT
DTSTART:20260308T070000
END:DAYLIGHT
BEGIN:STANDARD
TZOFFSETFROM:-0400
TZOFFSETTO:-0500
TZNAME:EST
DTSTART:20261101T060000
END:STANDARD
BEGIN:DAYLIGHT
TZOFFSETFROM:-0500
TZOFFSETTO:-0400
TZNAME:EDT
DTSTART:20270314T070000
END:DAYLIGHT
BEGIN:STANDARD
TZOFFSETFROM:-0400
TZOFFSETTO:-0500
TZNAME:EST
DTSTART:20271107T060000
END:STANDARD
END:VTIMEZONE
BEGIN:VEVENT
DTSTART;TZID=America/New_York:20260311T113000
DTEND;TZID=America/New_York:20260311T123000
DTSTAMP:20260424T092923
CREATED:20260223T144142Z
LAST-MODIFIED:20260310T205433Z
UID:6794-1773228600-1773232200@eriqa.org
SUMMARY:Webinaire - 75 ans de recherche sur les migrations au Canada : une exploration bibliométrique
DESCRIPTION:L’ÉRIQA vous convie au webinaire 75 ans de recherche sur les migrations au Canada : une exploration bibliométrique. Yacine Boujija\, professeur à l’INRS (Centre Urbanisation Culture Société) et Ana Canedo\, professeure adjointe au département de démographie à l’Université de Montréal\, vous présenteront les résultats d’une analyse bibliométrique innovante des recherches sur les migrations au Canada et au Québec sur 75 ans. La discussion sera modérée par Catherine Xhardez\, directrice de l’ÉRIQA et professeure adjointe au département de science politique à l’Université de Montréal. \nLe webinaire aura lieu le mercredi 11 mars de 11h30 à 12h30 sur zoom. Veuillez vous inscrire ici. \nRésumé du projet: \nÀ une époque où les sciences sociales traversent une crise de reproductibilité et où s’affirme la nécessité de recherches transparentes\, réplicables et utiles aux politiques publiques\, l’analyse bibliométrique offre des perspectives inédites pour explorer des champs de recherche en expansion rapide. Dans le domaine des migrations\, on recense déjà plus de 10 000 articles publiés dans des revues canadiennes seulement. Face à une telle abondance\, les recensions classiques et les approches historiographiques sont insuffisantes pour dresser une vision d’ensemble et systématique du champ. Les approches bibliométriques se révèlent ainsi un outil de choix pour réaliser de tels exercices de synthèse et de cartographie scientifique.  \nEn mobilisant plusieurs avancées récentes\, notamment les grands modèles de langage\, cette communication présente une exploration bibliométrique des recherches sur les migrations au Canada et au Québec\, couvrant 75 ans de publications issues tant de revues canadiennes que d’une sélection de revues internationales. Notre démarche conjugue analyses descriptives\, cartographies thématiques et géographiques\, ainsi que l’étude des réseaux de collaboration et de citations. Après en avoir dégagé les grandes tendances (volumes de publication\, types de migrations étudiés)\, nous proposons une exploration plus approfondie du champ\, qui croise cartographies thématiques et géographiques\, dynamiques de collaboration et de citation\, ainsi que les différences entre revues canadiennes et internationales.  \nL’étude propose ainsi un portrait d’ensemble inédit de la recherche canadienne sur les migrations\, ouvrant un dialogue sur ses orientations futures et soulignant l’intérêt d’une vision exhaustive et synthétique d’une production scientifique en constante croissance.  \nIntervenant.e.s \nYacine Boujija est professeur adjoint au Centre Urbanisation Culture et Société de l’Institut National de la Recherche Scientifique (INRS). Ses travaux portent sur les migrations internes au Québec et au Canada\, l’analyse des réseaux sociaux et la démographie computationnelle\, avec une attention particulière au rôle des réseaux interpersonnels dans les dynamiques migratoires et de fécondité. Il combine des analyses au niveau macro des tendances ainsi que de l’exploration au niveau micro des trajectoires de vie.  \nAna Canedo est professeure adjointe au Département de démographie de l’Université de Montréal. Ses travaux portent sur la migration internationale\, les inégalités et l’éducation\, en mobilisant l’inférence causale et des méthodes quantitatives avancées selon des facteurs tels que la race ou l’origine ethnique\, le genre et le statut migratoire.
URL:https://eriqa.org/evenement/webinaire-75-ans-de-recherche-sur-les-migrations-au-canada-une-exploration-bibliometrique/
LOCATION:En ligne (inscription obligatoire)
ATTACH;FMTTYPE=image/jpeg:https://eriqa.org/wp-content/uploads/2026/02/20260311_webinaire-ERIQA.jpg
END:VEVENT
BEGIN:VEVENT
DTSTART;TZID=America/New_York:20260312T160000
DTEND;TZID=America/New_York:20260312T180000
DTSTAMP:20260424T092923
CREATED:20260224T174633Z
LAST-MODIFIED:20260310T205219Z
UID:6816-1773331200-1773338400@eriqa.org
SUMMARY:Conférence avec Petra Molnar - The Walls Have Eyes: The Human Impacts of Surveillance Technologies on People Crossing Borders
DESCRIPTION:La Chaire de recherche du Canada sur la gouvernance sécuritaire des corps\, la mobilité et les frontières (GSCMF)\, située à l’UQAM\, vous invite à la conférence The Walls Have Eyes: The Human Impacts of Surveillance Technologies on People Crossing Borders\, avec Petra Molnar\, avocate et anthropologue de l’Université Harvard et de l’Univeristé York.  \nElle proposera une exposition critique de la tendance mondiale visant à laisser la technologie basée sur l’IA gérer les flux migratoires planétaires\, avec un marché inhumain et lucratif de gestion technologique des frontières qui structurent désormais la vie quotidienne de chacun sans grand cadre de réglementation\, qu’il s’agisse de bases de données biométriques\, de drones ou d’algorithmes. Partant d’une démarche à la fois personnelle\, éthique et documentaire\, construite à partir de recherches et de témoignages humains recueillis au cours de voyages (de la Grèce au Mexique\, du Kenya à la Palestine)\, elle présente une vision dystopique transformée en réalité de la frontière comme entreprise et comme infrastructure technologique\, où votre corps est votre passeport et les questions de vie et de mort sont déterminées par l’algorithme. La conférence sera animée par Anne-Marie D’Aoust\, (science politique UQAM) et Simon Hogue\, (science politique UQAM). \nLa conférence aura lieu le jeudi 12 mars 2026 à 16h00 au local JE-1150 à l’Université de Québec à Montréal et en ligne. À noter que cette conférence aura lieu en anglais. Plus d’informations et inscription obligatoire ici.
URL:https://eriqa.org/evenement/appel-candid-classe-maitre-petra-molnar/
LOCATION:JE-1150\, Pavillon Judith-Jasmin Annexe\, UQAM\, 1564 rue Saint-Denis\, Montréal\, Québec\, H2X 3K2\, Canada
ATTACH;FMTTYPE=image/jpeg:https://eriqa.org/wp-content/uploads/2026/02/d863b771-86c1-44c4-a5ad-2576af98cde5.jpg
END:VEVENT
BEGIN:VEVENT
DTSTART;TZID=America/New_York:20260318T113000
DTEND;TZID=America/New_York:20260318T130000
DTSTAMP:20260424T092923
CREATED:20260115T172837Z
LAST-MODIFIED:20260310T205050Z
UID:6615-1773833400-1773838800@eriqa.org
SUMMARY:Conférence - Migrations européennes au Maroc et au Québec : Une question de privilège?
DESCRIPTION:Le Centre d’études et de recherches internationales (CÉRIUM) organise\, avec l’ÉRIQA et le CRIDAQ\, une conférence qui s’intéressera aux migrations européennes au Maroc et au Québec. Cette conférence sera modérée par Karine Côté-Boucher\, professeure à l’École de criminologie (UdeM) et membre de l’ÉRIQA. Cette dernière animera une conversation entre Matthew Hayes\, professeur à l’Université St-Thomas et Capucine Coustere\, chercheuse à l’IRMS. \nLa présentation aura lieu le mercredi 18 mars 2026 à 11h30\, dans la salle B-4270\, pavillon Jean-Brillant\, Université de Montréal. Veuillez vous inscrire ici. \nRésumé: Cette conférence s’attarde à explorer la question Que signifie « migrer » lorsque l’on fait partie des personnes pour qui les frontières s’ouvrent plus facilement ? À partir d’un terrain auprès de personnes européennes francophones installées au Maroc\, Matthew Hayes montrera comment ces personnes migrantes comprennent et vivent au quotidien les inégalités matérielles et symboliques dont ils et elles bénéficient. Capucine Coustere discutera quant à elle des Français·es au Québec : comment les dispositifs étatiques leur confèrent-ils un avantage ? Et jusqu’à quel point ce privilège facilite-t-il leur installation et leur parcours ? \nMatthew Hayes est professeur de sociologie et chaire de recherche du Canada en Études mondiales et transnationales à l’Université St. Thomas à Fredericton\, N.-B. Son livre Gringolandia: Lifestyle Migration under Late Capitalism touche sur la migration économique de citoyens canadiens et américains à l’Équateur austral et leur impact socio-territorial. Des articles sur ce travail sont aussi publiés en français. Il est chercheur en résidence au CÉRIUM pour la session d’hiver 2026. \nCapucine Coustere est chercheuse postdoctorale à l’Institut de recherche sur les migrations et la société (Université Concordia\, Canada)\, chercheuse affiliée au projet Bridging Divides et membre associée du CELAT. Ses recherches portent sur la gouvernance migratoire et ses effets sur les migrants\, en particulier les migrants privilégiés et les jeunes migrants\, au Québec\, au Canada et en France.
URL:https://eriqa.org/evenement/conference-migrations-europeennes-au-maroc-et-au-quebec-une-question-de-privilege/
LOCATION:B-4270 Pavillon Jean-Brillant\, Université de Montréal\, 3200 Jean Brillant\, Montréal\, Quebec\, H3T 1N8\, Canada
ATTACH;FMTTYPE=image/png:https://eriqa.org/wp-content/uploads/2026/01/image-conference-cerium.png
END:VEVENT
END:VCALENDAR