BEGIN:VCALENDAR
VERSION:2.0
PRODID:-//ÉRIQA - ECPv6.15.17//NONSGML v1.0//EN
CALSCALE:GREGORIAN
METHOD:PUBLISH
X-ORIGINAL-URL:https://eriqa.org
X-WR-CALDESC:Événements pour ÉRIQA
REFRESH-INTERVAL;VALUE=DURATION:PT1H
X-Robots-Tag:noindex
X-PUBLISHED-TTL:PT1H
BEGIN:VTIMEZONE
TZID:America/New_York
BEGIN:DAYLIGHT
TZOFFSETFROM:-0500
TZOFFSETTO:-0400
TZNAME:EDT
DTSTART:20250309T070000
END:DAYLIGHT
BEGIN:STANDARD
TZOFFSETFROM:-0400
TZOFFSETTO:-0500
TZNAME:EST
DTSTART:20251102T060000
END:STANDARD
BEGIN:DAYLIGHT
TZOFFSETFROM:-0500
TZOFFSETTO:-0400
TZNAME:EDT
DTSTART:20260308T070000
END:DAYLIGHT
BEGIN:STANDARD
TZOFFSETFROM:-0400
TZOFFSETTO:-0500
TZNAME:EST
DTSTART:20261101T060000
END:STANDARD
BEGIN:DAYLIGHT
TZOFFSETFROM:-0500
TZOFFSETTO:-0400
TZNAME:EDT
DTSTART:20270314T070000
END:DAYLIGHT
BEGIN:STANDARD
TZOFFSETFROM:-0400
TZOFFSETTO:-0500
TZNAME:EST
DTSTART:20271107T060000
END:STANDARD
END:VTIMEZONE
BEGIN:VEVENT
DTSTART;TZID=America/New_York:20260204T163000
DTEND;TZID=America/New_York:20260204T183000
DTSTAMP:20260424T113816
CREATED:20260115T181900Z
LAST-MODIFIED:20260120T203146Z
UID:6635-1770222600-1770229800@eriqa.org
SUMMARY:Série de documentaires IRMS - Cream of the crop
DESCRIPTION:L’IRMS lance une série de projections suivies de discussions mettant en lumière des récits humains autour de l’immigration\, du travail\, de l’identité et du sentiment d’appartenance au Canada. Chaque projection est suivie d’une période de questions-réponses avec les cinéastes et invité.e.s. \nLe dernier visionnement de la série mettra en lumière la mini-série documentaire Cream of the Crop. Lors de la période questions-réponses\, retrouvez Kat Hutton\, réalisatrice de la mini-série documentaire Cream of the Crop et chercheuse en anthropologie. L’événement aura lieu le 4 février 2026 de 16h30 à 18h30 à l’Université Concordia. Pour l’inscription ainsi que plus d’informations\, consultez le site internet de l’IRMS.
URL:https://eriqa.org/evenement/serie-de-documentaires-irms-cream-of-the-crop/
LOCATION:1250\, rue Guy – FB 620.21 (6e étage)\, 1250 rue Guy\, Montréal\, Québec\, Canada
END:VEVENT
BEGIN:VEVENT
DTSTART;TZID=America/New_York:20260205T120000
DTEND;TZID=America/New_York:20260205T130000
DTSTAMP:20260424T113816
CREATED:20260122T214009Z
LAST-MODIFIED:20260122T214159Z
UID:6652-1770292800-1770296400@eriqa.org
SUMMARY:Webinaire IRPP: Canada's changing immigration landscape. Top five things to watch out for in 2026
DESCRIPTION:L’Institut de Recherche en Politiques Publiques (IRPP) vous convie au webinaire “Canada’s changing immigration landscape. Top five things to watch out for in 2026”\, qui aura lieu le jeudi 5 février 2026\, de 12h00 à 13h00. \nAnimée par Charles Breton\, directeur du Centre d’excellence sur la fédération canadienne\, avec les commentaires d’Irene Bloemraad\, professeure à l’Université de la Colombie-Britanique et de Mireille Paquet\, membre de l’ERIQA et professeure à l’Université Concordia\, cette discussion examinera ce qui pourrait changer\, ce qui restera contesté et comment les décisions prises en 2026 pourraient avoir des répercussions durables sur l’économie\, les institutions et la cohésion sociale du Canada. \nVeuillez noter que la discussion aura lieu en anglais. Les questions en français seront toutefois les bienvenues lors de la séance de questions. Retrouvez les informations et le formulaire d’inscription sur le site web de l’évènement. \n  \nEnglish version \nThe Institute for Research on Public Policy is inviting you to the webinar “Canada’s changing immigration landscape. Top five things to watch out for in 2026”. This event will take place on tuesday February 5th 2026\, from 12:00 PM to 1:00 PM.  \nModerated by Charles Breton\, executive director of the Centre of excellence on the Canadian federation\, with insights from Irene Bloemraad\, professor at the University of British Colombia\, and Mireille Paquet\, membre of ERIQA and professor at the Concordia University\, this discussion will examine what may change\, what will remain contested\, and how decisions made in 2026 could have lasting impacts on Canada’s economy\, institutions and social cohesion. \nThe discussion will be held in English\, and questions in French are welcome during the Q&A. Registration and more information on the event website. \n  \n 
URL:https://eriqa.org/evenement/webinaire-canadas-changing-immigration-landscape/
LOCATION:En ligne (inscription obligatoire)
ATTACH;FMTTYPE=image/jpeg:https://eriqa.org/wp-content/uploads/2026/01/1768926981003.jpg
END:VEVENT
BEGIN:VEVENT
DTSTART;TZID=America/New_York:20260210T113000
DTEND;TZID=America/New_York:20260210T121500
DTSTAMP:20260424T113816
CREATED:20260121T160941Z
LAST-MODIFIED:20260130T185106Z
UID:6655-1770723000-1770725700@eriqa.org
SUMMARY:Webinaire - Science for policy in the EU / La science au service des politiques publiques dans l’Union européenne
DESCRIPTION:How can science inform public decision-making on immigration? This is a key question for both the scientific community and policymakers. To address this issue\, the Jean Monnet Center of Montreal and ERIQA are pleased to invite you to the webinar “Science in the service of public policy in the European Union” on Tuesday\, February 10\, 2026\, at 11:30 a.m. (Montreal time\, 5h30 P.M italian time). We will welcome Nina Kajander\, Deputy Unit Head in the European Commission’s Joint Research Center’s Demography and Migration Unit (JRC) and Fiona Seiger\, researcher/scientific project officer in the same centre. The Knowledge Centre on Migration and Demography (KCMD)\, part of the JRC\, provides independent scientific expertise to support the development\, implementation\, and evaluation of European immigration and demographic policies. This webinar is an opportunity to identify the challenges associated with the use of scientific knowledge in public decision-making and to explore concrete ways in which science can inform European Union migration policies.   \nPlease note that the webinar will be held in English. It will be moderated by Catherine Xhardez\, Director of ERIQA and Assistant Professor at the University of Montreal\, followed by comments from Christine Rothmayr\, Director of the Maison des Affaires publiques et internationales and Professor at the University of Montreal.   \nPlease sign up here. \nEn français  \nComment la science peut-elle éclairer la décision publique en immigration ? Une question centrale au sein de la communauté scientifique comme chez les décideurs. Pour y répondre\, le Centre Jean Monnet de Montréal et l’ERIQA ont le plaisir de vous inviter au webinaire “La science au service des politiques publiques dans l’Union européenne”\, le mardi 10 février 2026 à 11h30 (heure de Montréal\, 17h30 heure italienne). Nous accueillerons Nina Kajander\, chef adjointe du Knowledge Centre on Migration and Demography (KMCD) du Joint Research Centre (JRC) et Fiona Seiger\, chercheuse et chargée de projet scientifique au KCMD de la Commission Européenne. Le KCMD\, rattaché au Joint Research Centre (JRC)\, a pour mission de fournir une expertise scientifique indépendante afin de soutenir l’élaboration\, la mise en œuvre et l’évaluation des politiques européennes en matière d’immigration et de démographie. Ce webinaire est l’occasion d’identifier les défis liés à l’utilisation des connaissances scientifiques dans la décision publique et d’explorer concrètement comment la science peut informer les politiques migratoires de l’Union européenne.  \nA noter que le webinaire aura lieu en anglais. Il sera modéré par Catherine Xhardez\, directrice de l’ERIQA et professeure adjointe à l’Université de Montréal et suivi des commentaires de Christine Rothmayr\, directrice de la Maison des Affaires publiques et internationales et professeurs titulaire à l’Université de Montréal.    \nVeuillez vous inscrire ici. \n  \n 
URL:https://eriqa.org/evenement/science-for-policy-in-the-eu/
LOCATION:En ligne (inscription obligatoire)
ATTACH;FMTTYPE=image/png:https://eriqa.org/wp-content/uploads/2026/01/Webinaire-CJMM-10-fevrier-final.png
END:VEVENT
BEGIN:VEVENT
DTSTART;TZID=America/New_York:20260212T123000
DTEND;TZID=America/New_York:20260212T143000
DTSTAMP:20260424T113816
CREATED:20260204T235831Z
LAST-MODIFIED:20260205T145702Z
UID:6710-1770899400-1770906600@eriqa.org
SUMMARY:Série de tables rondes CRIDAQ - Nouvelles conflictualités? Territoires\, sécurisation et frontières
DESCRIPTION:Le Centre de recherche interdisciplinaire sur la diversité et la démocratie (CRIDAQ)\, vous convie à sa quatrième table ronde Nouvelles conflictualités\, territoires\, sécurisation et frontières\, le jeudi 12 février 2026 à 12h30. Le CRIDAQ invite Noémie Boivin\, chercheure post-doctorale au sein de la faculté de droit à l’Université Shebrooke\, Anne-Marie D’Aoust\, professeure agrégée en science politique à l’UQAM\, Magdalena Dembinska\, professeure titulaire au département de science politique à l’Université de Montréal\, et David Grondin\, professeur titulaire au département de communication à l’Université de Montréal comme intervenant.e.s. Cet événement\, animé par Karine Côté-Boucher\, membre de l’ÉRIQA et professeure agrégée à l’École de criminologie à l’Université de Montréal\, sera l’occasion d’aborder la manière dont des tensions nouvelles\, résurgentes\, ou reformulées déterminent la (re)définition des frontières territoriales\, sociales et symboliques.  \nPlus d’informations et inscription obligatoire sur site web de l’évènement.
URL:https://eriqa.org/evenement/serie-de-tables-rondes-cridaq-nouvelles-conflictualites-territoires-securisation-et-frontieres/
LOCATION:En ligne (inscription obligatoire)
ATTACH;FMTTYPE=image/jpeg:https://eriqa.org/wp-content/uploads/2026/02/11X17-Affiche-4.-Nouvelles-conflictualites.jpg
END:VEVENT
BEGIN:VEVENT
DTSTART;TZID=America/New_York:20260216T113000
DTEND;TZID=America/New_York:20260216T123000
DTSTAMP:20260424T113816
CREATED:20260205T033020Z
LAST-MODIFIED:20260205T150212Z
UID:6722-1771241400-1771245000@eriqa.org
SUMMARY:Conférence - François Crépeau sur l’avenir du Haut-Commissariat des Nations Unies pour les réfugiés à l’horizon 2035
DESCRIPTION:Le Centre interdisciplinaire de recherche sur la gouvernance mondiale (CIRGoM)\, en partenariat avec le CELAT et le DYMIG\, vous invite à assister à une conférence de François Crépeau\, professeur à l’Université McGill et ancien rapporteur spécial des Nations Unies sur les droits de l’homme des migrants et animée par Adèle Garnier\, membre de l’ÉRIQA et directrice du CELAT.. Cette évènement qui portera sur l’avenir du Haut-Commissariat des Nations Unies pour les réfugiés (HCR/UNHCR) à l’horizon 2035 est un rendez-vous incontournable pour comprendre les enjeux actuels des migrations et du droit international des personnes réfugiées. \nFrançois Crépeau est professeur émérite de droit international public à l’Université McGill. Il fut titulaire de la Chaire Hans & Tamar Oppenheimer en droit international public à McGill (2009-2022)\, rapporteur spécial des Nations Unies pour les droits de l’homme des migrants (2011-2017)\, et membre du comité scientifique de l’Agence pour les droits fondamentaux de l’Union Européenne (Vienne\, AT) (2018-2023). \nLa conférence se tiendra le 16 février 2026 à 14h15\, dans la salle DKN-5128\, pavillon Charles-De Koninck à l’Université Laval ainsi qu’en ligne. Plus d’informations et inscription obligatoire sur site web de l’évènement. \n 
URL:https://eriqa.org/evenement/conference-francois-crepeau-sur-lavenir-du-haut-commissariat-des-nations-unies-pour-les-refugies-a-lhorizon-de-2035/
LOCATION:DKN-5128\, pavillon Charles-De Koninck\, Université Laval\, 1030 Des Sciences Humaines Ave\, Québec\, Québec\, G1V 0A6\, Canada
ATTACH;FMTTYPE=image/jpeg:https://eriqa.org/wp-content/uploads/2026/02/Conference-de-Francois-Crepeau.jpg
END:VEVENT
END:VCALENDAR