BEGIN:VCALENDAR
VERSION:2.0
PRODID:-//ÉRIQA - ECPv6.15.17//NONSGML v1.0//EN
CALSCALE:GREGORIAN
METHOD:PUBLISH
X-WR-CALNAME:ÉRIQA
X-ORIGINAL-URL:https://eriqa.org
X-WR-CALDESC:Événements pour ÉRIQA
REFRESH-INTERVAL;VALUE=DURATION:PT1H
X-Robots-Tag:noindex
X-PUBLISHED-TTL:PT1H
BEGIN:VTIMEZONE
TZID:America/New_York
BEGIN:DAYLIGHT
TZOFFSETFROM:-0500
TZOFFSETTO:-0400
TZNAME:EDT
DTSTART:20240310T070000
END:DAYLIGHT
BEGIN:STANDARD
TZOFFSETFROM:-0400
TZOFFSETTO:-0500
TZNAME:EST
DTSTART:20241103T060000
END:STANDARD
BEGIN:DAYLIGHT
TZOFFSETFROM:-0500
TZOFFSETTO:-0400
TZNAME:EDT
DTSTART:20250309T070000
END:DAYLIGHT
BEGIN:STANDARD
TZOFFSETFROM:-0400
TZOFFSETTO:-0500
TZNAME:EST
DTSTART:20251102T060000
END:STANDARD
BEGIN:DAYLIGHT
TZOFFSETFROM:-0500
TZOFFSETTO:-0400
TZNAME:EDT
DTSTART:20260308T070000
END:DAYLIGHT
BEGIN:STANDARD
TZOFFSETFROM:-0400
TZOFFSETTO:-0500
TZNAME:EST
DTSTART:20261101T060000
END:STANDARD
END:VTIMEZONE
BEGIN:VEVENT
DTSTART;VALUE=DATE:20251103
DTEND;VALUE=DATE:20251106
DTSTAMP:20260424T163123
CREATED:20250411T225316Z
LAST-MODIFIED:20250821T174525Z
UID:6185-1762128000-1762387199@eriqa.org
SUMMARY:Forum sur l'intégration 2025
DESCRIPTION:Nous avons le plaisir de vous annoncer que la 5eme édition du Forum sur l’intégration se déroulera les 3\, 4 et 5 novembre 2025\, en présence au Pavillon de l’Esplanade Tranquille dans le Quartier des Spectacles. \nLe Forum sur l’intégration réunit des chercheurs du Québec\, du Canada et d’ailleurs dans le monde\, des représentants des gouvernements et des acteurs de terrain afin de faire le point sur l’état de la recherche sur les dynamiques d’intégration des immigrants au Québec et ailleurs. \nLe forum vise à faire découvrir à des acteurs de terrain et à des chercheurs les expériences d’ailleurs dans le domaine de l’intégration\, tout en établissant un dialogue sur les développements au Québec. \nLe programme complet de l’édition 2025 est désormais en ligne. Nos membres Antoine Bilodeau et Mireille Paquet de l’Université Concordia auront le plaisir d’ouvrir le forum avec un mot de bienvenue le 3 novembre\, et Antoine Bilodeau de participer à un panel sur les nations minoritaires le 5 novembre. \nPour plus d’informations et accéder au formulaire d’inscription\, rendez-vous sur le site du Forum de l’intégration.
URL:https://eriqa.org/evenement/forum-integration-2025/
LOCATION:Pavillon de l’Esplanade tranquille\, Quartier des spectacles\, 1442 Rue Clark\, Montréal\, QC\, H2X2R3
ATTACH;FMTTYPE=image/png:https://eriqa.org/wp-content/uploads/2025/04/VisuelForumIntegration2025-03-1024x538-1.png
END:VEVENT
BEGIN:VEVENT
DTSTART;TZID=America/New_York:20251106T190000
DTEND;TZID=America/New_York:20251106T200000
DTSTAMP:20260424T163123
CREATED:20251007T165448Z
LAST-MODIFIED:20251007T165804Z
UID:6456-1762455600-1762459200@eriqa.org
SUMMARY:Lancement The Gates of the Sea - Luna Vives
DESCRIPTION:L’ÉRIQA vous convie au lancement du livre The Gates of the Sea: Migration and Rescue at the Edges of Europe\, publié récemment par notre membre Luna Vives\, professeure au département de géographie de l’Université de Montréal. La discussion sera animée en anglais par Mostafa Henaway\, organisateur communautaire au Centre des travailleurs et travailleuses immigrants de Montréal. Le lancement aura lieu à la libraire De Stiil à 19h. \nOuvert à toutes et tous. \nÀ propos de l’autrice: Luna Vives est professeure agrégée au Département de géographie de l’Université de Montréal. Ses recherches portent sur le durcissement des politiques migratoires aux frontières européennes et nord-américaines\, ainsi que sur les effets de ces politiques sur les personnes migrantes en situation de vulnérabilité. \nEnglish version \nÉRIQA invites you to the launch of the book The Gates of the Sea: Migration and Rescue at the Edges of Europe\, recently published by our member Luna Vives\, professor in the Department of Geography at the University of Montreal. The discussion will be moderated in English by Mostafa Henaway\, community organizer at the Montreal Centre for Immigrant Workers. The launch will take place at the De Stiil bookstore at 7 p.m. \nOpen to everyone. \nAbout the book: The Gates of the Sea examines the paradoxes of maritime search and rescue at Europe’s frontier. Focusing on Spain\, Luna Vives explores how governments have redefined maritime rescue systems towards border control. Unlike other European countries\, Spain chose not to assign this responsibility to a militarized state security force\, but to a civilian agency whose workers often liken themselves to firefighters of the sea: they are dedicated to saving lives\, not enforcing borders. Caught between their duty to protect life at sea and government efforts to transform them into border enforcers\, rescuers have pushed back\, primarily through their anarcho-syndicalist union\, the CGT. Committed to border abolition and international solidarity\, the rescuers’ struggle positions them within a global movement of resistance to the politics of organized abandonment along the external borders of the European Union. Vives’ revelatory\, deeply researched and accessible book grapples with both state methods of control and containment and\, crucially\, ways in which solidarity activism can thrive in unexpected places. \nAbout the author: Luna Vives is a professor in the Department of Geography at the University of Montreal. Her research focuses on the tightening of migration policies at European and North American borders\, as well as the effects of these policies on migrants in vulnerable situations.
URL:https://eriqa.org/evenement/lancement-the-gates-of-the-sea-luna-vives/
LOCATION:Librairie De Stiil\, 351 Avenue Duluth E\, Montréal\, QC\, H2W 1J3
ATTACH;FMTTYPE=image/jpeg:https://eriqa.org/wp-content/uploads/2025/10/Book-Launch_6nov_V1.jpg
END:VEVENT
BEGIN:VEVENT
DTSTART;TZID=America/New_York:20251114T123000
DTEND;TZID=America/New_York:20251114T140000
DTSTAMP:20260424T163123
CREATED:20251014T175248Z
LAST-MODIFIED:20251017T170836Z
UID:6471-1763123400-1763128800@eriqa.org
SUMMARY:Atelier - Internal Migration and Nativism: Designing a Survey Experiment
DESCRIPTION:Le laboratoire d’analyse en communication politique et opinion publique vous invite à participer à l’atelier “Internal Migration and Nativism: designing a survey experiment”\, avec la participation de Catherine Xhardez\, directrice de l’ERIQA (UdeM)\, Isabelle Côté (Memorial University of Newfoundland) et Matthew Mitchell (Université de Saskatchewan). \nL’atelier se tiendra en anglais. Pour vous inscrire\, veuillez confirmer votre présence par courriel à lacpop@uqam.ca. \nConsidering the ubiquity of internal migration\, backlashes against domestic population movements often come as a surprise. Yet they are not new. There is a longstanding and global history of opposition to domestic population movements across political systems. Internal migration has contributed to fueling riots\, xenophobia and violence in India and Nigeria. In Canada\, Québécois have long criticized the migration of English-speaking elites to the province. Switzerland has a high level of internal migration\, with cyclical waves of rural or urban exodus and an acute (political) contrast between town and countryside\, and visible (anti-) migration attitudes. Meanwhile\, flashes of opposition to internal migration have also been reported in Belgium\, Ethiopia\, the United States and Malaysia. This opposition to internal migration has arguably been heightened globally since the outbreak of the COVID-19 pandemic\, as local populations perceived migrants as potential carriers of the virus and a threat to their communities. \nThese examples highlight the tensions and potential conflict within countries linked to internal migration. Despite the salience of this phenomenon\, there is a dearth of scholarship on attitudes towards internal migration\, as this issue has been overshadowed by the extensive literature on international migration. Why are some individuals opposed to the internal relocation of fellow citizens to their home regions? Under what conditions can internal migration fuel intergroup conflict? These questions remain largely unanswered\, as research on attitudes and policy responses towards internal migration has been overshadowed by work on international migration. This SSHRC-funded project aims to problematize the analytical distinctions between insider vs. outsider\, internal vs. international\, inward vs. outward\, urban vs. rural\, desirable vs. undesirable types of internal migrants. In so doing\, the project explores the contentious politics around internal migration in four states across the federal spectrum: Canada\, India\, Nigeria and Switzerland. This workshop\, specifically\, intends to discuss the preliminary steps for designing survey experiments across these diverse case studies. \nPresenters \nIsabelle Côté is an Associate Professor in the Department of Political Science at Memorial University of Newfoundland and Labrador. Her work examines nativism in federal states\, as well as the role of population movements on intrastate conflict and contentious politics in Asia and beyond. She received her PhD in Political Science from the University of Toronto and was a postdoctoral fellow at KITLV (Royal Netherlands Institute of Southeast Asian and Caribbean Studies) in Leiden\, Netherlands\, and held various guest researcher positions in China\, Indonesia\, Denmark and Sweden. \nMatthew I. Mitchell is an Associate Professor in the Department of Political Studies at the University of Saskatchewan. Prior to this appointment\, he was an Assistant Professor in the School of Conflict Studies at Saint Paul University and a Postdoctoral Fellow in the Department of Political Science at the University of Wisconsin-Madison. His research focuses on African politics\, global indigenous politics\, land politics\, internal migration\, peacebuilding and political violence. He holds a PhD in Political Studies from Queen’s University. \nCatherine Xhardez is an assistant professor in the Department of Political Science at the Université de Montréal. Her research focuses on immigration\, public policy\, and federalism. She holds a PhD in political science from Université Saint‐Louis—Bruxelles and Sciences Po Paris. She is the director of the Équipe de Recherche sur l’Immigration au Québec et Ailleurs (ÉRIQA)\, and is affiliated with the CRIDAQ\, the Jean Monnet Centre Montreal and the Centre d’Études et de Recherches Internationales (CÉRIUM).
URL:https://eriqa.org/evenement/atelier-internal-migration-and-nativism-designing-a-survey-experiment/
LOCATION:UQAM\, R-3230\, 315\, rue Sainte-Catherine Est\, Montréal\, H2X 3X2\, France
ATTACH;FMTTYPE=image/png:https://eriqa.org/wp-content/uploads/2025/10/Xhardez-et-al-14-nov-2025-2.png
END:VEVENT
BEGIN:VEVENT
DTSTART;TZID=America/New_York:20251114T141500
DTEND;TZID=America/New_York:20251114T151500
DTSTAMP:20260424T163123
CREATED:20251017T183825Z
LAST-MODIFIED:20251029T143150Z
UID:6488-1763129700-1763133300@eriqa.org
SUMMARY:Conférence - D’Alep à Montréal : une étude transnationale des parcours migratoires de réfugiés syriens-arméniens
DESCRIPTION:Pour cette dernière conférence du cycle “Migrations et Citoyennetés”\, organisé par nos membres Ahmed Hamila et Luna Vives\, nous accueillons Alexi Vicken Kayayan Alvarado. \nAlexi Vicken Kayayan est docteur en anthropologie (Université de Montréal)\, avec une spécialité en études migratoires. Ses travaux portent sur les migrations forcées\, les diasporas et les réseaux de soutien des personnes réfugiées. Il a mené plusieurs terrains ethnographiques en Amérique centrale\, au Québec et au Liban. Il est actuellement chargé de cours à l’Université de Montréal et stagiaire postdoctoral à l’École de travail social de l’Université McGill\, en collaboration avec l’Observatoire pour la justice migrante\, où il développe l’axe sur la justice migrante et la justice climatique. \nRésumé: Cette conférence explore les parcours de réfugiés syriens-arméniens installés au Liban et au Québec à la suite de la guerre en Syrie. S’appuyant sur une ethnographie transnationale et multi-située\, elle cherche à saisir la complexité des expériences pré\, péri et postmigratoires de ces réfugiés. Faisant partie d’une diaspora plus vaste – la diaspora arménienne –\, les Syriens-Arméniens s’inscrivent dans une histoire migratoire qui continue de structurer leurs parcours contemporains. L’étude met en lumière deux dimensions diasporiques interdépendantes : la mobilisation des réseaux diasporiques\, principale source de soutien matériel\, social et émotionnel pour les réfugiés\, et l’inscription de l’exil dans une mémoire collective diasporique façonnée par le génocide arménien. Ces deux dimensions – réseaux et mémoire – se renforcent mutuellement au sein d’un même système diasporique\, où solidarité et reproduction identitaire se nourrissent réciproquement. La conférence discutera enfin de l’apport méthodologique de l’ethnographie transnationale et multi-située pour l’étude des migrations forcées contemporaines\, en montrant comment cette approche permet de relier les trajectoires individuelles à des processus historiques\, diasporiques et transnationaux plus larges.   \nLa présentation aura lieu le 14 novembre à 14h15\, dans la salle B-4260\, pavillon Jean-Brillant\, Université de Montréal.
URL:https://eriqa.org/evenement/conference-dalep-a-montreal-une-etude-transnationale-des-parcours-migratoires-de-refugies-syriens-armeniens/
LOCATION:B-4260\, pavillon Jean-Brillant\, Université de Montréal\, 3200 rue Jean-Brillant\, Montréal\, QC\, H3T 1N8
ATTACH;FMTTYPE=image/jpeg:https://eriqa.org/wp-content/uploads/2025/10/Affiche-finale-cycle-conf-1.jpg
END:VEVENT
BEGIN:VEVENT
DTSTART;TZID=America/New_York:20251118T120000
DTEND;TZID=America/New_York:20251118T130000
DTSTAMP:20260424T163123
CREATED:20251002T171748Z
LAST-MODIFIED:20251111T190028Z
UID:6446-1763467200-1763470800@eriqa.org
SUMMARY:Conférence - Between Law and Practice: Profiling and Professional Ideals in Finnish Border Control
DESCRIPTION:L’ÉRIQA et l’Institut de recherche sur les migrations et la société (IRMS) organisent une conférence avec Nora Fabritius\, doctorante en sociologie au Centre de recherche sur les relations ethniques et le nationalisme (CEREN) de l’Université d’Helsinki\, le 18 novembre à 12h à l’Université Concordia. La conférence se tiendra en anglais. \nVeuillez vous inscrire en remplissant ce formulaire. \nRésumé \nDans cette présentation\, Nora Fabritius explore les pratiques et les discours entourant le profilage des voyageurs dans le contexte du contrôle des frontières finlandaises. Plus précisément\, elle examine comment les gardes-frontières travaillant en première ligne aux contrôles frontaliers à la frontière extérieure de l’espace Schengen en Finlande définissent\, gèrent et négocient les limites juridiques et morales du profilage. En s’appuyant sur les conclusions de sa thèse de doctorat\, elle illustre comment les idéaux et les rôles professionnels clés au sein des gardes-frontières finlandais interfèrent et façonnent la manière dont les questions sensibles\, telles que le profilage ethnique\, sont abordées\, tant au sein de l’institution que dans la communication avec le grand public. Les comptes rendus publics sont souvent formulés en termes strictement juridiques\, ce qui limite la compréhension des dimensions humaines complexes et ambiguës du profilage dans le travail quotidien. Cela inclut ses conséquences potentiellement discriminatoires\, qu’il est essentiel de prendre en compte lors des débats sur les nouvelles législations et leur mise en œuvre. \nNora Fabritius est doctorante en sociologie au Centre de recherche sur les relations ethniques et le nationalisme (CEREN) de l’université d’Helsinki. Ses recherches s’appuient sur des méthodes ethnographiques pour examiner les pratiques décisionnelles\, les idéaux professionnels et les discours sur la sécurité et le droit au sein des gardes-frontières finlandais. Elle a précédemment travaillé comme chargée de projet au Centre d’excellence en droit\, identité et discours européens (Eurostorie) de l’université d’Helsinki\, où elle s’est intéressée aux questions liées aux droits des populations autochtones\, à la culture et aux langues dans le nord de la Finlande et en Norvège. \nEnglish version \nThrough this talk hosted by the Équipe de recherche sur l’immigration au Québec et ailleurs (ERIQA) and the Institute for Research on Migration and Society (IRMS)\, you’ll gain insight into the lived realities of border guards working at the external Schengen border in Finland\, based on in-depth research into their daily practices and professional values. You’ll explore how they navigate the legal and moral complexities of traveller profiling — including the often-unspoken dynamics of ethnic profiling. Through this lens\, the talk reveals how official narratives\, shaped by legal frameworks\, can obscure the more ambiguous human aspects of border control. You’ll come away with a deeper understanding of how profiling operates in practice\, its implications for discrimination\, and why these insights matter for ongoing debates about legislation and public accountability. \nNora Fabritius is a doctoral researcher in sociology at the Centre for Research on Ethnic Relations and Nationalism (CEREN) at the University of Helsinki. Her research employs ethnographic methods to examine decision-making practices\, professional ideals\, and narratives of security and law within the Finnish Border Guard. She has previously worked as a project planner at the Centre of Excellence in Law\, Identity and the European Narratives (Eurostorie) at the University of Helsinki\, focusing on topics related to Indigenous\, cultural\, and linguistic rights in northern Finland and Norway. \nRegistration and more information on the event website.
URL:https://eriqa.org/evenement/conference-between-law-and-practice-profiling-and-professional-ideals-in-finnish-border-control/
LOCATION:Room 620.21\, Faubourg Building\, Université Concordia\, 1250 rue Guy\, Montréal\, H3H2T4
ATTACH;FMTTYPE=application/pdf:https://eriqa.org/wp-content/uploads/2025/10/Nora-Fabritius-2.pdf
END:VEVENT
BEGIN:VEVENT
DTSTART;TZID=America/New_York:20251119T170000
DTEND;TZID=America/New_York:20251119T190000
DTSTAMP:20260424T163123
CREATED:20251022T183142Z
LAST-MODIFIED:20251022T183208Z
UID:6502-1763571600-1763578800@eriqa.org
SUMMARY:Visionnage de Devenir Keb avec une séance de questions-réponses
DESCRIPTION:L’Institut de recherche sur les migrations et la société (IRMS) vous invite au visionnage de la série “Devenir Keb” le mercredi 19 novembre à 17h à l’Université Concordia: \nJoignez-vous à nous pour voir le premier épisode de Devenir Keb\, une nouvelle série documentaire qui explore l’immigration à travers les voix de ceux qui la vivent. Animée et réalisée par Philippe Desrosiers et Noémi Mercier\, la série met en lumière six aspects clés de l’expérience des immigrants au Québec.  \nLa série comprend des entrevues avec un éventail de voix\, y compris des experts comme Mireille Paquet (membre ERIQA)\, et offre une contribution opportune aux conversations publiques sur l’identité\, l’appartenance et l’immigration au Québec.  \nAyez la chance de participer à une séance questions-réponses avec Philippe Desrosiers\, Noémi Mercier et Mireille Paquet. \nPlus d’informations et inscriptions sur leur site internet.
URL:https://eriqa.org/evenement/visionnage-de-devenir-keb-avec-une-seance-de-questions-reponses/
LOCATION:Salle 114- Cinema\, Pavillon des arts visuels\, Concordia\, 1395\, boul. René Lévesque O.\, Montréal\, QC\, H3G 2M5
END:VEVENT
BEGIN:VEVENT
DTSTART;TZID=America/New_York:20251127T113000
DTEND;TZID=America/New_York:20251127T123000
DTSTAMP:20260424T163123
CREATED:20251013T144705Z
LAST-MODIFIED:20251110T001448Z
UID:6464-1764243000-1764246600@eriqa.org
SUMMARY:Webinaire - Barrières systémiques aux soins prénataux et d'accouchement chez les femmes enceintes sans RAMQ au Québec : résultats préliminaires d’une recherche participative
DESCRIPTION:L’ÉRIQA vous convie au webinaire “Barrières systémiques aux soins prénataux et d’accouchement chez les femmes enceintes sans RAMQ au Québec : résultats préliminaires d’une recherche participative”. Lara Gautier\, membre ÉRIQA et professeure agrégée à l’ESPUM (École de santé publique de l’Université de Montréal)\, Laila Mahmoudi\, doctorante à l’ESPUM\, et Edwige Amenan\, femme avec expérience vécue\, vous présenteront les résultats préliminaires du projet PRÉNA-E-COUT’ (Évaluation de l’expérience et du coût des soins prénataux chez les femmes enceintes à statut migratoire précaire à Montréal). La discussion sera modérée par Ahmed Hamila\, membre ÉRIQA et professeur au département de sociologie de l’UdeM. \nLe webinaire aura lieu le jeudi 27 novembre de 11h30 à 12h30 sur zoom. Veuillez vous inscrire ici. \nDescription du projet \nNotre recherche\, financée par le Réseau de recherche en santé des populations du Québec (RRSPQ)\, vise à comprendre les défis spécifiques auxquels font face les femmes enceintes migrantes à statut migratoire précaire (FESMP) à Montréal (Québec)\, un groupe souvent négligé malgré l’importance croissante des migrations au Canada. Cette population est exposée à des risques accrus de soins prénataux tardifs ou inadéquats\, de complications pendant la grossesse et d’issues néonatales défavorables. \nLa recherche abordera les expériences des FESMP\, ainsi que le fardeau économique qu’elles supportent. Utilisant une approche quantitative\, l’équipe de recherche\, à partir d’un échantillon de 150 femmes recrutées en partenariat avec la clinique de Médecins du Monde à Montréal\, i) analysera l’expérience du suivi prénatal\, et ii) estimera les coûts et les conséquences liés au suivi de grossesse et à l’accouchement. \nPlus d’informations ici. \nIntervenantes \nLara Gautier est professeure agrégée à l’École de santé publique de l’Université de Montréal (ESPUM) et chercheuse régulière au Centre de recherche en santé publique\, au Centre de recherche et de partage des savoirs InterActions\, et à l’Institut de recherche SHERPA à Montréal. Formée en santé publique\, en sciences politiques et en socio-économie\, elle possède une expertise scientifique en évaluation participative des services de santé en utilisant des approches de recherche qualitatives et mixtes. S’appuyant sur sa propre expérience de bénévolat auprès de populations migrantes vulnérables de 2016 à 2020 à Paris et à Montréal\, elle mobilise diverses communautés de pratique et d’usagers dans ses projets de recherche afin d’analyser les déterminants structurels de la santé des populations migrantes vulnérables en France et au Québec.  \nLaila Mahmoudi détient une maîtrise en santé publique (M.Sc\, ESPUM) et une maîtrise en administration publique (M.A.P\, ENAP). Elle s’intéresse aux approches innovantes de promotion de la santé permettant d’agir de manière systématique sur les déterminants sociaux de la santé. Doctorante en santé publique à l’École de santé publique de l’Université de Montréal (ESPUM)\, ses activités de recherche examinent la trajectoire de soins des femmes enceintes en situation migratoire précaire au Québec et leurs conséquences économiques. Sa thèse vise à soutenir les activités de plaidoyer en faveur de la santé sexuelle et reproductive des femmes migrantes\, afin d’influencer l’élaboration de politiques inclusives. 
URL:https://eriqa.org/evenement/webinaire-27novembre25/
LOCATION:En ligne (inscription obligatoire)
END:VEVENT
END:VCALENDAR