BEGIN:VCALENDAR
VERSION:2.0
PRODID:-//ÉRIQA - ECPv6.15.17//NONSGML v1.0//EN
CALSCALE:GREGORIAN
METHOD:PUBLISH
X-WR-CALNAME:ÉRIQA
X-ORIGINAL-URL:https://eriqa.org
X-WR-CALDESC:Événements pour ÉRIQA
REFRESH-INTERVAL;VALUE=DURATION:PT1H
X-Robots-Tag:noindex
X-PUBLISHED-TTL:PT1H
BEGIN:VTIMEZONE
TZID:America/New_York
BEGIN:DAYLIGHT
TZOFFSETFROM:-0500
TZOFFSETTO:-0400
TZNAME:EDT
DTSTART:20240310T070000
END:DAYLIGHT
BEGIN:STANDARD
TZOFFSETFROM:-0400
TZOFFSETTO:-0500
TZNAME:EST
DTSTART:20241103T060000
END:STANDARD
BEGIN:DAYLIGHT
TZOFFSETFROM:-0500
TZOFFSETTO:-0400
TZNAME:EDT
DTSTART:20250309T070000
END:DAYLIGHT
BEGIN:STANDARD
TZOFFSETFROM:-0400
TZOFFSETTO:-0500
TZNAME:EST
DTSTART:20251102T060000
END:STANDARD
BEGIN:DAYLIGHT
TZOFFSETFROM:-0500
TZOFFSETTO:-0400
TZNAME:EDT
DTSTART:20260308T070000
END:DAYLIGHT
BEGIN:STANDARD
TZOFFSETFROM:-0400
TZOFFSETTO:-0500
TZNAME:EST
DTSTART:20261101T060000
END:STANDARD
END:VTIMEZONE
BEGIN:VEVENT
DTSTART;TZID=America/New_York:20250924T123000
DTEND;TZID=America/New_York:20250924T140000
DTSTAMP:20260424T195727
CREATED:20250908T145147Z
LAST-MODIFIED:20250908T145147Z
UID:6377-1758717000-1758722400@eriqa.org
SUMMARY:Conférence - Qu’appelle-t-on sujet? Politique des vies précaires et hospitalité
DESCRIPTION:Le CRIDAQ vous invite à une conférence hybride (en personne et en ligne) avec Guillaume Le Blanc\,  philosophe et professeur de philosophie sociale et politique à l’Université Paris Cité. La conférence\, notamment organisée par notre membre Chedly Belkhodja\, se tiendra à l’UQAM le mercredi 24 septembre de 12h30 à 14h. \nRésumé : Si toute une philosophie se plait à penser le sujet comme un être libre et souverain\, ayant la force de commencer par lui-même des actions\, je voudrais souligner en quoi être sujet c’est toujours être pris dans une structure antérieure d’interpellation et d’accusation qui transforme la vie en procès. Au commencement de son roman\, Le procès\, écrit par Franz Kafka\, Joseph K à son réveil est arrêté et soumis à comparaître à son procès. Cette structure accusatoire\, invisible mais toujours présente\, implique que le sujet doit rendre des comptes à propos de lui-même\, que ses témoignages sont pris dans une structure accusatoire et inquisitoire. Et si c’était là le lot de tous les sujets\, essentiellement les plus précaires que de devoir rendre compte d’eux-mêmes face à un pouvoir ? Les processus de narration de soi s’avèrent ici essentiels. Le chômeur\, acculé à la nécessité du travail\, ne doit-il pas justifier en permanence qu’il est à la recherche d’un travail en adressant aux institutions sociales le récit de sa recherche ? Le migrant ne doit-il pas montrer qu’il est un persécuté pour bénéficier d’un titre juridique ? La fonction du témoignage est alors non de faire véridicité mais de lier le sujet à une structure d’interpellation qui est toujours potentiellement une structure d’accusation et à laquelle il doit se rapporter en permanence pour confirmer son être de sujet dont il peut être séparé précisément par l’interpellation qui lui demande des comptes. Il nous faudra nous demander dans cette perspective en quel sens et dans quelle mesure l’hospitalité peut être une contre-interpellation et surgir comme un contre-pouvoir. Une relecture de Derrida sera tentée à cet endroit. \nPour vous inscrire et avoir plus d’informations\, rendez-vous sur le site du CRIDAQ.
URL:https://eriqa.org/evenement/conference-guillaume-leblanc/
LOCATION:Salle R-3680\, Pavillon des sciences de la gestion\, UQAM\, 315\, rue Sainte-Catherine Est\, Montréal\, H2X 3X2
ATTACH;FMTTYPE=image/jpeg:https://eriqa.org/wp-content/uploads/2025/09/11X17-Midi-CRIDAQ-de-Guillaume-Le-Blanc_VF.jpg
END:VEVENT
BEGIN:VEVENT
DTSTART;TZID=America/New_York:20250926T120000
DTEND;TZID=America/New_York:20250926T133000
DTSTAMP:20260424T195727
CREATED:20250915T150630Z
LAST-MODIFIED:20250915T150630Z
UID:6387-1758888000-1758893400@eriqa.org
SUMMARY:Présentation - A New Wave of Anti-racism in Europe? Racialized Minorities at the Centre
DESCRIPTION:L’Initiative de recherche sur l’immigration (IRI) a l’honneur d’inviter la Dre Ilke Adam\, professeure associée en sciences politiques à la Brussels School of Governance (Vrije Universiteit Brussel)\, pour une discussion au Département de science politique de l’Université Concordia. \nLa Dre Adam vous convie chaleureusement à un séminaire sur l’ouvrage à paraître A New Wave of Anti-Racism in Europe? Racialized Minorities at the Centre. Cet ouvrage explore si les mobilisations antiracistes actuelles — dynamisées par les manifestations Black Lives Matter de 2020 — constituent véritablement un phénomène nouveau ou plutôt la réémergence de voix longtemps tues. En mettant l’accent sur le rôle de leadership des minorités racisées\, le livre examine les luttes antiracistes à travers l’Europe\, reliant les legs coloniaux au racisme structurel contemporain. La Dre Ilke Adam\, en tant que corédactrice de l’ouvrage\, présentera des perspectives clés avant sa publication\, offrant une réflexion opportune sur l’avenir de l’antiracisme en Europe. \nMerci de confirmer votre présence par courriel à l’IRI : iri@concordia.ca
URL:https://eriqa.org/evenement/presentation-a-new-wave-of-anti-racism-in-europe-racialized-minorities-at-the-centre/
LOCATION:Hall Building (Université Concordia)\, salle H-1220\, 1455 Boul. de Maisonneuve O.\, Montréal\, QC\, H3G 1M8\, Canada
ATTACH;FMTTYPE=image/png:https://eriqa.org/wp-content/uploads/2025/09/Ilke-Adam.png
END:VEVENT
END:VCALENDAR