BEGIN:VCALENDAR
VERSION:2.0
PRODID:-//ÉRIQA - ECPv6.15.17//NONSGML v1.0//EN
CALSCALE:GREGORIAN
METHOD:PUBLISH
X-ORIGINAL-URL:https://eriqa.org
X-WR-CALDESC:Événements pour ÉRIQA
REFRESH-INTERVAL;VALUE=DURATION:PT1H
X-Robots-Tag:noindex
X-PUBLISHED-TTL:PT1H
BEGIN:VTIMEZONE
TZID:America/New_York
BEGIN:DAYLIGHT
TZOFFSETFROM:-0500
TZOFFSETTO:-0400
TZNAME:EDT
DTSTART:20240310T070000
END:DAYLIGHT
BEGIN:STANDARD
TZOFFSETFROM:-0400
TZOFFSETTO:-0500
TZNAME:EST
DTSTART:20241103T060000
END:STANDARD
BEGIN:DAYLIGHT
TZOFFSETFROM:-0500
TZOFFSETTO:-0400
TZNAME:EDT
DTSTART:20250309T070000
END:DAYLIGHT
BEGIN:STANDARD
TZOFFSETFROM:-0400
TZOFFSETTO:-0500
TZNAME:EST
DTSTART:20251102T060000
END:STANDARD
BEGIN:DAYLIGHT
TZOFFSETFROM:-0500
TZOFFSETTO:-0400
TZNAME:EDT
DTSTART:20260308T070000
END:DAYLIGHT
BEGIN:STANDARD
TZOFFSETFROM:-0400
TZOFFSETTO:-0500
TZNAME:EST
DTSTART:20261101T060000
END:STANDARD
END:VTIMEZONE
BEGIN:VEVENT
DTSTART;TZID=America/New_York:20250205T160000
DTEND;TZID=America/New_York:20250205T173000
DTSTAMP:20260425T065026
CREATED:20250130T175051Z
LAST-MODIFIED:20250130T175051Z
UID:6048-1738771200-1738776600@eriqa.org
SUMMARY:Conférence d'Ailsa Henderson - Le Piège de la Nostalgie
DESCRIPTION:L’Initiative de recherche sur l’immigration (IRI) est ravie de vous annoncer qu’Ailsa Henderson (Université d’Édimbourg) donnera une conférence à l’Université Concordia le 5 février à 16h. \nLe Piège de la Nostalgie : L’impact des attitudes britanniques envers le passé sur les attitudes contemporaines à l’immigration et d’autres comportements politiques \nRésumé : L’attention portée au passé procure des avantages psychologiques aux individus et remplit des fonctions socio-psychologiques pour les communautés au sens large. Elle peut servir de mécanisme d’adaptation en période de stress et\, à l’échelle collective\, renforcer les liens sociaux entre les membres d’un groupe. Sur le plan comportemental\, cette attention peut se manifester de manière progressive\, en suscitant des revendications pour une justice réparatrice\, ou régressive\, en mettant davantage l’accent sur l’exclusivité et les menaces perçues envers des groupes extérieurs. En s’appuyant sur des données d’enquête collectées à travers le Royaume-Uni\, cet article examine les tendances de l’attention portée au passé\, en distinguant entre une nostalgie généralisée et des événements spécifiques. Il explore qui pense que le passé était meilleur et pourquoi\, en portant une attention particulière aux réponses des jeunes\, ainsi qu’à la manière dont ces perceptions sont liées aux attitudes vis-à-vis de la migration et alignées sur les comportements politiques passés et futurs. Tout au long de l’article\, il s’agit d’identifier les raisons pour lesquelles une telle attention au passé est observée au Royaume-Uni et les défis qu’elle pose dans le débat politique actuel. \nLa conférence se déroulera en anglais. Merci de confirmer votre présence à l’adresse courriel suivante : iri@concordia.ca. 
URL:https://eriqa.org/evenement/conference-dailsa-henderson/
LOCATION:Henry F. Hall Building (Université Concordia) Salle H1220\, 1455 de Maisonneuve\, Montréal\, Québec\, H3G1M8\, Canada
ATTACH;FMTTYPE=image/png:https://eriqa.org/wp-content/uploads/2025/01/IRI.png
END:VEVENT
END:VCALENDAR