BEGIN:VCALENDAR
VERSION:2.0
PRODID:-//ÉRIQA - ECPv6.15.17//NONSGML v1.0//EN
CALSCALE:GREGORIAN
METHOD:PUBLISH
X-ORIGINAL-URL:https://eriqa.org
X-WR-CALDESC:Événements pour ÉRIQA
REFRESH-INTERVAL;VALUE=DURATION:PT1H
X-Robots-Tag:noindex
X-PUBLISHED-TTL:PT1H
BEGIN:VTIMEZONE
TZID:America/New_York
BEGIN:DAYLIGHT
TZOFFSETFROM:-0500
TZOFFSETTO:-0400
TZNAME:EDT
DTSTART:20240310T070000
END:DAYLIGHT
BEGIN:STANDARD
TZOFFSETFROM:-0400
TZOFFSETTO:-0500
TZNAME:EST
DTSTART:20241103T060000
END:STANDARD
BEGIN:DAYLIGHT
TZOFFSETFROM:-0500
TZOFFSETTO:-0400
TZNAME:EDT
DTSTART:20250309T070000
END:DAYLIGHT
BEGIN:STANDARD
TZOFFSETFROM:-0400
TZOFFSETTO:-0500
TZNAME:EST
DTSTART:20251102T060000
END:STANDARD
BEGIN:DAYLIGHT
TZOFFSETFROM:-0500
TZOFFSETTO:-0400
TZNAME:EDT
DTSTART:20260308T070000
END:DAYLIGHT
BEGIN:STANDARD
TZOFFSETFROM:-0400
TZOFFSETTO:-0500
TZNAME:EST
DTSTART:20261101T060000
END:STANDARD
END:VTIMEZONE
BEGIN:VEVENT
DTSTART;TZID=America/New_York:20250115T170000
DTEND;TZID=America/New_York:20250115T190000
DTSTAMP:20260425T082958
CREATED:20241123T160756Z
LAST-MODIFIED:20241209T200138Z
UID:5959-1736960400-1736967600@eriqa.org
SUMMARY:Table ronde - Fédéralisme de l’immigration au Canada : nouvelles dynamiques
DESCRIPTION:La Maison des affaires publiques et internationales et l’ÉRIQA organisent une table ronde sur le fédéralisme de l’immigration au Canada le 15 janvier 2025. \nAujourd’hui\, les provinces jouent un rôle de premier plan dans le système d’immigration canadien. Si l’implication des provinces dans ce domaine est un trait fondateur du fédéralisme canadien\, il n’a jamais été aussi contemporain. Au cours des dernières décennies\, le Québec a mené la marche\, avec un point culminant en 1991 avec l’Accord Canada-Québec. Toutefois\, cet accord est actuellement réexaminé à la lumière de nouvelles dynamiques: l’afflux croissant de demandeurs d’asile\, l’augmentation spectaculaire des migrants temporaires ou encore les délais liés au regroupement familial. \nLes autres provinces ne sont pas en reste. Neuf provinces et deux territoires sélectionnent\, à travers les Programmes des Candidats des Provinces (PCP)\, près d’un résident permanent sur quatre. Au-delà de l’immigration économiques\, elles font face à de nouveaux défis\, tels que l’accueil des Ukrainiens\, les quotas pour les étudiants étrangers ou la mobilité interne des migrants et des enjeux de rétention. Plus généralement\, les provinces doivent naviguer un contexte économique moins favorable\, où leurs positionnements sur la migration sont directement liés à leurs compétences en matière de santé\, d’éducation et de logement. \nFace à ces enjeux\, les relations intergouvernementales évoluent\, donnant lieu à une danse complexe entre 11 (même 13 en comptant les territoires) acteurs\, avec l’émergence de nouvelles coalitions possibles et des tensions plus visibles. Dans ce contexte mouvant\, marqué par une diminution des cibles d’immigration\, une succession d’annonces et de changements politiques tant au niveau provincial que fédéral\, cette table ronde rassemble des experts et expertes de premier plan. Elle vise à évaluer l’évolution du fédéralisme de l’immigration au Canada\, à décrypter les dynamiques politiques provinciales et fédérales et à identifier les enjeux à venir. \nNous accueillerons Antoine Bilodeau (Université Concordia)\, France Houle (UdeM)\, Mireille Paquet (Université Concordia)\, Leslie Seidle (fellow IRPP) et Catherine Xhardez (UdeM). \nUn goûter aura lieu avant l’événement à 16h15. \nPour vous inscrire\, rendez-vous sur le site de la Maison API.
URL:https://eriqa.org/evenement/table-ronde-15-janvier/
LOCATION:Salle C-3061\, Pavillon Lionel-Groulx\, 3150 rue Jean Brillant\, Montréal\, Québec\, Canada
ATTACH;FMTTYPE=application/pdf:https://eriqa.org/wp-content/uploads/2024/11/MAPI-15-janvier-Affiche-imprimee-V2-11-x-17-po.pdf
END:VEVENT
BEGIN:VEVENT
DTSTART;TZID=America/New_York:20250116T170000
DTEND;TZID=America/New_York:20250116T200000
DTSTAMP:20260425T082958
CREATED:20250103T133920Z
LAST-MODIFIED:20250106T133557Z
UID:6005-1737046800-1737057600@eriqa.org
SUMMARY:Événement IRMS - Refugee Resettlement: What the World Thinks and Why It Matters
DESCRIPTION:Qu’est-ce qui façonne l’opinion publique à l’égard des réfugiés ? Comment les attitudes globales influencent-elles l’action locale ? \nL’Institut de recherche sur la migration et la société (IRMS)  organise une soirée de dialogue entre chercheurs et défenseurs de réfugiés pour explorer les résultats d’une enquête novatrice menée dans 52 pays sur les attitudes à l’égard de la réinstallation des réfugiés. Cet événement public rassemble des experts de premier plan\, des membres de la communauté\, des étudiants et des professeurs pour examiner ce que le monde pense des réfugiés et pourquoi cela est important pour le Canada et au-delà. \nInvités d’honneur : \n\nDarrell Bricker\, PDG d’Ipsos Public Affairs\, dévoilera les résultats d’une enquête mondiale menée en partenariat avec le HCR.\nMustafa Alio\, directeur général de R-SEAT\, partagera son point de vue sur l’importance d’amplifier la voix des réfugiés dans les décisions politiques.\nDarcy Knoll\, chargé principal des communications au HCR Canada\, discutera du rôle de la communication dans la promotion de la compréhension et du soutien aux réfugiés.\n\nL’événement est gratuit et ouvert au public. Plus d’informations et inscription sur la page web de l’événement.
URL:https://eriqa.org/evenement/irms-16-janvier/
LOCATION:Concordia Conference Centre\, 9th floor\, John Molson Building\, 1450 Guy\, Montréal
ATTACH;FMTTYPE=image/png:https://eriqa.org/wp-content/uploads/2025/01/16-janvier.png
END:VEVENT
BEGIN:VEVENT
DTSTART;TZID=America/New_York:20250123T120000
DTEND;TZID=America/New_York:20250123T130000
DTSTAMP:20260425T082958
CREATED:20250109T151033Z
LAST-MODIFIED:20250109T151033Z
UID:6041-1737633600-1737637200@eriqa.org
SUMMARY:Midi-causeries: Expériences des soins et des services chez les demandeurs d’asile et les migrants à statut précaire au Québec
DESCRIPTION:L’Unité de développement professionnel de l’ESPUM organise une conférence le 23 janvier à 12h avec Lara Gautier\, membre ÉRIQA et professeure adjointe à l’École de Santé Publique de l’Université de Montréal. La discussion portera sur les expériences des soins et des services chez les demandeurs d’asile et les migrants à statut précaire au Québec. \nDeux catégories de migrants – les demandeurs d’asile et les migrants à statut précaire – cumulent des facteurs de vulnérabilité (p.ex.\, logement précaire) qui creusent les inégalités de santé. Au Québec\, malgré une moindre santé autoperçue\, ces populations présentent un moindre accès aux soins et services de santé. Des barrières d’ordre systémique sont à l’origine de cette problématique – peur des institutions de santé\, injustice épistémique\, etc. Dans cette présentation\, nous présenterons les résultats de différentes recherches analysant l’expérience de soins et de services pour ces populations et nous proposerons des réflexions pour améliorer cette expérience. \nAu terme de la conférence\, le participant sera en mesure de : \n\nDécrire l’expérience des soins et des services au Québec pour les réfugiés\, les demandeurs d’asile et les migrants à statut précaire\nComprendre les principaux défis que rencontrent les réfugiés\, les demandeurs d’asile et les migrants à statut précaire dans leur expérience des soins et services\nDiscuter de différentes perspectives susceptibles d’améliorer cette expérience\n\nL’événement est gratuit et ouvert à toutes et tous. La conférence se tiendra en ligne. Les inscriptions de font ici.
URL:https://eriqa.org/evenement/midi-causeries-23-janv/
LOCATION:En ligne (inscription obligatoire)
ATTACH;FMTTYPE=image/png:https://eriqa.org/wp-content/uploads/2025/01/Midi-causeries-23-janvier.png
END:VEVENT
END:VCALENDAR