BEGIN:VCALENDAR
VERSION:2.0
PRODID:-//ÉRIQA - ECPv6.15.17//NONSGML v1.0//EN
CALSCALE:GREGORIAN
METHOD:PUBLISH
X-ORIGINAL-URL:https://eriqa.org
X-WR-CALDESC:Événements pour ÉRIQA
REFRESH-INTERVAL;VALUE=DURATION:PT1H
X-Robots-Tag:noindex
X-PUBLISHED-TTL:PT1H
BEGIN:VTIMEZONE
TZID:America/New_York
BEGIN:DAYLIGHT
TZOFFSETFROM:-0500
TZOFFSETTO:-0400
TZNAME:EDT
DTSTART:20230312T070000
END:DAYLIGHT
BEGIN:STANDARD
TZOFFSETFROM:-0400
TZOFFSETTO:-0500
TZNAME:EST
DTSTART:20231105T060000
END:STANDARD
BEGIN:DAYLIGHT
TZOFFSETFROM:-0500
TZOFFSETTO:-0400
TZNAME:EDT
DTSTART:20240310T070000
END:DAYLIGHT
BEGIN:STANDARD
TZOFFSETFROM:-0400
TZOFFSETTO:-0500
TZNAME:EST
DTSTART:20241103T060000
END:STANDARD
BEGIN:DAYLIGHT
TZOFFSETFROM:-0500
TZOFFSETTO:-0400
TZNAME:EDT
DTSTART:20250309T070000
END:DAYLIGHT
BEGIN:STANDARD
TZOFFSETFROM:-0400
TZOFFSETTO:-0500
TZNAME:EST
DTSTART:20251102T060000
END:STANDARD
END:VTIMEZONE
BEGIN:VEVENT
DTSTART;TZID=America/New_York:20241203T170000
DTEND;TZID=America/New_York:20241203T190000
DTSTAMP:20260425T100120
CREATED:20241119T143610Z
LAST-MODIFIED:20241122T161240Z
UID:5942-1733245200-1733252400@eriqa.org
SUMMARY:Lancement du numéro spécial "Frontières"\, revue Criminologie
DESCRIPTION:L’ÉRIQA est fière d’organiser le lancement du numéro spécial Frontières de la revue Criminologie. Animé par Catherine Xhardez\, professeure adjointe à l’Université de Montréal\, nous aurons le plaisir d’accueillir pour ce lancement la co-éditrice Karine Côté Boucher\, professeure agrégée à l’École de criminologie de l’Université de Montréal\, ainsi que les autrices Estibaliz Jimenez\, professeure au Département de psychoéducation de l’UQTR\, Meritxell Abellan Almenara\, candidate au doctorat en criminologie à l’Université de Montréal et Luna Vives\, professeure agrégée au Département de géographie de l’Université de Montréal. \nRendez-vous le 3 décembre de 17h à 19h à la librairie Un Livre à soi. Les inscriptions se font par courriel à eriqa@pol.umontreal.ca.
URL:https://eriqa.org/evenement/lancement-frontieres/
LOCATION:Libraire Un livre à soi\, 1575 Avenue Laurier E\, Montréal\, Librairie Un livre à soi\, Montréal\, Québec\, H2J 1J1\, Canada
ATTACH;FMTTYPE=image/jpeg:https://eriqa.org/wp-content/uploads/2024/11/affiche-v-eriqa-e1732027156615.jpg
END:VEVENT
BEGIN:VEVENT
DTSTART;TZID=America/New_York:20241212T104500
DTEND;TZID=America/New_York:20241212T120000
DTSTAMP:20260425T100120
CREATED:20241125T142714Z
LAST-MODIFIED:20241125T142851Z
UID:5964-1734000300-1734004800@eriqa.org
SUMMARY:Metropolis Americas - Panel ÉRIQA
DESCRIPTION:Dans l’ensemble des Amériques\, les migrations substantielles et spontanées persistent\, ce qui entraîne des défis accrus et variés pour les décideurs politiques et la société civile. Il y existe plusieurs accords bilatéraux/binationaux en matière de migration sur des questions telles que la mobilité temporaire de la main-d’œuvre\, les étudiants internationaux\, la sécurité des frontières\, la gestion de l’asile\, la réinstallation des réfugiés\, la reconnaissance des titres de compétences et d’autres encore. Toutefois\, en raison d’intérêts nationaux divergents et de considérations de politique intérieure\, il est de plus en plus difficile de garantir une coopération multinationale en matière de migration entre les pays d’origine et les pays d’accueil des immigrants. Il est néanmoins impératif d’identifier les éléments convergents ou partagés d’une vision élargie des Amériques si nous voulons relever efficacement les défis nombreux et variés qui nous attendent. En mettant l’accent sur les meilleurs moyens de favoriser la coopération en matière de migration dans les Amériques\, cette édition de Metropolis Americas invite les décideurs politiques\, les chercheurs et la société civile à soumettre des propositions d’ateliers et de tables rondes sur les sujets suivants. \nC’est dans ce cadre que l’ÉRIQA présente un panel au Sommet des Amériques de Metropolis 2024: Canada’s Immigration at a Crossroads: Policy Shifts and Emerging Trends  \nJoin leading academic and policy experts to discuss Canada’s shifting immigration dynamics and policies in the face of changing public opinion\, rising politicization of temporary migrants\, and variations in subnational policies. With elections looming\, this session offers a timely\, multilevel analysis of recent labor migration policy changes and emerging trends such as new immigration levels\, automation and competing policy frameworks. Organized by ÉRIQA (Équipe de recherche au Québec et ailleurs – www.eriqa.org)\, an interuniversity research team\, this roundtable offers a critical dialogue that bridges global challenges with the unique realities of Canada’s immigration landscape. \n ● Catherine Xhardez \, Professor\, Political Science\, Université de Montréal\, membre ÉRIQA \n● Adèle Garnier \, Professor\, Geography\, Université Laval\, membre ÉRIQA \n● Triadafilos (Phil) Triadafilopoulos \, Professor\, Political Science\, Université of Toronto  \n● Valérie Lacarte \, Senior Policy Analyst\, Migration Policy Institute
URL:https://eriqa.org/evenement/metropolis-americas-panel-eriqa/
LOCATION:Club national de la presse\, 529 14th St NW\,\, Washington\, DC 20045\, United States
END:VEVENT
END:VCALENDAR